BEGIN:VCALENDAR
VERSION:2.0
PRODID:-//Wissensstadt Salzburg - ECPv6.15.20//NONSGML v1.0//EN
CALSCALE:GREGORIAN
METHOD:PUBLISH
X-ORIGINAL-URL:https://www.wissensstadt-salzburg.at
X-WR-CALDESC:Veranstaltungen für Wissensstadt Salzburg
REFRESH-INTERVAL;VALUE=DURATION:PT1H
X-Robots-Tag:noindex
X-PUBLISHED-TTL:PT1H
BEGIN:VTIMEZONE
TZID:UTC
BEGIN:STANDARD
TZOFFSETFROM:+0000
TZOFFSETTO:+0000
TZNAME:UTC
DTSTART:20170101T000000
END:STANDARD
END:VTIMEZONE
BEGIN:VEVENT
DTSTART;TZID=UTC:20180607T080000
DTEND;TZID=UTC:20180607T170000
DTSTAMP:20260424T153857
CREATED:20180412T071551Z
LAST-MODIFIED:20180515T055954Z
UID:2679-1528358400-1528390800@www.wissensstadt-salzburg.at
SUMMARY:Arbeitswelt Archiv - Tag der offenen Tür im Salzburger Landesarchiv
DESCRIPTION:Neben grundlegenden Informationen zur Haus- und Hofforschung und zu den jahrhundertealten Beständen im Salzburger Landesarchiv erhalten Interessierte Einblick in die Arbeitswelt der Restaurator*innen und Buchbinder*innen. Die Archivar*innen sowie die Mitarbeiter*innen der archiveigenen Werkstätten stehen natürlich auch für individuelle Fragen gerne zur Verfügung. \n  \nFoto (c) Salzburger Landesarchiv\n  \n \n  \n  \n  \n 
URL:https://www.wissensstadt-salzburg.at/event/tag-der-offenen-tuer-im-salzburger-landesarchiv/
LOCATION:Salzburger Landesarchiv\, Michael-Pacher-Straße 40\, Salzburg\, 5020\, Austria
CATEGORIES:Tag der offenen Tür
ATTACH;FMTTYPE=image/jpeg:https://www.wissensstadt-salzburg.at/wp-content/uploads/2018/04/Salzburger-Landesarchiv.jpg
END:VEVENT
BEGIN:VEVENT
DTSTART;TZID=UTC:20180607T080000
DTEND;TZID=UTC:20180607T193000
DTSTAMP:20260424T153857
CREATED:20180412T071926Z
LAST-MODIFIED:20180515T055913Z
UID:2684-1528358400-1528399800@www.wissensstadt-salzburg.at
SUMMARY:Büchermarkt im Stadtarchiv
DESCRIPTION:Im Rahmen der Tage der Archive werden Stadtarchiv-Publikationen zum Sonderpreis angeboten. \n  \nFoto (c) Salt & Söhne/Matthias Gruber\n 
URL:https://www.wissensstadt-salzburg.at/event/buechermarkt-im-stadtarchiv/
LOCATION:Haus der Stadtgeschichte\, Glockengasse 8\, Salzburg\, 5020\, Austria
CATEGORIES:Tag der offenen Tür
END:VEVENT
BEGIN:VEVENT
DTSTART;TZID=UTC:20180607T090000
DTEND;TZID=UTC:20180607T094500
DTSTAMP:20260424T153857
CREATED:20180412T072407Z
LAST-MODIFIED:20180515T055724Z
UID:2688-1528362000-1528364700@www.wissensstadt-salzburg.at
SUMMARY:Stille Nacht. Quellen zur ersten Hälfte des 19. Jahrhunderts
DESCRIPTION:In einer Zeit des Niedergangs wurde das heute weltberühmte Weihnachtslied uraufgeführt. Was ereignete sich vor etwa 200 Jahren noch in Salzburg? Eine kleine Zeitreise mit Abt Albert Nagnzaun und seinen Benediktinerpatres bietet Antworten auf diese Frage an. \n  \nAnmeldung: archiv@erzabtei.at oder Tel. 0662/844576-144 \nTeilnehmer*innenzahl: 12 Personen \nFoto (c) Wissensstadt Salzburg\n  \n\n \n 
URL:https://www.wissensstadt-salzburg.at/event/stille-nacht-quellen-zur-ersten-haelfte-des-19-jahrhunderts/
LOCATION:Erzabtei St. Peter\, Sankt-Peter-Bezirk 1\, Salzburg\, 5020\, Austria
CATEGORIES:Führung & Spaziergang
ATTACH;FMTTYPE=image/jpeg:https://www.wissensstadt-salzburg.at/wp-content/uploads/2018/04/DSC02864_kl.jpg
END:VEVENT
BEGIN:VEVENT
DTSTART;TZID=UTC:20180607T093000
DTEND;TZID=UTC:20180607T103000
DTSTAMP:20260424T153857
CREATED:20180412T073543Z
LAST-MODIFIED:20180515T055640Z
UID:2694-1528363800-1528367400@www.wissensstadt-salzburg.at
SUMMARY:Einblicke ins Salzburger Landesarchiv
DESCRIPTION:Die Archivar-Expert*innen des Salzburger Landesarchivs präsentieren ihre Schätze. Sie erhalten Zugang in die Restaurierwerkstätte und die Handbuchbinderei\, wo Sie den Profis bei ihrer Arbeit über die Schulter blicken können. Anschließend geben Archivar-Expert*innen Auskunft über Haus- und Hofforschung. \n  \nAnmeldung: Tel. 0842-4521 (nur bei großen geschlossenen Gruppen erforderlich) \nTeilnehmer*innenzahl: 15 Personen \nFoto (c) Salzburger Landesarchiv\n 
URL:https://www.wissensstadt-salzburg.at/event/einblicke-ins-landesarchiv/
LOCATION:Salzburger Landesarchiv\, Michael-Pacher-Straße 40\, Salzburg\, 5020\, Austria
CATEGORIES:Führung & Spaziergang
ATTACH;FMTTYPE=image/jpeg:https://www.wissensstadt-salzburg.at/wp-content/uploads/2018/04/Salzburger-Landesarchiv.jpg
END:VEVENT
BEGIN:VEVENT
DTSTART;TZID=UTC:20180607T093000
DTEND;TZID=UTC:20180607T120000
DTSTAMP:20260424T153857
CREATED:20180412T072759Z
LAST-MODIFIED:20180515T055551Z
UID:2691-1528363800-1528372800@www.wissensstadt-salzburg.at
SUMMARY:Die Mahnmale für die Opfer des Nationalsozialismus in der Stadt Salzburg
DESCRIPTION:Der Rundgang mit Mag. Thomas Weidenholzer führt zu Mahnmälern gegen den Nationalsozialismus\, erklärt deren Entstehungsgeschichte\, künstlerische Bedeutung und ordnet sie in die Salzburger Stadtgeschichte ein. \n  \nAnmeldung: Tel. 0662/8072-4701 \nBeschränkte Teilnehmer*innenzahl\, Treffpunkt wird bekannt gegeben. \nFoto (c) Stadt Salzburg\n  \n\n \n 
URL:https://www.wissensstadt-salzburg.at/event/die-mahnmale-fuer-die-opfer-des-nationalsozialismus-in-der-stadt-salzburg/
LOCATION:Haus der Stadtgeschichte\, Glockengasse 8\, Salzburg\, 5020\, Austria
CATEGORIES:Führung & Spaziergang
END:VEVENT
BEGIN:VEVENT
DTSTART;TZID=UTC:20180607T100000
DTEND;TZID=UTC:20180607T104500
DTSTAMP:20260424T153857
CREATED:20180412T073857Z
LAST-MODIFIED:20180515T055507Z
UID:2697-1528365600-1528368300@www.wissensstadt-salzburg.at
SUMMARY:Aus Salzburgs Hoher Schule geplaudert
DESCRIPTION:Die Universität Salzburg schreibt seit Jahrhunderten Erfolgsgeschichte! Damals wie heute ist sie unverzichtbarer Bestandteil des wissenschaftlichen und kulturellen Lebens in Stadt und Land Salzburg. Studenten wie Abraham a Sancta Clara oder Leopold Mozart zählen zu den berühmtesten Absolventen. Bis heute prägt die Universität auch mit ihren Bauten das Stadtbild Salzburgs. Dr. Christoph Brandhuber gibt anhand ausgewählter Archivalien Einblick in die spannende Universitätsgeschichte. Bei dieser Gelegenheit sind auch die selten gezeigten „Mozartiana“ des Universitätsarchivs zu sehen. \n  \nAnmeldung: sekretariat.ubs@sbg.ac.at \nFoto (c) Universitätsbibliothek/Hubert Auer\n 
URL:https://www.wissensstadt-salzburg.at/event/aus-salzburgs-hoher-schule-geplaudert/
LOCATION:Universitätsbibliothek Salzburg\, Kursraum\, 1. Stock\, Hofstallgasse 2-4\, Salzburg\, 5020\, Austria
CATEGORIES:Führung & Spaziergang
END:VEVENT
BEGIN:VEVENT
DTSTART;TZID=UTC:20180607T110000
DTEND;TZID=UTC:20180607T114500
DTSTAMP:20260424T153857
CREATED:20180412T074340Z
LAST-MODIFIED:20180515T055356Z
UID:2704-1528369200-1528371900@www.wissensstadt-salzburg.at
SUMMARY:Stille Nacht. Quellen zur ersten Hälfte des 19. Jahrhunderts
DESCRIPTION:In einer Zeit des Niedergangs wurde das heute weltberühmte Weihnachtslied uraufgeführt. Was ereignete sich vor etwa 200 Jahren noch in Salzburg? Eine kleine Zeitreise mit Abt Albert Nagnzaun und seinen Benediktinerpatres bietet Antworten auf diese Frage an. \n  \nAnmeldung: archiv@erzabtei.at oder Tel.: 0662/844576-144 \nTeilnehmer*innenzahl: 12 Personen \nFoto (c) Wissensstadt Salzburg\n 
URL:https://www.wissensstadt-salzburg.at/event/stille-nacht-quellen-zur-ersten-haelfte-des-19-jahrhunderts-2/
LOCATION:Erzabtei St. Peter\, Sankt-Peter-Bezirk 1\, Salzburg\, 5020\, Austria
CATEGORIES:Führung & Spaziergang
ATTACH;FMTTYPE=image/jpeg:https://www.wissensstadt-salzburg.at/wp-content/uploads/2018/04/DSC02864_kl.jpg
END:VEVENT
BEGIN:VEVENT
DTSTART;TZID=UTC:20180607T110000
DTEND;TZID=UTC:20180607T120000
DTSTAMP:20260424T153857
CREATED:20180412T074620Z
LAST-MODIFIED:20180515T055320Z
UID:2710-1528369200-1528372800@www.wissensstadt-salzburg.at
SUMMARY:Einblicke ins Salzburger Landesarchiv
DESCRIPTION:Die Archivar-Expert*innen des Salzburger Landesarchivs präsentieren ihre Schätze. Sie erhalten Zugang in die Restaurierwerkstätte und die Handbuchbinderei\, wo Sie den Profis bei ihrer Arbeit über die Schulter blicken können. Anschließend geben Archivar-Expert*innen Auskunft über Haus- und Hofforschung. \n  \nAnmeldung: Tel. 0842-4521 (nur bei großen geschlossenen Gruppen erforderlich) \nTeilnehmer*innenzahl: 15 Personen \nFoto (c) Salzburger Landesarchiv\n 
URL:https://www.wissensstadt-salzburg.at/event/einblicke-ins-landesarchiv-2/
LOCATION:Salzburger Landesarchiv\, Michael-Pacher-Straße 40\, Salzburg\, 5020\, Austria
CATEGORIES:Führung & Spaziergang
ATTACH;FMTTYPE=image/jpeg:https://www.wissensstadt-salzburg.at/wp-content/uploads/2018/04/Salzburger-Landesarchiv.jpg
END:VEVENT
BEGIN:VEVENT
DTSTART;TZID=UTC:20180607T130000
DTEND;TZID=UTC:20180607T140000
DTSTAMP:20260424T153857
CREATED:20180412T074935Z
LAST-MODIFIED:20180515T055238Z
UID:2713-1528376400-1528380000@www.wissensstadt-salzburg.at
SUMMARY:Literatur erleben - Führung durch das Literaturarchiv
DESCRIPTION:Im Rahmen von Führungen werden die Räumlichkeiten des Literaturarchivs und einige Highlights aus seinen Beständen präsentiert. Neben Einblicken in die Archivarbeit wird gezeigt\, wie Autor*innen arbeiten und wie ein literarischer Text entsteht. \n  \nAnmeldung: literaturarchiv@sbg.ac.at (nur für Schulklassen erforderlich) \nFoto (c) Wissensstadt Salzburg\n 
URL:https://www.wissensstadt-salzburg.at/event/literatur-erleben-fuehrung-durch-das-literaturarchiv/
LOCATION:Literaturarchiv Salzburg\, Pfeifergasse 6\, Salzburg\, 5020\, Austria
CATEGORIES:Führung & Spaziergang
END:VEVENT
BEGIN:VEVENT
DTSTART;TZID=UTC:20180607T133000
DTEND;TZID=UTC:20180607T143000
DTSTAMP:20260424T153857
CREATED:20180412T075214Z
LAST-MODIFIED:20180515T055139Z
UID:2717-1528378200-1528381800@www.wissensstadt-salzburg.at
SUMMARY:Einblicke ins Salzburger Landesarchiv
DESCRIPTION:Die Archivar-Expert*innen des Salzburger Landesarchivs präsentieren ihre Schätze. Sie erhalten Zugang in die Restaurierwerkstätte und die Handbuchbinderei\, wo Sie den Profis bei ihrer Arbeit über die Schulter blicken können. Anschließend geben Archivar-Expert*innen Auskunft über Haus- und Hofforschung. \n  \nAnmeldung: Tel. 0842-4521 (nur bei großen geschlossenen Gruppen erforderlich) \nTeilnehmer*innenzahl: 15 Personen \nFoto (c) Salzburger Landesarchiv\n 
URL:https://www.wissensstadt-salzburg.at/event/einblicke-ins-landesarchiv-3/
LOCATION:Salzburger Landesarchiv\, Michael-Pacher-Straße 40\, Salzburg\, 5020\, Austria
CATEGORIES:Führung & Spaziergang
ATTACH;FMTTYPE=image/jpeg:https://www.wissensstadt-salzburg.at/wp-content/uploads/2018/04/Salzburger-Landesarchiv.jpg
END:VEVENT
BEGIN:VEVENT
DTSTART;TZID=UTC:20180607T140000
DTEND;TZID=UTC:20180607T153000
DTSTAMP:20260424T153857
CREATED:20180412T075926Z
LAST-MODIFIED:20180515T055038Z
UID:2720-1528380000-1528385400@www.wissensstadt-salzburg.at
SUMMARY:Frauen in Salzburg. Ein Stadtrundgang aus der Perspektive der Frauen- und Geschlechtergeschichte
DESCRIPTION:Der Rundgang mit Mag. Dr. Sabine Veits-Falk führt zu Orten\, wo Frauen aus unterschiedlichen sozialen Schichten und historischen Epochen Spuren hinterließen: Etwa als Dienstmädchen\, Handwerksfrau\, Unternehmerin\, Ärztin\, Schriftstellerin oder Frauenrechtlerin. \n  \nAnmeldung: Tel. 0662/8072-4701 \nBeschränkte Teilnehmer*innenzahl\, Treffpunkt wird bekannt gegeben. \nFoto (c) Salt & Söhne/Matthias Gruber\n 
URL:https://www.wissensstadt-salzburg.at/event/frauen-in-salzburg-ein-stadtrundgang-aus-der-perspektive-der-frauen-und-geschlechtergeschichte/
LOCATION:Haus der Stadtgeschichte\, Glockengasse 8\, Salzburg\, 5020\, Austria
CATEGORIES:Führung & Spaziergang
END:VEVENT
BEGIN:VEVENT
DTSTART;TZID=UTC:20180607T150000
DTEND;TZID=UTC:20180607T160000
DTSTAMP:20260424T153857
CREATED:20180412T081420Z
LAST-MODIFIED:20180515T054942Z
UID:2729-1528383600-1528387200@www.wissensstadt-salzburg.at
SUMMARY:Einblicke ins Salzburger Landesarchiv
DESCRIPTION:Die Archivar-Expert*innen des Salzburger Landesarchivs präsentieren ihre Schätze. Sie erhalten Zugang in die Restaurierwerkstätte und die Handbuchbinderei\, wo Sie den Profis bei ihrer Arbeit über die Schulter blicken können. Anschließend geben Archivar-Expert*innen Auskunft über Haus- und Hofforschung. \n  \nAnmeldung: Tel. 0842-4521 (nur bei großen geschlossenen Gruppen erforderlich) \nTeilnehmer*innenzahl: 15 Personen \nFoto (c) Salzburger Landesarchiv\n 
URL:https://www.wissensstadt-salzburg.at/event/einblicke-ins-landesarchiv-4/
LOCATION:Salzburger Landesarchiv\, Michael-Pacher-Straße 40\, Salzburg\, 5020\, Austria
CATEGORIES:Führung & Spaziergang
ATTACH;FMTTYPE=image/jpeg:https://www.wissensstadt-salzburg.at/wp-content/uploads/2018/04/Salzburger-Landesarchiv.jpg
END:VEVENT
BEGIN:VEVENT
DTSTART;TZID=UTC:20180607T150000
DTEND;TZID=UTC:20180607T163000
DTSTAMP:20260424T153857
CREATED:20180412T080341Z
LAST-MODIFIED:20180515T054859Z
UID:2724-1528383600-1528389000@www.wissensstadt-salzburg.at
SUMMARY:Blick ins Archiv – Führung durch die Ausstellung „Anschluss\, Krieg & Trümmer“
DESCRIPTION:Die Führung verrät Details aus der Konzeption der Ausstellung „Anschluss\, Krieg & Trümmer – Salzburg und sein Museum im Nationalsozialismus“ und thematisiert hierzu die konkrete Bedeutung des Museumsarchivs für die Genese des Gesamtprojektes. Gleichzeitig erörtert die Führung auch den Umgang mit den Archivmaterialien im Display der Ausstellung. \n  \nFoto (c) Salzburg Museum\n  \n\n \n 
URL:https://www.wissensstadt-salzburg.at/event/blick-ins-archiv-fuehrung-durch-die-ausstellung-anschluss-krieg-truemmer/
LOCATION:Salzburg Museum\, Mozartplatz 1\, Salzburg
CATEGORIES:Führung & Spaziergang
END:VEVENT
BEGIN:VEVENT
DTSTART;TZID=UTC:20180607T163000
DTEND;TZID=UTC:20180607T180000
DTSTAMP:20260424T153857
CREATED:20180412T083007Z
LAST-MODIFIED:20180515T054816Z
UID:2732-1528389000-1528394400@www.wissensstadt-salzburg.at
SUMMARY:Das Stadtarchiv und seine Neuen Medien: Audiovisueller Atlas\, Migrationsarchiv und vieles mehr
DESCRIPTION:Das digitale Angebot des Hauses der Stadtgeschichte wächst ständig: Österreichs erstes Migrationsarchiv\, der Audiovisuelle Atlas und historische Bürgerbücher sind online. Neue Biographien zu den Namengeber*innen der Salzburger Straßennamen werden laufend ins Internet gestellt. \nWerkstattbericht von Dr. Peter F. Kramml\, Mag. Johannes Hofinger und Mag. Silvia Panzl-Schmoller. \n  \nFoto (c) Wissensstadt Salzburg\n 
URL:https://www.wissensstadt-salzburg.at/event/das-stadtarchiv-und-seine-neuen-medien-audiovisueller-atlas-migrationsarchiv-und-vieles-mehr/
LOCATION:Haus der Stadtgeschichte\, Glockengasse 8\, Salzburg\, 5020\, Austria
CATEGORIES:Präsentation & Vortrag
ATTACH;FMTTYPE=image/jpeg:https://www.wissensstadt-salzburg.at/wp-content/uploads/2018/04/DSC04788_kl.jpg
END:VEVENT
BEGIN:VEVENT
DTSTART;TZID=UTC:20180607T183000
DTEND;TZID=UTC:20180607T193000
DTSTAMP:20260424T153857
CREATED:20180412T085549Z
LAST-MODIFIED:20180515T054732Z
UID:2737-1528396200-1528399800@www.wissensstadt-salzburg.at
SUMMARY:Von der Höhlenmalerei zum Piktogramm. Die Entwicklung der Schriftmedien
DESCRIPTION:40.000 Jahre Entwicklungsgeschichte der Schriftmedien spannen den Bogen von den ältesten Höhlenmalereien über Tontafeln\, Papyrusrollen\, Wachstafeln bis hin zum Buch und dem Zeitalter des Computers. Historische Herstellungstechniken\, Rezepturen und Anekdoten sollen einen Einblick in eine fast vergessene Welt geben. \nVortrag von Archivrestaurator Mag. Christian Moser. \n  \nFoto (c) Wissensstadt Salzburg\n 
URL:https://www.wissensstadt-salzburg.at/event/von-der-hoehlenmalerei-zum-piktogramm-die-entwicklung-der-schriftmedien/
LOCATION:Haus der Stadtgeschichte\, Glockengasse 8\, Salzburg\, 5020\, Austria
CATEGORIES:Präsentation & Vortrag
END:VEVENT
END:VCALENDAR