BEGIN:VCALENDAR
VERSION:2.0
PRODID:-//Wissensstadt Salzburg - ECPv6.15.20//NONSGML v1.0//EN
CALSCALE:GREGORIAN
METHOD:PUBLISH
X-ORIGINAL-URL:https://www.wissensstadt-salzburg.at
X-WR-CALDESC:Veranstaltungen für Wissensstadt Salzburg
REFRESH-INTERVAL;VALUE=DURATION:PT1H
X-Robots-Tag:noindex
X-PUBLISHED-TTL:PT1H
BEGIN:VTIMEZONE
TZID:UTC
BEGIN:STANDARD
TZOFFSETFROM:+0000
TZOFFSETTO:+0000
TZNAME:UTC
DTSTART:20170101T000000
END:STANDARD
END:VTIMEZONE
BEGIN:VEVENT
DTSTART;TZID=UTC:20180608T110000
DTEND;TZID=UTC:20180608T114500
DTSTAMP:20260424T152610
CREATED:20180412T090415Z
LAST-MODIFIED:20180515T054605Z
UID:2740-1528455600-1528458300@www.wissensstadt-salzburg.at
SUMMARY:„Wie stark ist nicht dein Zauberton“
DESCRIPTION:Dieser „Zauberton“ wird heuer bei den Salzburger Festspielen in „Die Zauberflöte“ von Wolfgang Amadeus Mozart wieder erklingen. Machen Sie anhand von historischen Archivmaterialien eine Zeitreise durch fast 100 Jahre Festspielgeschichte\, beginnend mit Max Reinhardt und Hugo von Hofmannsthal bis hin zum „Epizentrum des Besonderen“. Vergangene Aufführungen der Salzburger Festspiele besonders die der Oper „Die Zauberflöte“ werden durch einen Blick auf Dokumente und Illustrationen\, wie Programmhefte\, Fotos\, Figurinen\, Bühnenentwürfe\, Pressemeldungen\, Notenmaterial\, Regiebücher\, Videos u.v.m. wieder lebendig. \n  \nAnmeldung: archiv@salzburgfestival.at oder Tel. 0662/8045-821 \nTeilnehmer*innenzahl: 15 Personen \nFoto (c) Salzburger Festspiele/Anne Zeuner\n 
URL:https://www.wissensstadt-salzburg.at/event/wie-stark-ist-nicht-dein-zauberton/
LOCATION:Archiv der Salzburger Festspiele\, Neutorstraße 25\, Salzburg\, 5020\, Austria
CATEGORIES:Führung & Spaziergang
END:VEVENT
BEGIN:VEVENT
DTSTART;TZID=UTC:20180608T130000
DTEND;TZID=UTC:20180608T140000
DTSTAMP:20260424T152610
CREATED:20180412T091522Z
LAST-MODIFIED:20210308T111731Z
UID:2746-1528462800-1528466400@www.wissensstadt-salzburg.at
SUMMARY:Tag der offenen Tür im Kunst-ARCHIV-Raum der Universität  Mozarteum
DESCRIPTION:Seit wann gibt es das Department für Musiktheater an der Universität Mozarteum? Und wie lautete die Bezeichnung früher? Wann wurde das erste Institut gegründet? Wer war der Lehrer von Herbert von Karajan? Bei wem hatte Thomas Bernhard Unterricht? Antworten auf Fragen wie diese findet man im Kunst-ARCHIV-Raum\, dem Archiv der Universität Mozarteum Salzburg. Zum Tag der offenen Tür erhalten Besucher*innen Einblick in die Quellen der Geschichte der Universität Mozarteum. Gezeigt werden Mitteilungsblätter\, Protokolle\, Jahresberichte\, Programmhefte\, Presseberichte sowie Personalakten und Studienblätter\, außerdem Fotos\, CD- und DVD Aufnahmen. \nMusikalische Gestaltung: Duo con anima \nDie Sopranistin Marianna Herzig und die Gitarristin Antonia Haslinger\, beide Konzertfach-Studentinnen an der Universität Mozarteum kennen sich bereits aus ihrer Schulzeit am Musischen Gymnasium Salzburg. Seit 2014 musizieren sie gemeinsam als „Duo con anima“. \n  \nFoto (c) Universität Mozarteum\n 
URL:https://www.wissensstadt-salzburg.at/event/historische-aspekte-der-universitaet-mozarteum-departments-abteilungen-institute/
LOCATION:Archiv der Universität Mozarteum\, Paris-Lodron-Straße 9\, Salzburg\, 5020\, Austria
CATEGORIES:Präsentation & Vortrag
END:VEVENT
BEGIN:VEVENT
DTSTART;TZID=UTC:20180608T140000
DTEND;TZID=UTC:20180608T160000
DTSTAMP:20260424T152610
CREATED:20180412T092757Z
LAST-MODIFIED:20180515T051543Z
UID:2753-1528466400-1528473600@www.wissensstadt-salzburg.at
SUMMARY:Geschichten aus dem Mozarteum - Fotos und Texte erzählen
DESCRIPTION:Fotos\, Jahresberichte\, Personalakten\, Programmhefte und Studienblätter lassen tief in die Vergangenheit der Universität Salzburg blicken. Besucher*innen des Kunst-ARCHIV-Raums finden Antworten auf Fragen wie: Wer war der Lehrer von Herbert von Karajan? Bei wem hatte Thomas Bernhard Unterricht? War er ein guter Student? Seit wann gibt es am Mozarteum Kammermusik? Wann fand die erste Opern-Aufführung an der Universität Mozarteum statt? Wer dirigierte\, wer inszenierte? Und was hat die Presse damals darüber berichtet? \n  \nFoto (c) Universität Mozarteum\n 
URL:https://www.wissensstadt-salzburg.at/event/geschichten-aus-dem-mozarteum-fotos-und-texte-erzaehlen/
LOCATION:Archiv der Universität Mozarteum\, Paris-Lodron-Straße 9\, Salzburg\, 5020\, Austria
CATEGORIES:Führung & Spaziergang,Präsentation & Vortrag,Tag der offenen Tür
END:VEVENT
BEGIN:VEVENT
DTSTART;TZID=UTC:20180608T170000
DTEND;TZID=UTC:20180608T174500
DTSTAMP:20260424T152610
CREATED:20180412T093025Z
LAST-MODIFIED:20180515T051351Z
UID:2756-1528477200-1528479900@www.wissensstadt-salzburg.at
SUMMARY:„Wie stark ist nicht dein Zauberton“
DESCRIPTION:Dieser „Zauberton“ wird heuer bei den Salzburger Festspielen in „Die Zauberflöte“ von Wolfgang Amadeus Mozart wieder erklingen. Machen Sie anhand von historischen Archivmaterialien eine Zeitreise durch fast 100 Jahre Festspielgeschichte\, beginnend mit Max Reinhardt und Hugo von Hofmannsthal bis hin zum „Epizentrum des Besonderen“. Vergangene Aufführungen der Salzburger Festspiele besonders die der Oper „Die Zauberflöte“ werden durch einen Blick auf Dokumente und Illustrationen\, wie Programmhefte\, Fotos\, Figurinen\, Bühnenentwürfe\, Pressemeldungen\, Notenmaterial\, Regiebücher\, Videos u.v.m. wieder lebendig. \n  \nAnmeldung: archiv@salzburgfestival.at oder Tel. 0662/8045-821 \nTeilnehmer*innenzahl: 15 Personen \nFoto (c) Salzburger Festspiele/Anne Zeuner\n 
URL:https://www.wissensstadt-salzburg.at/event/wie-stark-ist-nicht-dein-zauberton-2/
LOCATION:Archiv der Salzburger Festspiele\, Neutorstraße 25\, Salzburg\, 5020\, Austria
CATEGORIES:Führung & Spaziergang
END:VEVENT
BEGIN:VEVENT
DTSTART;TZID=UTC:20180608T190000
DTEND;TZID=UTC:20180608T203000
DTSTAMP:20260424T152610
CREATED:20180412T100134Z
LAST-MODIFIED:20180515T051228Z
UID:2759-1528484400-1528489800@www.wissensstadt-salzburg.at
SUMMARY:Lesung mit Josef Haslinger\, Elisabeth Reichart und Peter Rosei
DESCRIPTION:Aus Anlass des 50-Jahr-Jubiläums der Partnerschaft zwischen der Bowling Green State University\, Ohio (USA) und der Universität Salzburg lesen prominente Gäste des Writer-in-Residence-Programms aus ihren Werken. \n  \nAnmeldung: literaturarchiv@sbg.ac.at \nFoto (c) Literaturarchiv Salzburg\n 
URL:https://www.wissensstadt-salzburg.at/event/lesung-mit-josef-haslinger-elisabeth-reichart-und-peter-rosei/
LOCATION:Literaturarchiv Salzburg\, Pfeifergasse 6\, Salzburg\, 5020\, Austria
CATEGORIES:Präsentation & Vortrag
ATTACH;FMTTYPE=image/jpeg:https://www.wissensstadt-salzburg.at/wp-content/uploads/2017/04/wissensmonat-literaturarchiv.jpg
END:VEVENT
END:VCALENDAR