BEGIN:VCALENDAR
VERSION:2.0
PRODID:-//Wissensstadt Salzburg - ECPv6.15.20//NONSGML v1.0//EN
CALSCALE:GREGORIAN
METHOD:PUBLISH
X-ORIGINAL-URL:https://www.wissensstadt-salzburg.at
X-WR-CALDESC:Veranstaltungen für Wissensstadt Salzburg
REFRESH-INTERVAL;VALUE=DURATION:PT1H
X-Robots-Tag:noindex
X-PUBLISHED-TTL:PT1H
BEGIN:VTIMEZONE
TZID:UTC
BEGIN:STANDARD
TZOFFSETFROM:+0000
TZOFFSETTO:+0000
TZNAME:UTC
DTSTART:20170101T000000
END:STANDARD
END:VTIMEZONE
BEGIN:VEVENT
DTSTART;TZID=UTC:20180609T100000
DTEND;TZID=UTC:20180609T104500
DTSTAMP:20260424T152622
CREATED:20180412T101626Z
LAST-MODIFIED:20180515T050656Z
UID:2772-1528538400-1528541100@www.wissensstadt-salzburg.at
SUMMARY:Hans Rustler: Musterbilder
DESCRIPTION:Führung durch die Ausstellung „Hans Rustler: Musterbilder“ und durch die Räume des Archiv mit Präsentation einiger fotografischer Highlights. \n  \nFoto (c) Fotohof
URL:https://www.wissensstadt-salzburg.at/event/hans-rustler-musterbilder/
LOCATION:Fotohof Archiv\, Sparkassenstraße 2\, Salzburg\, Salzburg\, 5020\, Austria
CATEGORIES:Führung & Spaziergang,Präsentation & Vortrag
END:VEVENT
BEGIN:VEVENT
DTSTART;TZID=UTC:20180609T100000
DTEND;TZID=UTC:20180609T110000
DTSTAMP:20260424T152622
CREATED:20180412T101253Z
LAST-MODIFIED:20180515T050613Z
UID:2769-1528538400-1528542000@www.wissensstadt-salzburg.at
SUMMARY:Highlights aus den Beständen des AES
DESCRIPTION:Die Archivar*innen führen Sie durch die verschiedenen Speicher und Räumlichkeiten des Archivs der Erzdiözese Salzburg. Bei Zwischenstationen werden ausgesuchte Archivbestände und einzelne Archivalien vorgestellt. \n  \nFoto (c) Wissensstadt Salzburg\n 
URL:https://www.wissensstadt-salzburg.at/event/highlights-aus-den-bestaenden/
LOCATION:Archiv der Erzdiözese Salzburg\, Kapitelplatz 3\, Salzburg\, 5020\, Austria
CATEGORIES:Führung & Spaziergang
END:VEVENT
BEGIN:VEVENT
DTSTART;TZID=UTC:20180609T100000
DTEND;TZID=UTC:20180609T160000
DTSTAMP:20260424T152622
CREATED:20180412T100910Z
LAST-MODIFIED:20180515T050520Z
UID:2766-1528538400-1528560000@www.wissensstadt-salzburg.at
SUMMARY:Vor die Linse geholt – Sammlungen zur künstlerischen Fotografie in Österreich
DESCRIPTION:Das Fotohof Archiv versteht sich als Arbeits-\, Forschungs- und Kompetenzzentrum für Österreichische Fotografie und ist auch außerhalb der Führungen für Besichtigungen geöffnet. \n  \nFoto (c) Fotohof\n\n \n 
URL:https://www.wissensstadt-salzburg.at/event/vor-die-linse-geholt-sammlungen-zur-kuenstlerischen-fotografie-in-oesterreich/
LOCATION:Fotohof Archiv\, Sparkassenstraße 2\, Salzburg\, Salzburg\, 5020\, Austria
CATEGORIES:Tag der offenen Tür
ATTACH;FMTTYPE=image/jpeg:https://www.wissensstadt-salzburg.at/wp-content/uploads/2017/04/image1186.jpg
END:VEVENT
BEGIN:VEVENT
DTSTART;TZID=UTC:20180609T100000
DTEND;TZID=UTC:20180609T170000
DTSTAMP:20260424T152622
CREATED:20180412T100612Z
LAST-MODIFIED:20180515T050427Z
UID:2762-1528538400-1528563600@www.wissensstadt-salzburg.at
SUMMARY:Büchermarkt im Archiv der Erzdiözese Salzburg
DESCRIPTION:Publikation aus der Diözesanbibliothek Salzburg zum Sonderpreis. \nFoto (c) Wissensstadt Salzburg
URL:https://www.wissensstadt-salzburg.at/event/buechermarkt-im-archiv-der-erzdioezese/
LOCATION:Archiv der Erzdiözese Salzburg\, Kapitelplatz 3\, Salzburg\, 5020\, Austria
CATEGORIES:Tag der offenen Tür
ATTACH;FMTTYPE=image/jpeg:https://www.wissensstadt-salzburg.at/wp-content/uploads/2018/04/DSC02903_kl.jpg
END:VEVENT
BEGIN:VEVENT
DTSTART;TZID=UTC:20180609T110000
DTEND;TZID=UTC:20180609T120000
DTSTAMP:20260424T152622
CREATED:20180412T101941Z
LAST-MODIFIED:20180515T050345Z
UID:2775-1528542000-1528545600@www.wissensstadt-salzburg.at
SUMMARY:Arbeitsschritte im Fotoarchiv: Demonstration der Bearbeitung von künstlerischen Fotografien und der Aufarbeitung und Archivierung von Negativen
DESCRIPTION:Im ersten Teil bekommen die Besucher einen Einblick in den Sammlungsbestand des Archivs\, von historischen Amateurfotografien bis zu Bildern der Magnum Fotografin Inge Morath und von technischen Musterfotos der 30er Jahre bis zu aktuellen fotokünstlerischen Arbeiten zeitgenössischer Fotografen. Im zweiten Teil demonstrieren wir an ausgewählten Beispielen die Archivarbeit von der Übernahme alter Fotografien bis zur Präsentation in einer Ausstellung und von der Digitalisierung der Negative bis zur Herstellung neuer Ausstellungskopien. \n  \nFoto (c) Fotohof\n \n 
URL:https://www.wissensstadt-salzburg.at/event/arbeitsschritte-im-fotoarchiv-demonstration-der-bearbeitung-von-kuenstlerischen-fotografien-und-der-aufarbeitung-und-archivierung-von-negativen/
CATEGORIES:Präsentation & Vortrag
ATTACH;FMTTYPE=image/jpeg:https://www.wissensstadt-salzburg.at/wp-content/uploads/2017/04/Fotohof_archiv.jpg
END:VEVENT
BEGIN:VEVENT
DTSTART;TZID=UTC:20180609T120000
DTEND;TZID=UTC:20180609T130000
DTSTAMP:20260424T152622
CREATED:20180412T102418Z
LAST-MODIFIED:20180515T050301Z
UID:2779-1528545600-1528549200@www.wissensstadt-salzburg.at
SUMMARY:Highlights aus den Beständen des AES
DESCRIPTION:Die Archivar*innen führen Sie durch die verschiedenen Speicher und Räumlichkeiten des Archivs der Erzdiözese Salzburg. Bei Zwischenstationen werden ausgesuchte Archivbestände und einzelne Archivalien vorgestellt. \n  \nFoto (c) Wissensstadt Salzburg\n 
URL:https://www.wissensstadt-salzburg.at/event/highlights-aus-den-bestaenden-2/
LOCATION:Archiv der Erzdiözese Salzburg\, Kapitelplatz 3\, Salzburg\, 5020\, Austria
CATEGORIES:Führung & Spaziergang
END:VEVENT
BEGIN:VEVENT
DTSTART;TZID=UTC:20180609T140000
DTEND;TZID=UTC:20180609T144500
DTSTAMP:20260424T152622
CREATED:20180412T103213Z
LAST-MODIFIED:20180515T050215Z
UID:2785-1528552800-1528555500@www.wissensstadt-salzburg.at
SUMMARY:Hans Rustler: Musterbilder
DESCRIPTION:Führung durch die Ausstellung „Hans Rustler: Musterbilder“ und durch die Räume des Archiv mit Präsentation einiger fotografischer Highlights. \n  \nFoto (c) Fotohof
URL:https://www.wissensstadt-salzburg.at/event/hans-rustler-musterbilder-2/
LOCATION:Fotohof Archiv\, Sparkassenstraße 2\, Salzburg\, Salzburg\, 5020\, Austria
CATEGORIES:Führung & Spaziergang
END:VEVENT
BEGIN:VEVENT
DTSTART;TZID=UTC:20180609T140000
DTEND;TZID=UTC:20180609T153000
DTSTAMP:20260424T152622
CREATED:20180412T102951Z
LAST-MODIFIED:20180515T050128Z
UID:2782-1528552800-1528558200@www.wissensstadt-salzburg.at
SUMMARY:„Back to the roots“ – Workshop für Familienforschung
DESCRIPTION:Die Erforschung der eigenen Familiengeschichte boomt – das AES als Kompetenzzentrum für Matriken und Familienforschung weiß\, wie’s geht. Die Spezialist*innen zeigen\, worauf man bei der Ahnenforschung achten muss\, welche Herausforderungen auf Sie warten und welche Informationen in Matriken und anderen Unterlagen zur Familienforschung zu finden sind. \n  \nAnmeldung: archiv@archiv.kirchen.net oder Tel. 0662/8047-1500 \nFoto (c) Wissensstadt Salzburg\n  \n\n \n 
URL:https://www.wissensstadt-salzburg.at/event/back-to-the-roots-workshop-fuer-familienforschung/
LOCATION:Archiv der Erzdiözese Salzburg\, Kapitelplatz 3\, Salzburg\, 5020\, Austria
CATEGORIES:Workshop & Mitmachen
END:VEVENT
BEGIN:VEVENT
DTSTART;TZID=UTC:20180609T150000
DTEND;TZID=UTC:20180609T160000
DTSTAMP:20260424T152622
CREATED:20180412T103808Z
LAST-MODIFIED:20180515T050037Z
UID:2788-1528556400-1528560000@www.wissensstadt-salzburg.at
SUMMARY:Arbeitsschritte im Fotoarchiv: Demonstration der Bearbeitung von künstlerischen Fotografien und der Aufarbeitung und Archivierung von Negativen
DESCRIPTION:Im ersten Teil bekommen die Besucher*innen einen Einblick in den Sammlungsbestand des Archivs\, von historischen Amateurfotografien bis zu Bildern der Magnum Fotografin Inge Morath und von technischen Musterfotos der 30er Jahre bis zu aktuellen fotokünstlerischen Arbeiten zeitgenössischer Fotografen. Im zweiten Teil demonstrieren wir an ausgewählten Beispielen die Archivarbeit von der Übernahme alter Fotografien bis zur Präsentation in einer Ausstellung und von der Digitalisierung der Negative bis zur Herstellung neuer Ausstellungskopien. \n  \nFoto (c) Fotohof
URL:https://www.wissensstadt-salzburg.at/event/arbeitsschritte-im-fotoarchiv-demonstration-der-bearbeitung-von-kuenstlerischen-fotografien-und-der-aufarbeitung-und-archivierung-von-negativen-2/
LOCATION:Fotohof Archiv\, Sparkassenstraße 2\, Salzburg\, Salzburg\, 5020\, Austria
CATEGORIES:Präsentation & Vortrag
ATTACH;FMTTYPE=image/jpeg:https://www.wissensstadt-salzburg.at/wp-content/uploads/2017/04/image1186.jpg
END:VEVENT
BEGIN:VEVENT
DTSTART;TZID=UTC:20180609T160000
DTEND;TZID=UTC:20180609T173000
DTSTAMP:20260424T152623
CREATED:20180412T104115Z
LAST-MODIFIED:20180515T045926Z
UID:2791-1528560000-1528565400@www.wissensstadt-salzburg.at
SUMMARY:Auf den Spuren von „Stille Nacht – Heilige Nacht“
DESCRIPTION:Archivleiter Mag. Dr. Thomas Mitterecker führt durch das Archiv und präsentiert bei verschiedenen Stationen Archivalien des AES zum Lied „Stille Nacht – Heilige Nacht“ sowie zu den Protagonisten Joseph Mohr\, Franz Xaver Gruber und ihren Lebensstationen in Salzburg. \n  \nFoto (c) Wissensstadt Salzburg
URL:https://www.wissensstadt-salzburg.at/event/auf-den-spuren-von-stille-nacht-heilige-nacht/
LOCATION:Archiv der Erzdiözese Salzburg\, Kapitelplatz 3\, Salzburg\, 5020\, Austria
CATEGORIES:Führung & Spaziergang
END:VEVENT
BEGIN:VEVENT
DTSTART;TZID=UTC:20180609T180000
DTEND;TZID=UTC:20180609T193000
DTSTAMP:20260424T152623
CREATED:20180412T104832Z
LAST-MODIFIED:20180515T045813Z
UID:2795-1528567200-1528572600@www.wissensstadt-salzburg.at
SUMMARY:Stefan Zweig digital
DESCRIPTION:Das Werk des Vielschreibers und Bestsellerautors Stefan Zweig liegt in unzähligen Ausgaben und Auflagen in vielen Sprachen vor. Als wesentliche Ergänzung zu den gedruckten Texten startet das Literaturarchiv Salzburg\, das einen bedeutenden Teil von Zweigs schriftlichem Nachlass aufbewahrt\, mit dem 9. Juni 2018 die Initiative STEFAN ZWEIG DIGITAL. Nach und nach werden auf der neuen Internetplattform Werkkataloge der Originalhandschriften\, Register und Nachschlagewerke zugänglich gemacht. Im Zentrum aber stehen digitale Faksimiles wichtiger Archivbestände\, die weltweit frei und kostenlos durchblättert werden können. \nPräsentation der neuen Website mit Oliver Matuschek und Lina Maria Zangerl\, Lesung aus Texten Stefan Zweigs von Werner Friedl. \nFoto (c) Wissensstadt Salzburg\n  \n \n  \n  \n 
URL:https://www.wissensstadt-salzburg.at/event/stefan-zweig-digital/
LOCATION:Literaturarchiv Salzburg\, Pfeifergasse 6\, Salzburg\, 5020\, Austria
CATEGORIES:Präsentation & Vortrag
END:VEVENT
END:VCALENDAR