BEGIN:VCALENDAR
VERSION:2.0
PRODID:-//Wissensstadt Salzburg - ECPv6.15.20//NONSGML v1.0//EN
CALSCALE:GREGORIAN
METHOD:PUBLISH
X-WR-CALNAME:Wissensstadt Salzburg
X-ORIGINAL-URL:https://www.wissensstadt-salzburg.at
X-WR-CALDESC:Veranstaltungen für Wissensstadt Salzburg
REFRESH-INTERVAL;VALUE=DURATION:PT1H
X-Robots-Tag:noindex
X-PUBLISHED-TTL:PT1H
BEGIN:VTIMEZONE
TZID:UTC
BEGIN:STANDARD
TZOFFSETFROM:+0000
TZOFFSETTO:+0000
TZNAME:UTC
DTSTART:20170101T000000
END:STANDARD
END:VTIMEZONE
BEGIN:VEVENT
DTSTART;TZID=UTC:20180611T190000
DTEND;TZID=UTC:20180611T203000
DTSTAMP:20260424T153835
CREATED:20180528T091003Z
LAST-MODIFIED:20180528T091003Z
UID:3167-1528743600-1528749000@www.wissensstadt-salzburg.at
SUMMARY:Panorama:Uni: Fake News und Fakten. Der Kampf um die Wahrheit
DESCRIPTION:In der Schlussphase des US Präsidentschaftswahlkampfs wurden die 20 erfolgreichsten Falschmeldungen öfter geteilt\, gelikt und kommentiert als die 20 erfolgreichsten Berichte seriöser Medien. Was sind Fake News? Wie steht es um die Glaubwürdigkeit der Medien? Diese und weitere Fragen diskutiert der Kommunikationswissenschaftler Josef Trappel. \nIm Anschluss laden wir zum Umtrunk. \nBitte um Anmeldung!
URL:https://www.wissensstadt-salzburg.at/event/panoramauni-fake-news-und-fakten-der-kampf-um-die-wahrheit/
LOCATION:Panoramabar\, Schumacherstraße 14\, Salzburg\, Salzburg\, 5020\, Österreich
CATEGORIES:Präsentation & Vortrag
END:VEVENT
END:VCALENDAR