BEGIN:VCALENDAR
VERSION:2.0
PRODID:-//Wissensstadt Salzburg - ECPv6.15.20//NONSGML v1.0//EN
CALSCALE:GREGORIAN
METHOD:PUBLISH
X-WR-CALNAME:Wissensstadt Salzburg
X-ORIGINAL-URL:https://www.wissensstadt-salzburg.at
X-WR-CALDESC:Veranstaltungen für Wissensstadt Salzburg
REFRESH-INTERVAL;VALUE=DURATION:PT1H
X-Robots-Tag:noindex
X-PUBLISHED-TTL:PT1H
BEGIN:VTIMEZONE
TZID:UTC
BEGIN:STANDARD
TZOFFSETFROM:+0000
TZOFFSETTO:+0000
TZNAME:UTC
DTSTART:20170101T000000
END:STANDARD
END:VTIMEZONE
BEGIN:VEVENT
DTSTART;TZID=UTC:20180905T083000
DTEND;TZID=UTC:20180905T160000
DTSTAMP:20260424T114007
CREATED:20180612T083923Z
LAST-MODIFIED:20180612T085135Z
UID:3248-1536136200-1536163200@www.wissensstadt-salzburg.at
SUMMARY:e2 Young Engineers Sommercamp
DESCRIPTION:Naturwissenschaften und Technik für Mädchen? \nJa\, im e2 Young Engineers Sommercamp!  \nWie funktioniert die Welt um uns herum? Beim e2 Young Engineers Sommercamp bearbeiten wir die Welt der Technik spielerisch mit Experimenten\, Spielen und coolen LEGO Modellen. \n  \n5. bis 7. September 2018\nMittwoch und Donnerstag von 08:30 bis 14:30 Uhr\nFreitag von 08:30 bis 14:30 Uhr \nAm Freitag zwischen 13:00 und 14:30 Uhr können die Eltern gemeinsam mit ihren Töchtern experimentieren und selbst wieder ein bisschen Kind werden. \n  \nFür Mädchen von 7 bis 11 Jahren\, Teilnahme kostenlos\, kleine Jause inklusive.  \nAnmeldung im Frauenbüro der Stadt Salzburg: Tel.: 0662/8072-2043\, E-Mail: frauenbuero@stadt-salzburg.at \n 
URL:https://www.wissensstadt-salzburg.at/event/e2-young-engineers-sommercamp/
LOCATION:Schloss Mirabell\, Pegasus Zimmer\, Mirabellplatz 4\, Salzburg\, Salzburg\, 5020\, Österreich
CATEGORIES:Geeignet für Kinder,Workshop & Mitmachen
ATTACH;FMTTYPE=image/jpeg:https://www.wissensstadt-salzburg.at/wp-content/uploads/2018/06/YE_Sommercamp.jpg
END:VEVENT
END:VCALENDAR