BEGIN:VCALENDAR
VERSION:2.0
PRODID:-//Wissensstadt Salzburg - ECPv6.15.20//NONSGML v1.0//EN
CALSCALE:GREGORIAN
METHOD:PUBLISH
X-WR-CALNAME:Wissensstadt Salzburg
X-ORIGINAL-URL:https://www.wissensstadt-salzburg.at
X-WR-CALDESC:Veranstaltungen für Wissensstadt Salzburg
REFRESH-INTERVAL;VALUE=DURATION:PT1H
X-Robots-Tag:noindex
X-PUBLISHED-TTL:PT1H
BEGIN:VTIMEZONE
TZID:UTC
BEGIN:STANDARD
TZOFFSETFROM:+0000
TZOFFSETTO:+0000
TZNAME:UTC
DTSTART:20170101T000000
END:STANDARD
END:VTIMEZONE
BEGIN:VEVENT
DTSTART;TZID=UTC:20180928T143000
DTEND;TZID=UTC:20180928T173000
DTSTAMP:20260424T114008
CREATED:20180816T070630Z
LAST-MODIFIED:20180816T074939Z
UID:3355-1538145000-1538155800@www.wissensstadt-salzburg.at
SUMMARY:Girlpower im Happylab - für Mädchen zwischen 12 und 16 Jahren
DESCRIPTION:Ihr probiert gerne Neues aus\, tüftelt an Ideen und habt Spaß an der Arbeit mit coolen Materialien und Werkzeugen?\nDas Happylab ist eine offene Werkstatt. Dort stehen viele verschiedene Geräte – 3D-Drucker\, Schneidplotter\, Lasercutter\, Lötstationen uvm. Die Girlpower-Trainer*innen von Kompass zeigen euch\, wie ihr mit den Geräten eure eigenen Ideen umsetzen könnt. Nach einer Einschulung könnt ihr dort selbst aktiv und kreativ werden. \nWann & wo?  \nFreitag\, 28.09.\, 19.10.\, 30.11.2018\njeweils von 14:30 bis 17:30 Uhr\nim Happylab Salzburg (Bus Nr. 6\, Haltestelle „Science City Itzling“) \nWas machen wir?  \n28.09. Eure Lieblingsmotive als Wandtatoos & Stempel (Arbeit mit dem Lasercutter)\n19.10. Bring deine Kleidung zum Leuchten (Thema Elektronik und Textilien)\n30.11. Schmuck & Ornamente (für den Weihnachtsbaum oder euch selbst – Arbeit mit dem Lasercutter) \nInfo & Anmeldung: \nE-Mail: kompass@einstieg.or.at | Tel.: 0650/33 23 514 \nDie Workshops sind kostenlos! Anmeldung einzeln oder gleich für alle drei Termine möglich. Damit genügend Materialien vorhanden sind\, bitte bis zum Montag vorher anmelden (24.09.\, 15.10.\, 26.11.). \n  \n \n  \n  \n  \n  \n  \n  \n  \n  \n  \n  \n  \n  \n  \n  \n  \n  \n  \n  \n  \n  \n  \n  \n  \n  \n 
URL:https://www.wissensstadt-salzburg.at/event/girlpower-im-happylab/
LOCATION:Happy Lab\, Jakob-Haringer-Straße 8\, Salzburg\, Salzburg\, 5020
CATEGORIES:Geeignet für Kinder,Workshop & Mitmachen
END:VEVENT
END:VCALENDAR