BEGIN:VCALENDAR
VERSION:2.0
PRODID:-//Wissensstadt Salzburg - ECPv6.15.13//NONSGML v1.0//EN
CALSCALE:GREGORIAN
METHOD:PUBLISH
X-ORIGINAL-URL:https://www.wissensstadt-salzburg.at
X-WR-CALDESC:Veranstaltungen für Wissensstadt Salzburg
REFRESH-INTERVAL;VALUE=DURATION:PT1H
X-Robots-Tag:noindex
X-PUBLISHED-TTL:PT1H
BEGIN:VTIMEZONE
TZID:UTC
BEGIN:STANDARD
TZOFFSETFROM:+0000
TZOFFSETTO:+0000
TZNAME:UTC
DTSTART:20180101T000000
END:STANDARD
END:VTIMEZONE
BEGIN:VEVENT
DTSTART;TZID=UTC:20190506T190000
DTEND;TZID=UTC:20190506T203000
DTSTAMP:20260422T010911
CREATED:20190423T110531Z
LAST-MODIFIED:20190423T112113Z
UID:4503-1557169200-1557174600@www.wissensstadt-salzburg.at
SUMMARY:PanoramaUni: Posten. Liken. Teilen. Social Media – alles was Recht ist
DESCRIPTION:Fast jeder zweite Österreicher ist auf Facebook. Warum nutzen Menschen digitale Foren? Wo endet im Internet die Meinungsfreiheit\, wo beginnt die Strafbarkeit? Darüber diskutieren die Kommunikationswissenschaftlerin Christine Lohmeier und die Strafrechtsexpertin Nina Marlene Schallmoser. \n  \nOrt & Zeit\nWann: Montag\, 6. Mai 2019\, 19 Uhr\nWo: Panoramabar Lehen\, Schumacherstraße 14\, 5020 Salzburg \nIm Anschluss laden wir zum Umtrunk. \nBitte um Anmeldung unter Angabe Ihres Namens\, Ihrer Telefonnummer und Emailadresse sowie der Teilnehmeranzahl unter Tel. 0662-8044-2438 oder panoramauni@sbg.ac.at. \n 
URL:https://www.wissensstadt-salzburg.at/event/panoramauni-posten-liken-teilen-social-media-alles-was-recht-ist/
LOCATION:Panoramabar\, Schumacherstraße 14\, Salzburg\, Salzburg\, 5020\, Österreich
CATEGORIES:Diskussion,Präsentation & Vortrag
ATTACH;FMTTYPE=image/jpeg:https://www.wissensstadt-salzburg.at/wp-content/uploads/2017/04/PanoramaUni_bearb.jpg
END:VEVENT
END:VCALENDAR