BEGIN:VCALENDAR
VERSION:2.0
PRODID:-//Wissensstadt Salzburg - ECPv6.15.13//NONSGML v1.0//EN
CALSCALE:GREGORIAN
METHOD:PUBLISH
X-ORIGINAL-URL:https://www.wissensstadt-salzburg.at
X-WR-CALDESC:Veranstaltungen für Wissensstadt Salzburg
REFRESH-INTERVAL;VALUE=DURATION:PT1H
X-Robots-Tag:noindex
X-PUBLISHED-TTL:PT1H
BEGIN:VTIMEZONE
TZID:UTC
BEGIN:STANDARD
TZOFFSETFROM:+0000
TZOFFSETTO:+0000
TZNAME:UTC
DTSTART:20180101T000000
END:STANDARD
END:VTIMEZONE
BEGIN:VEVENT
DTSTART;TZID=UTC:20190515T083000
DTEND;TZID=UTC:20190515T133000
DTSTAMP:20260422T010949
CREATED:20190408T091919Z
LAST-MODIFIED:20190408T092037Z
UID:4296-1557909000-1557927000@www.wissensstadt-salzburg.at
SUMMARY:MINT:labs in der Science City Itzling
DESCRIPTION:READY FOR TAKE-OFF? (Angebot für Schulklassen!)\nAm 15. Mai geht’s für Schulklassen hoch hinaus zu spannenden Reisezielen der MINT-Welt! Einen Vormittag lang laden wir Schüler*innen zwischen 12 und 16 Jahren (7. bis 10. Schulstufe) in die Science City Itzling. Dort können sie sich auf eine Reise in die Forschungswelt der Mathematik\, Informatik\, Naturwissenschaften und Technik begeben.\nSieben Einrichtungen am Wissens- und Innovationsstandort Science City Itzling öffnen ihre Türen: die Fachbereiche Chemie und Physik der Materialien\, Computerwissenschaften\, Geoinformatik\,\nMathematik\, das Center for Human-Computer Interaction und die School of Education der Universität Salzburg sowie Salzburg Research. \nAuf die Reiselustigen warten spannende Workshops und Mitmachstationen in den MINT:labs der verschiedenen Einrichtungen. Ganz nach Interesse können die Schüler*innen zwei Workshops aus den Bereichen Robotik\, Geoinformatik\, Elektronik\, Mathematik\, Informatik\, Chemie und Physik wählen. Die Wissenschaftler*innen machen die Reiseleitung auf dem Weg durch die Forschungswelt. \nDIE REISE IN DIE FORSCHUNGSWELT IM ÜBERBLICK\n15. Mai 2019 von 08.30 bis 13.30 Uhr in der Science City Itzling\nab 08.30 Uhr Check-in\n09.00 Reiseplanung & Präsentation der Fachbereiche und Workshop-Angebote\n10.00 Uhr Abflug in den ersten Workshopblock\n11.45 Uhr Anschlussflug in den zweiten Workshopblock\n13.15 Uhr Check-out \nDie Zuteilung zu den Workshops erfolgt vor Ort – die Schüler*innen wählen nach ihren Interessen.\nWohin die Reise führt und wie man die kostenfreien Tickets buchen kann: www.wissensstadt-salzburg.at/mintlabs\nNoch Fragen? Bitte per Mail an mintlabs@salzburgresearch.at
URL:https://www.wissensstadt-salzburg.at/event/mintlabs-in-der-science-city-itzling/
LOCATION:Universität Salzburg\, Fachbereich Chemie und Physik der Materialien\, Jakob-Haringer Straße 2a\, Salzburg
CATEGORIES:Tag der offenen Tür,Workshop & Mitmachen
ATTACH;FMTTYPE=image/png:https://www.wissensstadt-salzburg.at/wp-content/uploads/2019/04/MINTlabs_Kachel_kl-1.png
END:VEVENT
END:VCALENDAR