BEGIN:VCALENDAR
VERSION:2.0
PRODID:-//Wissensstadt Salzburg - ECPv6.15.13//NONSGML v1.0//EN
CALSCALE:GREGORIAN
METHOD:PUBLISH
X-ORIGINAL-URL:https://www.wissensstadt-salzburg.at
X-WR-CALDESC:Veranstaltungen für Wissensstadt Salzburg
REFRESH-INTERVAL;VALUE=DURATION:PT1H
X-Robots-Tag:noindex
X-PUBLISHED-TTL:PT1H
BEGIN:VTIMEZONE
TZID:UTC
BEGIN:STANDARD
TZOFFSETFROM:+0000
TZOFFSETTO:+0000
TZNAME:UTC
DTSTART:20180101T000000
END:STANDARD
END:VTIMEZONE
BEGIN:VEVENT
DTSTART;TZID=UTC:20190919T173000
DTEND;TZID=UTC:20190919T193000
DTSTAMP:20260421T190958
CREATED:20190902T094328Z
LAST-MODIFIED:20190905T120321Z
UID:4918-1568914200-1568921400@www.wissensstadt-salzburg.at
SUMMARY:Kunst von nebenan - Grätzl-Walk zu Kunstwerken im Stadtraum (Salzburg Süd)
DESCRIPTION:Neues Format für Wissensvermittlung: Kunst von nebenan. \nMan begegnet ihr meist unbewusst und unerwartet: Kunst im öffentlichen Raum gibt es an vielen Stellen\, sie wird aber trotzdem nur wenig wahrgenommen. Skulpturen im Hof\, ein Fassaden-Sgraffito\, Brunnenanlagen\, Statuen und Plastiken prägen unser Stadtbild. Über die Entstehungszeit bzw. den Künstler oder die Künstlerin wissen nur die wenigsten Bescheid. Ein neuer Stadtspaziergang gemeinsam mit dem Team der Stadtgalerien und dem Bewohnerservice Salzburg Süd klärt nun über die Werke in Salzburg Süd auf. \nDonnerstag\, 19. September\, 17:30 Uhr \nTreffpunkt: Haupteingang der Naturwissenschaftlichen Fakultät der Uni Salzburg\, Hellbrunnerstraße 34
URL:https://www.wissensstadt-salzburg.at/event/kunst-von-nebenan-graetzl-walk-zu-kunstwerken-im-stadtraum-salzburg-sued/
LOCATION:Naturwissenschaftliche Fakultät\, Hellbrunner Str. 34\, Salzburg\, Salzburg\, 5020\, Österreich
CATEGORIES:Führung & Spaziergang
ATTACH;FMTTYPE=image/jpeg:https://www.wissensstadt-salzburg.at/wp-content/uploads/2019/09/DSC08666_kl_kl.jpg
END:VEVENT
END:VCALENDAR