BEGIN:VCALENDAR
VERSION:2.0
PRODID:-//Wissensstadt Salzburg - ECPv6.15.13//NONSGML v1.0//EN
CALSCALE:GREGORIAN
METHOD:PUBLISH
X-ORIGINAL-URL:https://www.wissensstadt-salzburg.at
X-WR-CALDESC:Veranstaltungen für Wissensstadt Salzburg
REFRESH-INTERVAL;VALUE=DURATION:PT1H
X-Robots-Tag:noindex
X-PUBLISHED-TTL:PT1H
BEGIN:VTIMEZONE
TZID:UTC
BEGIN:STANDARD
TZOFFSETFROM:+0000
TZOFFSETTO:+0000
TZNAME:UTC
DTSTART:20180101T000000
END:STANDARD
END:VTIMEZONE
BEGIN:VEVENT
DTSTART;TZID=UTC:20191122T150000
DTEND;TZID=UTC:20191122T170000
DTSTAMP:20260421T161520
CREATED:20190902T094058Z
LAST-MODIFIED:20190902T095543Z
UID:4931-1574434800-1574442000@www.wissensstadt-salzburg.at
SUMMARY:Forschung von nebenan | Vom Molekül zum Material - Wie entsteht ein neuer Werkstoff?
DESCRIPTION:Haben Sie gewusst\, dass in Itzling viele Wissenschaftler*innen arbeiten? Vier Fachbereiche der Universität Salzburg betreiben am Standort Science City Itzling Spitzenforschung\, gleich hier in der Nachbarschaft. \nSagen Sie Hallo zu den Forscher*innen \nWir laden zu vier Spaziergängen durch die Science City Itzling. Dort besuchen wir die Wissenschaftler*innen\, die uns ihr Spezialgebiet zeigen. Wir lernen Roboter kennen\, machen Versuche im Labor\, übernehmen das Steuer eines Flugzeugs und sehen die Welt von oben. \nHinkommen\, mitmachen und staunen! \nZentraler Treffpunkt: HOFER\, Schillerstraße 25 \nVom Molekül zum Material – Wie entsteht ein neuer Werkstoff?\n22. November 2019\, 15 bis 17 Uhr\nFachbereich Chemie und Physik der Materialien \n  \nDie Veranstaltung ist eine Zusammenarbeit mit dem ABZ – Haus für Möglichkeiten\, der Universität Salzburg und dem Netzwerk Itzling.
URL:https://www.wissensstadt-salzburg.at/event/forschung-von-nebenan-vom-molekuel-zum-material-wie-entsteht-ein-neuer-werkstoff/
LOCATION:Universität Salzburg\, Fachbereich Chemie und Physik der Materialien\, Jakob-Haringer Straße 2a\, Salzburg
CATEGORIES:Führung & Spaziergang
ATTACH;FMTTYPE=image/jpeg:https://www.wissensstadt-salzburg.at/wp-content/uploads/2018/11/Science-City-Itzling_kl.jpg
END:VEVENT
END:VCALENDAR