BEGIN:VCALENDAR
VERSION:2.0
PRODID:-//Wissensstadt Salzburg - ECPv6.15.13//NONSGML v1.0//EN
CALSCALE:GREGORIAN
METHOD:PUBLISH
X-WR-CALNAME:Wissensstadt Salzburg
X-ORIGINAL-URL:https://www.wissensstadt-salzburg.at
X-WR-CALDESC:Veranstaltungen für Wissensstadt Salzburg
REFRESH-INTERVAL;VALUE=DURATION:PT1H
X-Robots-Tag:noindex
X-PUBLISHED-TTL:PT1H
BEGIN:VTIMEZONE
TZID:Europe/Vienna
BEGIN:DAYLIGHT
TZOFFSETFROM:+0100
TZOFFSETTO:+0200
TZNAME:CEST
DTSTART:20210328T010000
END:DAYLIGHT
BEGIN:STANDARD
TZOFFSETFROM:+0200
TZOFFSETTO:+0100
TZNAME:CET
DTSTART:20211031T010000
END:STANDARD
BEGIN:DAYLIGHT
TZOFFSETFROM:+0100
TZOFFSETTO:+0200
TZNAME:CEST
DTSTART:20220327T010000
END:DAYLIGHT
BEGIN:STANDARD
TZOFFSETFROM:+0200
TZOFFSETTO:+0100
TZNAME:CET
DTSTART:20221030T010000
END:STANDARD
BEGIN:DAYLIGHT
TZOFFSETFROM:+0100
TZOFFSETTO:+0200
TZNAME:CEST
DTSTART:20230326T010000
END:DAYLIGHT
BEGIN:STANDARD
TZOFFSETFROM:+0200
TZOFFSETTO:+0100
TZNAME:CET
DTSTART:20231029T010000
END:STANDARD
END:VTIMEZONE
BEGIN:VEVENT
DTSTART;TZID=Europe/Vienna:20220516T190000
DTEND;TZID=Europe/Vienna:20220516T203000
DTSTAMP:20260420T072556
CREATED:20220217T123210Z
LAST-MODIFIED:20220217T123502Z
UID:6874-1652727600-1652733000@www.wissensstadt-salzburg.at
SUMMARY:Panorama:Uni - Dem Verbrechen auf der Spur. Gerichtsmediziner:innen lösen Kriminalfälle
DESCRIPTION:Der Leiter der Salzburger Gerichtsmedizin\, Fabio Monticelli\, lässt die Zuhörer:innen in die faszinierende Welt der Gerichtsmedizin eintauchen und schildert anhand von spannenden Beispielen\, wie Gerichtsmediziner:innen helfen Kriminalfälle zu lösen. \nIm Anschluss laden wir zum Umtrunk. \nOrt & Zeit\nWann? Montag\, 16. Mai 2022\, 19 Uhr \nWo? Panoramabar\, Neue Mitte Lehen\, Schumacherstraße 14\, 5020 Salzburg \nLivestream\n\nFS1\, das Salzburger Community-Fernsehen\, überträgt die Veranstaltung live auf: www.panorama-uni.at \nAnmeldung\nBitte um Anmeldung für die gewünschte Veranstaltung: https://www.plus.ac.at/kommunikation-und-fundraising/service-fuer-die-oeffentlichkeit/panoramauni/
URL:https://www.wissensstadt-salzburg.at/event/panoramauni-dem-verbrechen-auf-der-spur-gerichtsmedizinerinnen-loesen-kriminalfaelle/
LOCATION:Panoramabar\, Schumacherstraße 14\, Salzburg\, Salzburg\, 5020\, Österreich
CATEGORIES:Präsentation & Vortrag
ATTACH;FMTTYPE=image/jpeg:https://www.wissensstadt-salzburg.at/wp-content/uploads/2018/05/20180409_171302-Kopi_kl.jpg
END:VEVENT
END:VCALENDAR