BEGIN:VCALENDAR
VERSION:2.0
PRODID:-//Wissensstadt Salzburg - ECPv6.15.13//NONSGML v1.0//EN
CALSCALE:GREGORIAN
METHOD:PUBLISH
X-WR-CALNAME:Wissensstadt Salzburg
X-ORIGINAL-URL:https://www.wissensstadt-salzburg.at
X-WR-CALDESC:Veranstaltungen für Wissensstadt Salzburg
REFRESH-INTERVAL;VALUE=DURATION:PT1H
X-Robots-Tag:noindex
X-PUBLISHED-TTL:PT1H
BEGIN:VTIMEZONE
TZID:Europe/Vienna
BEGIN:DAYLIGHT
TZOFFSETFROM:+0100
TZOFFSETTO:+0200
TZNAME:CEST
DTSTART:20220327T010000
END:DAYLIGHT
BEGIN:STANDARD
TZOFFSETFROM:+0200
TZOFFSETTO:+0100
TZNAME:CET
DTSTART:20221030T010000
END:STANDARD
BEGIN:DAYLIGHT
TZOFFSETFROM:+0100
TZOFFSETTO:+0200
TZNAME:CEST
DTSTART:20230326T010000
END:DAYLIGHT
BEGIN:STANDARD
TZOFFSETFROM:+0200
TZOFFSETTO:+0100
TZNAME:CET
DTSTART:20231029T010000
END:STANDARD
BEGIN:DAYLIGHT
TZOFFSETFROM:+0100
TZOFFSETTO:+0200
TZNAME:CEST
DTSTART:20240331T010000
END:DAYLIGHT
BEGIN:STANDARD
TZOFFSETFROM:+0200
TZOFFSETTO:+0100
TZNAME:CET
DTSTART:20241027T010000
END:STANDARD
END:VTIMEZONE
BEGIN:VEVENT
DTSTART;TZID=Europe/Vienna:20230511T160000
DTEND;TZID=Europe/Vienna:20230511T180000
DTSTAMP:20260420T182102
CREATED:20230322T092034Z
LAST-MODIFIED:20230426T144446Z
UID:7312-1683820800-1683828000@www.wissensstadt-salzburg.at
SUMMARY:Kunst von nebenan - Aigen
DESCRIPTION:Gemeinsam mit dem Team der Stadtgalerien begeben wir uns auf Entdeckungsreise durch den Stadtteil Aigen. Die Suche nach Kunst im öffentlichen Raum beginnt bei einer Skulptur von Eva Mazzucco bei der Volksschule Abfalter. Der Spaziergang führt weiter zum Bildungshaus St. Virgil und zur Aigner Kirche und bietet viele spannende Einblicke. \n11. Mai\, 16 Uhr\nTreffpunkt: Eingang VS Abfalter\, Dr.-Petter-Straße 21\nAnmeldung: Bewohnerservice Aigen & Parsch\, E-Mail: bws.aigen-parsch@diakoniewerk.at; Tel.: 0662 625 008
URL:https://www.wissensstadt-salzburg.at/event/kunst-von-nebenan-aigen/
CATEGORIES:Führung & Spaziergang
ATTACH;FMTTYPE=image/jpeg:https://www.wissensstadt-salzburg.at/wp-content/uploads/2023/03/Schulkinder_klkl.jpg
END:VEVENT
END:VCALENDAR