BEGIN:VCALENDAR
VERSION:2.0
PRODID:-//Wissensstadt Salzburg - ECPv6.15.13//NONSGML v1.0//EN
CALSCALE:GREGORIAN
METHOD:PUBLISH
X-ORIGINAL-URL:https://www.wissensstadt-salzburg.at
X-WR-CALDESC:Veranstaltungen für Wissensstadt Salzburg
REFRESH-INTERVAL;VALUE=DURATION:PT1H
X-Robots-Tag:noindex
X-PUBLISHED-TTL:PT1H
BEGIN:VTIMEZONE
TZID:Europe/Vienna
BEGIN:DAYLIGHT
TZOFFSETFROM:+0100
TZOFFSETTO:+0200
TZNAME:CEST
DTSTART:20220327T010000
END:DAYLIGHT
BEGIN:STANDARD
TZOFFSETFROM:+0200
TZOFFSETTO:+0100
TZNAME:CET
DTSTART:20221030T010000
END:STANDARD
BEGIN:DAYLIGHT
TZOFFSETFROM:+0100
TZOFFSETTO:+0200
TZNAME:CEST
DTSTART:20230326T010000
END:DAYLIGHT
BEGIN:STANDARD
TZOFFSETFROM:+0200
TZOFFSETTO:+0100
TZNAME:CET
DTSTART:20231029T010000
END:STANDARD
BEGIN:DAYLIGHT
TZOFFSETFROM:+0100
TZOFFSETTO:+0200
TZNAME:CEST
DTSTART:20240331T010000
END:DAYLIGHT
BEGIN:STANDARD
TZOFFSETFROM:+0200
TZOFFSETTO:+0100
TZNAME:CET
DTSTART:20241027T010000
END:STANDARD
END:VTIMEZONE
BEGIN:VEVENT
DTSTART;TZID=Europe/Vienna:20230906T160000
DTEND;TZID=Europe/Vienna:20230906T170000
DTSTAMP:20260420T112558
CREATED:20230825T075214Z
LAST-MODIFIED:20230825T075453Z
UID:7525-1694016000-1694019600@www.wissensstadt-salzburg.at
SUMMARY:Buchpräsentation und Lesung 🐝
DESCRIPTION:Auf ihrem Weg nach Hause bummelt Bomba durch die Stadt und entdeckt jede Menge Neues. \nBomba ist eine kleine Hummel\, die sich nicht ganz freiwillig auf eine abenteuerliche Reise durch die Stadt Salzburg begibt. Auf der Suche nach ihrem Zuhause begegnet sie vielen Menschen und Tieren und lernt unbekannte Seiten ihrer Stadt kennen. Bomba ist die Hauptfigur unseres neuen Kinderbuches\, das wir zu Schulbeginn an die Taferlklassler:innen verteilen. \nAlle\, die heuer nicht ihren ersten Schultag haben\, können Bomba bereits am 6. September 2023 um 16 Uhr in der Stadt:Bibliothek kennenlernen. Nach einer Lesung und Buchvorstellung erzählt uns der Biologe und Hummel-Fachmann Johann Neumayer mehr über die kleinen Brummer. Für alle Kinder gibt’s auch eine Überraschung! \nDas Buch „Bomba. Eine Hummel bummelt durch die Stadt Salzburg“ wurde geschrieben und illustriert von Ingrid Aspöck und ist in der Edition mosaik erschienen. \nErinnert ihr euch noch an Nali & Nora? Die Abenteuer des Axolotls und seiner Freundin sind ebenfalls in der Edition mosaik erschienen und dort erhältlich.
URL:https://www.wissensstadt-salzburg.at/event/buchpraesentation-und-lesung/
CATEGORIES:Geeignet für Kinder
ATTACH;FMTTYPE=image/jpeg:https://www.wissensstadt-salzburg.at/wp-content/uploads/2023/08/Bomba_Coverbild_ohneSchrift_kl.jpg
END:VEVENT
END:VCALENDAR