BEGIN:VCALENDAR
VERSION:2.0
PRODID:-//Wissensstadt Salzburg - ECPv6.15.13//NONSGML v1.0//EN
CALSCALE:GREGORIAN
METHOD:PUBLISH
X-ORIGINAL-URL:https://www.wissensstadt-salzburg.at
X-WR-CALDESC:Veranstaltungen für Wissensstadt Salzburg
REFRESH-INTERVAL;VALUE=DURATION:PT1H
X-Robots-Tag:noindex
X-PUBLISHED-TTL:PT1H
BEGIN:VTIMEZONE
TZID:Europe/Vienna
BEGIN:DAYLIGHT
TZOFFSETFROM:+0100
TZOFFSETTO:+0200
TZNAME:CEST
DTSTART:20220327T010000
END:DAYLIGHT
BEGIN:STANDARD
TZOFFSETFROM:+0200
TZOFFSETTO:+0100
TZNAME:CET
DTSTART:20221030T010000
END:STANDARD
BEGIN:DAYLIGHT
TZOFFSETFROM:+0100
TZOFFSETTO:+0200
TZNAME:CEST
DTSTART:20230326T010000
END:DAYLIGHT
BEGIN:STANDARD
TZOFFSETFROM:+0200
TZOFFSETTO:+0100
TZNAME:CET
DTSTART:20231029T010000
END:STANDARD
BEGIN:DAYLIGHT
TZOFFSETFROM:+0100
TZOFFSETTO:+0200
TZNAME:CEST
DTSTART:20240331T010000
END:DAYLIGHT
BEGIN:STANDARD
TZOFFSETFROM:+0200
TZOFFSETTO:+0100
TZNAME:CET
DTSTART:20241027T010000
END:STANDARD
END:VTIMEZONE
BEGIN:VEVENT
DTSTART;TZID=Europe/Vienna:20230920T150000
DTEND;TZID=Europe/Vienna:20231213T180000
DTSTAMP:20260420T171837
CREATED:20230818T052644Z
LAST-MODIFIED:20230908T053851Z
UID:7467-1695222000-1702490400@www.wissensstadt-salzburg.at
SUMMARY:Ein Event für dich und dein Kind – 1 Raum – 6 Termine
DESCRIPTION:Ab September können sich Eltern einen Arbeitsplatz sichern\, während die Kinder im selben Raum betreut werden. Zudem werden durch Mentor:innen Weiterbildungen sowie Beratungen angeboten. Das professionelle Kinder- und Mentoringprogramm beinhaltet Elemente aus Wissenschaft\, Kunst und Kultur und wird vom Verein MAK – Multikultur als Kompetenz organisiert. \n20. September 2023\, 15 bis 18 Uhr\n5. Oktober 2023\, 9 bis 12 Uhr\n25. Oktober 2023\, 9 bis 12 Uhr\n9. November 2023\, 9 bis 12 Uhr\n22. November 2023\, 15 bis 18 Uhr\n13. Dezember 2023\, 15 bis 18 Uhr \nTreffpunkt: Quartier Riedenburg\, Gemeinschaftsraum\, Leopoldskronstraße 6a\, 5020 Salzburg\nProgramm und Anmeldung unter: www.mak.or.at\nPro Termin 15 Erwachsene und 15 Kinder \n 
URL:https://www.wissensstadt-salzburg.at/event/kinderbetreuung-mentoring-und-arbeiten-in-einem-raum/
LOCATION:Quartier Riedenburg\, Leopoldskronstraße 6a\, Salzburg\, Salzburg\, 5020\, Österreich
CATEGORIES:Geeignet für Kinder,Workshop & Mitmachen
END:VEVENT
BEGIN:VEVENT
DTSTART;TZID=Europe/Vienna:20231207T180000
DTEND;TZID=Europe/Vienna:20231207T193000
DTSTAMP:20260420T171837
CREATED:20231102T141053Z
LAST-MODIFIED:20231102T141053Z
UID:7683-1701972000-1701977400@www.wissensstadt-salzburg.at
SUMMARY:Forschung von nebenan: Herausforderungen der EU-Erweiterung
DESCRIPTION:Doris Wydra: Herausforderungen der EU-Erweiterung \nWo enden die Grenzen der EU; wer darf beitreten und wer nicht? Im Gespräch werden aktuelle Probleme der EU-Beitrittskandidatenländer vom West-Balkan\, sowie die Ukraine und Moldawien erörtert. Kann man diese Länder an die EU anbinden\, ohne eine vollständige Mitgliedschaft zu garantieren? \nModeration: Gudrun Doringer\, Salzburger Nachrichten \n15. November 2023\, 18 Uhr\nSalzburg Centre of European Union Studies (SCEUS)\, Europasaal\nMönchsberg 2\, 5020 Salzburg\nZugang über den Toscaninihof oder die Mönchsberggarage
URL:https://www.wissensstadt-salzburg.at/event/forschung-von-nebenan-herausforderungen-der-eu-erweiterung/
LOCATION:Salzburg Centre of European Union Studies\, Mönchsberg 2\, Salzburg\, Salzburg\, 5020\, Österreich
CATEGORIES:Präsentation & Vortrag
ATTACH;FMTTYPE=image/jpeg:https://www.wissensstadt-salzburg.at/wp-content/uploads/2023/03/Edmundsburg_kl.jpg
END:VEVENT
END:VCALENDAR