BEGIN:VCALENDAR
VERSION:2.0
PRODID:-//Wissensstadt Salzburg - ECPv6.15.13//NONSGML v1.0//EN
CALSCALE:GREGORIAN
METHOD:PUBLISH
X-WR-CALNAME:Wissensstadt Salzburg
X-ORIGINAL-URL:https://www.wissensstadt-salzburg.at
X-WR-CALDESC:Veranstaltungen für Wissensstadt Salzburg
REFRESH-INTERVAL;VALUE=DURATION:PT1H
X-Robots-Tag:noindex
X-PUBLISHED-TTL:PT1H
BEGIN:VTIMEZONE
TZID:Europe/Vienna
BEGIN:DAYLIGHT
TZOFFSETFROM:+0100
TZOFFSETTO:+0200
TZNAME:CEST
DTSTART:20230326T010000
END:DAYLIGHT
BEGIN:STANDARD
TZOFFSETFROM:+0200
TZOFFSETTO:+0100
TZNAME:CET
DTSTART:20231029T010000
END:STANDARD
BEGIN:DAYLIGHT
TZOFFSETFROM:+0100
TZOFFSETTO:+0200
TZNAME:CEST
DTSTART:20240331T010000
END:DAYLIGHT
BEGIN:STANDARD
TZOFFSETFROM:+0200
TZOFFSETTO:+0100
TZNAME:CET
DTSTART:20241027T010000
END:STANDARD
BEGIN:DAYLIGHT
TZOFFSETFROM:+0100
TZOFFSETTO:+0200
TZNAME:CEST
DTSTART:20250330T010000
END:DAYLIGHT
BEGIN:STANDARD
TZOFFSETFROM:+0200
TZOFFSETTO:+0100
TZNAME:CET
DTSTART:20251026T010000
END:STANDARD
END:VTIMEZONE
BEGIN:VEVENT
DTSTART;TZID=Europe/Vienna:20240111T180000
DTEND;TZID=Europe/Vienna:20240111T193000
DTSTAMP:20260419T160540
CREATED:20231113T135411Z
LAST-MODIFIED:20231113T135423Z
UID:7712-1704996000-1705001400@www.wissensstadt-salzburg.at
SUMMARY:Forschung von nebenan - Das EU-Renaturierungsgesetz im Gespräch
DESCRIPTION:Andreas Tribsch: Das EU-Renaturierungsgesetz im Gespräch \nDas EU-Renaturierungsgesetz\, auch „Nature Restauration Law – NRL“ genannt\, ist ein umfangreiches Vorhaben\, das bis 2030 auf 20% der Landesfläche degradierte Ökosysteme wiederherstellen will und nach sehr kontroverser Diskussion am 12.6.2023 vom Europaparlament verabschiedet wurde. Die Salzburger Regierung hat sich im Regierungsprogramm gegen das NRL positioniert\, dennoch müssen die Mitgliedstaaten in absehbarer Zeit hier aktiv werden. Wesentliche Bedenken kommen aus der Land- und Forstwirtschaft. Große Unterstützung kommt aber abseits der Wissenschaft auch von der Industrie und Klimabewegung\, zumal gesunde Ökosysteme viele Klimagase speichern oder weniger emittieren. Das NRL ein sehr fortschrittliches Gesetz\, zumal es Klima- und Naturschutz gemeinsam als Ziel hat. \nModeration: Kathrin Bachleitner\, Universität Salzburg \n11. Jänner 2024\, 18 Uhr\nSalzburg Centre of European Union Studies (SCEUS)\, Europasaal\nMönchsberg 2\, 5020 Salzburg\nZugang über den Toscaninihof oder die Mönchsberggarage
URL:https://www.wissensstadt-salzburg.at/event/forschung-von-nebenan-das-eu-renaturierungsgesetz-im-gespraech/
LOCATION:Salzburg Centre of European Union Studies\, Mönchsberg 2\, Salzburg\, Salzburg\, 5020\, Österreich
CATEGORIES:Präsentation & Vortrag
ATTACH;FMTTYPE=image/jpeg:https://www.wissensstadt-salzburg.at/wp-content/uploads/2023/03/Edmundsburg_kl.jpg
END:VEVENT
END:VCALENDAR