BEGIN:VCALENDAR
VERSION:2.0
PRODID:-//Wissensstadt Salzburg - ECPv6.15.13//NONSGML v1.0//EN
CALSCALE:GREGORIAN
METHOD:PUBLISH
X-WR-CALNAME:Wissensstadt Salzburg
X-ORIGINAL-URL:https://www.wissensstadt-salzburg.at
X-WR-CALDESC:Veranstaltungen für Wissensstadt Salzburg
REFRESH-INTERVAL;VALUE=DURATION:PT1H
X-Robots-Tag:noindex
X-PUBLISHED-TTL:PT1H
BEGIN:VTIMEZONE
TZID:Europe/Vienna
BEGIN:DAYLIGHT
TZOFFSETFROM:+0100
TZOFFSETTO:+0200
TZNAME:CEST
DTSTART:20230326T010000
END:DAYLIGHT
BEGIN:STANDARD
TZOFFSETFROM:+0200
TZOFFSETTO:+0100
TZNAME:CET
DTSTART:20231029T010000
END:STANDARD
BEGIN:DAYLIGHT
TZOFFSETFROM:+0100
TZOFFSETTO:+0200
TZNAME:CEST
DTSTART:20240331T010000
END:DAYLIGHT
BEGIN:STANDARD
TZOFFSETFROM:+0200
TZOFFSETTO:+0100
TZNAME:CET
DTSTART:20241027T010000
END:STANDARD
BEGIN:DAYLIGHT
TZOFFSETFROM:+0100
TZOFFSETTO:+0200
TZNAME:CEST
DTSTART:20250330T010000
END:DAYLIGHT
BEGIN:STANDARD
TZOFFSETFROM:+0200
TZOFFSETTO:+0100
TZNAME:CET
DTSTART:20251026T010000
END:STANDARD
END:VTIMEZONE
BEGIN:VEVENT
DTSTART;TZID=Europe/Vienna:20240422T190000
DTEND;TZID=Europe/Vienna:20240422T210000
DTSTAMP:20260420T144659
CREATED:20240402T101308Z
LAST-MODIFIED:20240402T101308Z
UID:8346-1713812400-1713819600@www.wissensstadt-salzburg.at
SUMMARY:Panorama:Uni: Die Römer in Salzburg
DESCRIPTION:Zu Gast sind die Altertumswissenschaftler:innen Lisa Huber und Felix Lang der Universität Salzburg. \nMontag\, 22. April 2024\, 19 Uhr\nPanoramabar Lehen\, Schumacherstraße 14
URL:https://www.wissensstadt-salzburg.at/event/panoramauni-die-roemer-in-salzburg/
LOCATION:Panoramabar\, Schumacherstraße 14\, Salzburg\, Salzburg\, 5020\, Österreich
CATEGORIES:Präsentation & Vortrag
ATTACH;FMTTYPE=image/jpeg:https://www.wissensstadt-salzburg.at/wp-content/uploads/2018/05/20180409_171302-Kopi_kl.jpg
END:VEVENT
END:VCALENDAR