BEGIN:VCALENDAR
VERSION:2.0
PRODID:-//Wissensstadt Salzburg - ECPv6.15.13//NONSGML v1.0//EN
CALSCALE:GREGORIAN
METHOD:PUBLISH
X-ORIGINAL-URL:https://www.wissensstadt-salzburg.at
X-WR-CALDESC:Veranstaltungen für Wissensstadt Salzburg
REFRESH-INTERVAL;VALUE=DURATION:PT1H
X-Robots-Tag:noindex
X-PUBLISHED-TTL:PT1H
BEGIN:VTIMEZONE
TZID:Europe/Vienna
BEGIN:DAYLIGHT
TZOFFSETFROM:+0100
TZOFFSETTO:+0200
TZNAME:CEST
DTSTART:20230326T010000
END:DAYLIGHT
BEGIN:STANDARD
TZOFFSETFROM:+0200
TZOFFSETTO:+0100
TZNAME:CET
DTSTART:20231029T010000
END:STANDARD
BEGIN:DAYLIGHT
TZOFFSETFROM:+0100
TZOFFSETTO:+0200
TZNAME:CEST
DTSTART:20240331T010000
END:DAYLIGHT
BEGIN:STANDARD
TZOFFSETFROM:+0200
TZOFFSETTO:+0100
TZNAME:CET
DTSTART:20241027T010000
END:STANDARD
BEGIN:DAYLIGHT
TZOFFSETFROM:+0100
TZOFFSETTO:+0200
TZNAME:CEST
DTSTART:20250330T010000
END:DAYLIGHT
BEGIN:STANDARD
TZOFFSETFROM:+0200
TZOFFSETTO:+0100
TZNAME:CET
DTSTART:20251026T010000
END:STANDARD
END:VTIMEZONE
BEGIN:VEVENT
DTSTART;TZID=Europe/Vienna:20240604T090000
DTEND;TZID=Europe/Vienna:20240604T100000
DTSTAMP:20260420T131755
CREATED:20240402T101725Z
LAST-MODIFIED:20240502T075140Z
UID:8350-1717491600-1717495200@www.wissensstadt-salzburg.at
SUMMARY:Spezialführung zu Archivalien zum Generalthema „grenzen*los“
DESCRIPTION:Tag des Archivs im Salzburger Landesarchiv  \nDem heurigen Generalthema „grenzen*los“ folgend\, werden bei den Führungen Archivalien vorgestellt\, die sich mit den Salzburger Grenzen beschäftigen. Jene Gebiete im heutigen Bayern\, die bis 1816 zu Salzburg gehörten\, und der damit im Zusammenhang stehenden archivalischen Überlieferung wird bei den Führungen besonderes Augenmerk gewidmet. Zudem zeigen ausgestellte Archivalien die gerade im 20. Jahrhundert „unruhige Grenze“ zwischen Salzburg und Bayern sowie den schrittweisen Abbau der Grenze mit den Kontrollen bis zur heutigen Situation nach EU-Beitritt und „Schengen-Abkommen“. \nNeben grundlegenden Informationen zu den jahrhundertealten Beständen im Salzburger Landesarchiv erhalten Interessierte Einblick in die Arbeitswelt der Restaurator:innen und Buchbinder:innen. Als Besonderheit wird ein Rundgang durch den Werkstättenbereich angeboten\, der nach erfolgter Sanierung an diesem Tag erstmals der Öffentlichkeit vorgestellt wird. Die Archivar:innen sowie die Mitarbeiter:innen der archiveigenen Werkstätten stehen auch für individuelle Fragen gerne zur Verfügung. \nEs werden den Teilnehmenden wertvolle Archivalien vorgestellt\, die sonst oftmals nur als Reproduktionen zur Verfügung stehen. Archivar-Expert:innen geben im Rahmen von Führungen einen Einblick in die Bestände des Landesarchivs. \n\nSpezialführungen zu Archivalien zum Generalthema „grenzen*los“: 09:00\, 11:00\, 13:00\, 15:00 Uhr; jeweils anschließend:\nBesichtigung des neu sanierten Werkstättenbereiches mit Beratung durch Restaurator:innen\n\nDauer: ca. 1 Stunde\nAnmeldung: bis 3. Juni 2024 an landesarchiv@salzburg.gv.at / 0662 8042 4527\nmax. 15 Personen pro Termin\nOrt: Salzburger Landesarchiv\, Michael-Pacher-Straße 40 \nParallel dazu werden im Benutzersaal Quellen zum Thema „Emigration 1731 – Salzburg grenzt aus“ präsentiert sowie bei einem Bücherflohmarkt im Foyer mit Schwerpunkt Salisburgensia Publikationen angeboten. (Keine Anmeldung erforderlich!)
URL:https://www.wissensstadt-salzburg.at/event/salzburger-landesarchiv-spezialfuehrungen-zu-archivalien-zum-generalthema-grenzenlos/
LOCATION:Salzburger Landesarchiv\, Michael-Pacher-Straße 40\, Salzburg\, 5020\, Austria
CATEGORIES:Führung & Spaziergang,Tag der offenen Tür
ATTACH;FMTTYPE=image/jpeg:https://www.wissensstadt-salzburg.at/wp-content/uploads/2020/06/DSC08539_kl.jpg
END:VEVENT
BEGIN:VEVENT
DTSTART;TZID=Europe/Vienna:20240604T100000
DTEND;TZID=Europe/Vienna:20240604T110000
DTSTAMP:20260420T131755
CREATED:20240402T102754Z
LAST-MODIFIED:20240402T124917Z
UID:8368-1717495200-1717498800@www.wissensstadt-salzburg.at
SUMMARY:Weit über die Grenzen hinaus berühmt – „Stille Nacht“ und andere Weihnachtslieder in Salzburger Quellen
DESCRIPTION:Wertvolle Autographe des weltberühmtesten Weihnachtsliedes und andere musikalische Schätze aus der Handschriftensammlung des Salzburg Museum werden in diesem gemeinschaftlichen Vortrag von Historikern und Musikwissenschaftler:innen lebendig. \nDie Veranstaltung ist eine Kooperation von Salzburg Museum\, Salzburger Volksliedwerk und Salzburger Volkskultur. \nKeine Anmeldung erforderlich!\nOrt: Wissenszentrum Alpenstraße\, Alpenstraße 75
URL:https://www.wissensstadt-salzburg.at/event/weit-ueber-die-grenzen-hinaus-beruehmt-stille-nacht-und-andere-weihnachtslieder-in-salzburger-quellen/
LOCATION:Wissenszentrum Alpenstraße\, Alpenstraße 75\, Salzburg\, Salzburg\, 5020\, Austria
CATEGORIES:Präsentation & Vortrag
END:VEVENT
BEGIN:VEVENT
DTSTART;TZID=Europe/Vienna:20240604T100000
DTEND;TZID=Europe/Vienna:20240604T120000
DTSTAMP:20260420T131755
CREATED:20240402T102315Z
LAST-MODIFIED:20240402T123023Z
UID:8364-1717495200-1717502400@www.wissensstadt-salzburg.at
SUMMARY:Grenzenloses Wachstum in einer begrenzten Welt? Gespräche über (Un-)Mögliches
DESCRIPTION:Wer sind hier die naiven Träumer:innen? Die\, die glauben\, dass ein grenzenloser Raubbau an Natur und Mensch und dessen Folgen in einer begrenzten Welt in die Katastrophe führt\, oder jene\, die weiterhin am Credo von Wachstum um jeden Preis festhalten. Leopold Kohr hat schon vor mehr als 70 Jahren vor den Folgen unkontrollierten Wachstums gewarnt. Mit Einblicken in sein geistiges Erbe wird erklärt\, warum er schon in den 1960er Jahren Plätze statt Straßen forderte und was er gegen den Aspirin-Lebensstandard zu tun gedachte. \nKeine Anmeldung erforderlich! \nOrt: Leopold Kohr Archiv\, Universität Salzburg\, Gesellschaftswissenschaftliche Fakultät\, Rudolfskai 42\, Raum U14 (Eingang Rudolfskai\, Stiege in das Untergeschoss\, dann rechts\, den Gang geradeaus)
URL:https://www.wissensstadt-salzburg.at/event/grenzenloses-wachstum-in-einer-begrenzten-welt-gespraeche-ueber-un-moegliches/
LOCATION:Leopold Kohr Archiv\, Universität Salzburg\, Rudolfskai 42\, Salzburg\, 5020\, Austria
CATEGORIES:Führung & Spaziergang
ATTACH;FMTTYPE=image/jpeg:https://www.wissensstadt-salzburg.at/wp-content/uploads/2019/04/DSC08434_kl.jpg
END:VEVENT
BEGIN:VEVENT
DTSTART;TZID=Europe/Vienna:20240604T110000
DTEND;TZID=Europe/Vienna:20240604T120000
DTSTAMP:20260420T131755
CREATED:20240402T101803Z
LAST-MODIFIED:20240502T075003Z
UID:8353-1717498800-1717502400@www.wissensstadt-salzburg.at
SUMMARY:Spezialführung zu Archivalien zum Generalthema „grenzen*los“
DESCRIPTION:Tag des Archivs im Salzburger Landesarchiv  \nDem heurigen Generalthema „grenzen*los“ folgend\, werden bei den Führungen Archivalien vorgestellt\, die sich mit den Salzburger Grenzen beschäftigen. Jene Gebiete im heutigen Bayern\, die bis 1816 zu Salzburg gehörten\, und der damit im Zusammenhang stehenden archivalischen Überlieferung wird bei den Führungen besonderes Augenmerk gewidmet. Zudem zeigen ausgestellte Archivalien die gerade im 20. Jahrhundert „unruhige Grenze“ zwischen Salzburg und Bayern sowie den schrittweisen Abbau der Grenze mit den Kontrollen bis zur heutigen Situation nach EU-Beitritt und „Schengen-Abkommen“. \nNeben grundlegenden Informationen zu den jahrhundertealten Beständen im Salzburger Landesarchiv erhalten Interessierte Einblick in die Arbeitswelt der Restaurator:innen und Buchbinder:innen. Als Besonderheit wird ein Rundgang durch den Werkstättenbereich angeboten\, der nach erfolgter Sanierung an diesem Tag erstmals der Öffentlichkeit vorgestellt wird. Die Archivar:innen sowie die Mitarbeiter:innen der archiveigenen Werkstätten stehen auch für individuelle Fragen gerne zur Verfügung. \nEs werden den Teilnehmenden wertvolle Archivalien vorgestellt\, die sonst oftmals nur als Reproduktionen zur Verfügung stehen. Archivar-Expert:innen geben im Rahmen von Führungen einen Einblick in die Bestände des Landesarchivs. \n\nSpezialführungen zu Archivalien zum Generalthema „grenzen*los“: 09:00\, 11:00\, 13:00\, 15:00 Uhr; jeweils anschließend:\nBesichtigung des neu sanierten Werkstättenbereiches mit Beratung durch Restaurator:innen\n\nDauer: ca. 1 Stunde\nAnmeldung: bis 3. Juni 2024 an landesarchiv@salzburg.gv.at / 0662 8042 4527\nmax. 15 Personen pro Termin\nOrt: Salzburger Landesarchiv\, Michael-Pacher-Straße 40 \nParallel dazu werden im Benutzersaal Quellen zum Thema „Emigration 1731 – Salzburg grenzt aus“ präsentiert sowie bei einem Bücherflohmarkt im Foyer mit Schwerpunkt Salisburgensia Publikationen angeboten. (Keine Anmeldung erforderlich!)
URL:https://www.wissensstadt-salzburg.at/event/salzburger-landesarchiv-spezialfuehrungen-zu-archivalien-zum-generalthema-grenzenlos-2/
LOCATION:Salzburger Landesarchiv\, Michael-Pacher-Straße 40\, Salzburg\, 5020\, Austria
CATEGORIES:Führung & Spaziergang,Tag der offenen Tür
ATTACH;FMTTYPE=image/jpeg:https://www.wissensstadt-salzburg.at/wp-content/uploads/2020/06/DSC08539_kl.jpg
END:VEVENT
BEGIN:VEVENT
DTSTART;TZID=Europe/Vienna:20240604T120000
DTEND;TZID=Europe/Vienna:20240604T130000
DTSTAMP:20260420T131755
CREATED:20240402T103242Z
LAST-MODIFIED:20240402T123508Z
UID:8372-1717502400-1717506000@www.wissensstadt-salzburg.at
SUMMARY:Tanz bewahren – Tanz erleben. Archiv und künstlerische Praxis
DESCRIPTION:Die Führung gibt Einblicke in die Bestände des Archivs und zeigt die vielfältigen Verflechtungen zwischen Archiv\, Wissenschaft und künstlerischer Praxis auf. Als Beispiel dient das wissenschaftlich- künstlerische Projekt Idomeneo Chaconne: Nach Bildquellen aus den Derra de Moroda Dance Archives entstanden zum Mozart-Jahr 2006 zwei Tanzkostüme\, die Dramaturgie\, Ästhetik und Choreografie einer Performance zur Chaconne aus Mozarts Oper Idomeneo im neueröffneten Haus für Mozart inspirierten. \nDauer: 1 Stunde\nKeine Anmeldung erforderlich!\nmax. 20 Personen\nOrt: Derra de Moroda Dance Archives\, Unipark Nonntal\, 1. UG\, Infotheke Bibliothek
URL:https://www.wissensstadt-salzburg.at/event/tanz-bewahren-tanz-erleben-archiv-und-kuenstlerische-praxis/
LOCATION:Derra de Moroda Dance Archives\, Unipark\, Erzabt-Klotz-Straße 1\, Salzburg\, 5020\, Austria
CATEGORIES:Führung & Spaziergang,Präsentation & Vortrag
END:VEVENT
BEGIN:VEVENT
DTSTART;TZID=Europe/Vienna:20240604T130000
DTEND;TZID=Europe/Vienna:20240604T140000
DTSTAMP:20260420T131755
CREATED:20240402T101858Z
LAST-MODIFIED:20240502T074928Z
UID:8358-1717506000-1717509600@www.wissensstadt-salzburg.at
SUMMARY:Spezialführung zu Archivalien zum Generalthema „grenzen*los“
DESCRIPTION:Tag des Archivs im Salzburger Landesarchiv  \nDem heurigen Generalthema „grenzen*los“ folgend\, werden bei den Führungen Archivalien vorgestellt\, die sich mit den Salzburger Grenzen beschäftigen. Jene Gebiete im heutigen Bayern\, die bis 1816 zu Salzburg gehörten\, und der damit im Zusammenhang stehenden archivalischen Überlieferung wird bei den Führungen besonderes Augenmerk gewidmet. Zudem zeigen ausgestellte Archivalien die gerade im 20. Jahrhundert „unruhige Grenze“ zwischen Salzburg und Bayern sowie den schrittweisen Abbau der Grenze mit den Kontrollen bis zur heutigen Situation nach EU-Beitritt und „Schengen-Abkommen“. \nNeben grundlegenden Informationen zu den jahrhundertealten Beständen im Salzburger Landesarchiv erhalten Interessierte Einblick in die Arbeitswelt der Restaurator:innen und Buchbinder:innen. Als Besonderheit wird ein Rundgang durch den Werkstättenbereich angeboten\, der nach erfolgter Sanierung an diesem Tag erstmals der Öffentlichkeit vorgestellt wird. Die Archivar:innen sowie die Mitarbeiter:innen der archiveigenen Werkstätten stehen auch für individuelle Fragen gerne zur Verfügung. \nEs werden den Teilnehmenden wertvolle Archivalien vorgestellt\, die sonst oftmals nur als Reproduktionen zur Verfügung stehen. Archivar-Expert:innen geben im Rahmen von Führungen einen Einblick in die Bestände des Landesarchivs. \n\nSpezialführungen zu Archivalien zum Generalthema „grenzen*los“: 09:00\, 11:00\, 13:00\, 15:00 Uhr; jeweils anschließend:\nBesichtigung des neu sanierten Werkstättenbereiches mit Beratung durch Restaurator:innen\n\nDauer: ca. 1 Stunde\nAnmeldung: bis 3. Juni 2024 an landesarchiv@salzburg.gv.at / 0662 8042 4527\nmax. 15 Personen pro Termin\nOrt: Salzburger Landesarchiv\, Michael-Pacher-Straße 40 \nParallel dazu werden im Benutzersaal Quellen zum Thema „Emigration 1731 – Salzburg grenzt aus“ präsentiert sowie bei einem Bücherflohmarkt im Foyer mit Schwerpunkt Salisburgensia Publikationen angeboten. (Keine Anmeldung erforderlich!)
URL:https://www.wissensstadt-salzburg.at/event/salzburger-landesarchiv-spezialfuehrungen-zu-archivalien-zum-generalthema-grenzenlos-2-2/
LOCATION:Salzburger Landesarchiv\, Michael-Pacher-Straße 40\, Salzburg\, 5020\, Austria
CATEGORIES:Führung & Spaziergang,Tag der offenen Tür
ATTACH;FMTTYPE=image/jpeg:https://www.wissensstadt-salzburg.at/wp-content/uploads/2020/06/DSC08539_kl.jpg
END:VEVENT
BEGIN:VEVENT
DTSTART;TZID=Europe/Vienna:20240604T140000
DTEND;TZID=Europe/Vienna:20240604T150000
DTSTAMP:20260420T131755
CREATED:20240402T103648Z
LAST-MODIFIED:20240402T103648Z
UID:8377-1717509600-1717513200@www.wissensstadt-salzburg.at
SUMMARY:Grenzenlos improvisieren? Tobi Reiser (1907–1974) zwischen Volks- und Darbietungsmusik
DESCRIPTION:Er brachte Volksmusik vom Tanzboden auf die Bühne und schuf mit seinen Arrangements ein kanonisiertes\, vom Notenblatt zu spielendes Repertoire. Im Duo und Trio allerdings wurde weiterhin improvisiert\, mit erstaunlicher musikalischer Offenheit. Erfahren Sie\, wie unterschiedlich „die Volksmusik“ klingen kann. \nKeine Anmeldung erforderlich! \nDie Veranstaltung ist eine Zusammenarbeit von Salzburger Volksliedwerk und Salzburger Volkskultur und Salzburg Museum.
URL:https://www.wissensstadt-salzburg.at/event/grenzenlos-improvisieren-tobi-reiser-1907-1974-zwischen-volks-und-darbietungsmusik/
LOCATION:Haus der Volkskulturen\, Zugallistraße 10\, Salzburg\, 5020\, Austria
CATEGORIES:Präsentation & Vortrag
END:VEVENT
BEGIN:VEVENT
DTSTART;TZID=Europe/Vienna:20240604T150000
DTEND;TZID=Europe/Vienna:20240604T160000
DTSTAMP:20260420T131755
CREATED:20240402T101934Z
LAST-MODIFIED:20240502T074900Z
UID:8361-1717513200-1717516800@www.wissensstadt-salzburg.at
SUMMARY:Spezialführung zu Archivalien zum Generalthema „grenzen*los“
DESCRIPTION:Tag des Archivs im Salzburger Landesarchiv  \nDem heurigen Generalthema „grenzen*los“ folgend\, werden bei den Führungen Archivalien vorgestellt\, die sich mit den Salzburger Grenzen beschäftigen. Jene Gebiete im heutigen Bayern\, die bis 1816 zu Salzburg gehörten\, und der damit im Zusammenhang stehenden archivalischen Überlieferung wird bei den Führungen besonderes Augenmerk gewidmet. Zudem zeigen ausgestellte Archivalien die gerade im 20. Jahrhundert „unruhige Grenze“ zwischen Salzburg und Bayern sowie den schrittweisen Abbau der Grenze mit den Kontrollen bis zur heutigen Situation nach EU-Beitritt und „Schengen-Abkommen“. \nNeben grundlegenden Informationen zu den jahrhundertealten Beständen im Salzburger Landesarchiv erhalten Interessierte Einblick in die Arbeitswelt der Restaurator:innen und Buchbinder:innen. Als Besonderheit wird ein Rundgang durch den Werkstättenbereich angeboten\, der nach erfolgter Sanierung an diesem Tag erstmals der Öffentlichkeit vorgestellt wird. Die Archivar:innen sowie die Mitarbeiter:innen der archiveigenen Werkstätten stehen auch für individuelle Fragen gerne zur Verfügung. \nEs werden den Teilnehmenden wertvolle Archivalien vorgestellt\, die sonst oftmals nur als Reproduktionen zur Verfügung stehen. Archivar-Expert:innen geben im Rahmen von Führungen einen Einblick in die Bestände des Landesarchivs. \n\nSpezialführungen zu Archivalien zum Generalthema „grenzen*los“: 09:00\, 11:00\, 13:00\, 15:00 Uhr; jeweils anschließend:\nBesichtigung des neu sanierten Werkstättenbereiches mit Beratung durch Restaurator:innen\n\nDauer: ca. 1 Stunde\nAnmeldung: bis 3. Juni 2024 an landesarchiv@salzburg.gv.at / 0662 8042 4527\nmax. 15 Personen pro Termin\nOrt: Salzburger Landesarchiv\, Michael-Pacher-Straße 40 \nParallel dazu werden im Benutzersaal Quellen zum Thema „Emigration 1731 – Salzburg grenzt aus“ präsentiert sowie bei einem Bücherflohmarkt im Foyer mit Schwerpunkt Salisburgensia Publikationen angeboten. (Keine Anmeldung erforderlich!)
URL:https://www.wissensstadt-salzburg.at/event/salzburger-landesarchiv-spezialfuehrungen-zu-archivalien-zum-generalthema-grenzenlos-2-2-2/
LOCATION:Salzburger Landesarchiv\, Michael-Pacher-Straße 40\, Salzburg\, 5020\, Austria
CATEGORIES:Führung & Spaziergang,Tag der offenen Tür
ATTACH;FMTTYPE=image/jpeg:https://www.wissensstadt-salzburg.at/wp-content/uploads/2020/06/DSC08539_kl.jpg
END:VEVENT
BEGIN:VEVENT
DTSTART;TZID=Europe/Vienna:20240604T160000
DTEND;TZID=Europe/Vienna:20240604T170000
DTSTAMP:20260420T131755
CREATED:20240402T104041Z
LAST-MODIFIED:20240402T104041Z
UID:8381-1717516800-1717520400@www.wissensstadt-salzburg.at
SUMMARY:„Wahrhaft grenzenlos“ Festspiel-Geschichte erzählen – zum 150. Geburtstag von Hugo von Hofmannsthal
DESCRIPTION:Pantomime\, Drama\, Lust- und Trauerspiel\, Opernlibretto\, Moralität und Mysterienspiel\, Traktat und Programmatik. Das vielfältige Werk Hugo von Hofmannsthals\, das sich über Gattungsgrenzen hinweg spannt\, wird im Spiegel der Aufführungen bei den Salzburger Festspielen und anhand der Bestände des Festspielarchivs betrachtet. \nDauer: 1 Stunde\nAnmeldung: archiv@salzburgfestival.at\nmax. 15 Personen\nOrt: Archiv der Salzburger Festspiele\, Neutorstraße 25
URL:https://www.wissensstadt-salzburg.at/event/wahrhaft-grenzenlos-festspiel-geschichte-erzaehlen-zum-150-geburtstag-von-hugo-von-hofmannsthal/
LOCATION:Archiv der Salzburger Festspiele\, Neutorstraße 25\, Salzburg\, 5020\, Austria
CATEGORIES:Führung & Spaziergang
ATTACH;FMTTYPE=image/jpeg:https://www.wissensstadt-salzburg.at/wp-content/uploads/2019/04/DSC06052_kl.jpg
END:VEVENT
BEGIN:VEVENT
DTSTART;TZID=Europe/Vienna:20240604T170000
DTEND;TZID=Europe/Vienna:20240604T180000
DTSTAMP:20260420T131755
CREATED:20240402T104323Z
LAST-MODIFIED:20240402T104323Z
UID:8386-1717520400-1717524000@www.wissensstadt-salzburg.at
SUMMARY:Sichtbare und unsichtbare Grenzen. Migrationen nach Salzburg
DESCRIPTION:Menschen waren und sind auf ihren Migrationswegen über natürliche\, städtische und nationalstaatliche Grenzen hinweg unterwegs. Zu diesen „sichtbaren“ kommen oftmals „unsichtbare“ Grenzen\, in sprachlicher oder kultureller Hinsicht\, mit denen die Migrant:innen konfrontiert sind. Was bedeuten diese unterschiedlichen Herausforderungen für sie\, wie gehen sie damit um? Eine Spurensuche im Migrationsarchiv der Stadt Salzburg. \nKeine Anmeldung erforderlich! \nOrt: Haus der Stadtgeschichte\, Glockengasse 8
URL:https://www.wissensstadt-salzburg.at/event/sichtbare-und-unsichtbare-grenzen-migrationen-nach-salzburg/
LOCATION:Haus der Stadtgeschichte\, Glockengasse 8\, Salzburg\, 5020\, Austria
CATEGORIES:Präsentation & Vortrag
ATTACH;FMTTYPE=image/jpeg:https://www.wissensstadt-salzburg.at/wp-content/uploads/2019/08/Migrationsarchiv_cSilvia-Panzl-Schmoller_kl_2.jpg
END:VEVENT
BEGIN:VEVENT
DTSTART;TZID=Europe/Vienna:20240604T180000
DTEND;TZID=Europe/Vienna:20240604T190000
DTSTAMP:20260420T131755
CREATED:20240402T104535Z
LAST-MODIFIED:20240402T123648Z
UID:8389-1717524000-1717527600@www.wissensstadt-salzburg.at
SUMMARY:Grenzüberschreitung und Exil: Edith Tudor-Hart
DESCRIPTION:Nach einer kurzen Führung durch das FOTOHOF archiv präsentieren wir unsere Arbeit mit dem Werk von Edith Tudor-Hart und zeichnen ihre Lebenslinien von ihrer Arbeit in Wien zu ihrer Flucht nach England und ihrer fotografischen und politischen Arbeit in ihrem Exil. Das FOTOHOF archiv verfügt über ihren gesamten Nachlass und zahlreiche Dokumente\, die den Besucher:innen während dieser Führung präsentiert werden. Während der Tage der Archive zeigt der FOTHOF auch eine Retrospektive ihres Werkes in der Galerie. \nKeine Anmeldung erforderlich! \nOrt: FOTOHOF archiv\, Sparkassenstraße 2
URL:https://www.wissensstadt-salzburg.at/event/grenzueberschreitung-und-exil-edith-tudor-hart/
LOCATION:Fotohof Archiv\, Sparkassenstraße 2\, Salzburg\, Salzburg\, 5020\, Austria
CATEGORIES:Führung & Spaziergang,Präsentation & Vortrag
ATTACH;FMTTYPE=image/jpeg:https://www.wissensstadt-salzburg.at/wp-content/uploads/2017/04/image1186.jpg
END:VEVENT
BEGIN:VEVENT
DTSTART;TZID=Europe/Vienna:20240604T193000
DTEND;TZID=Europe/Vienna:20240604T203000
DTSTAMP:20260420T131755
CREATED:20240402T104723Z
LAST-MODIFIED:20240402T104801Z
UID:8392-1717529400-1717533000@www.wissensstadt-salzburg.at
SUMMARY:»über Grenzen sprechend« (Salzburger Bachmann Edition)
DESCRIPTION:Barbara Agnese (Universität Montreal) präsentiert die von ihr herausgegebenen Briefwechsel Ingeborg Bachmanns mit Marie Luise Kaschnitz\, Hilde Domin und Nelly Sachs. Das Zentrum dieser Dokumente bildet die Frage\, wie nach der Shoah weitergelebt und weitergeschrieben werden kann. Der Kommentar bringt die Werke der Autorinnen miteinander ins Gespräch. \nLesung: Alexandra Tichy\, Katharina Wawrik\nKeine Anmeldung erforderlich!
URL:https://www.wissensstadt-salzburg.at/event/ueber-grenzen-sprechend-salzburger-bachmann-edition/
LOCATION:Edmundsburg\, Mönchsberg 2\, Salzburg\, 5020\, Austria
CATEGORIES:Präsentation & Vortrag
ORGANIZER;CN="Literaturarchiv Salzburg":MAILTO:literaturarchiv@plus.ac.at
END:VEVENT
END:VCALENDAR