BEGIN:VCALENDAR
VERSION:2.0
PRODID:-//Wissensstadt Salzburg - ECPv6.15.13//NONSGML v1.0//EN
CALSCALE:GREGORIAN
METHOD:PUBLISH
X-ORIGINAL-URL:https://www.wissensstadt-salzburg.at
X-WR-CALDESC:Veranstaltungen für Wissensstadt Salzburg
REFRESH-INTERVAL;VALUE=DURATION:PT1H
X-Robots-Tag:noindex
X-PUBLISHED-TTL:PT1H
BEGIN:VTIMEZONE
TZID:Europe/Vienna
BEGIN:DAYLIGHT
TZOFFSETFROM:+0100
TZOFFSETTO:+0200
TZNAME:CEST
DTSTART:20230326T010000
END:DAYLIGHT
BEGIN:STANDARD
TZOFFSETFROM:+0200
TZOFFSETTO:+0100
TZNAME:CET
DTSTART:20231029T010000
END:STANDARD
BEGIN:DAYLIGHT
TZOFFSETFROM:+0100
TZOFFSETTO:+0200
TZNAME:CEST
DTSTART:20240331T010000
END:DAYLIGHT
BEGIN:STANDARD
TZOFFSETFROM:+0200
TZOFFSETTO:+0100
TZNAME:CET
DTSTART:20241027T010000
END:STANDARD
BEGIN:DAYLIGHT
TZOFFSETFROM:+0100
TZOFFSETTO:+0200
TZNAME:CEST
DTSTART:20250330T010000
END:DAYLIGHT
BEGIN:STANDARD
TZOFFSETFROM:+0200
TZOFFSETTO:+0100
TZNAME:CET
DTSTART:20251026T010000
END:STANDARD
END:VTIMEZONE
BEGIN:VEVENT
DTSTART;TZID=Europe/Vienna:20241120T190000
DTEND;TZID=Europe/Vienna:20241120T210000
DTSTAMP:20260420T191119
CREATED:20240924T054939Z
LAST-MODIFIED:20240924T054939Z
UID:19412-1732129200-1732136400@www.wissensstadt-salzburg.at
SUMMARY:Forschung von nebenan: Europäische Einigung auf dem Prüfstand? 
DESCRIPTION:Lucia Schulten: Europäische Einigung auf dem Prüfstand?  \nKontrollen im Schengenraum\, Migration\, die Wahrung der Rechtsstaatlichkeit\, Rechtsruck und Krieg in der unmittelbaren Nachbarschaft. Die Europäische Union sieht sich vor Herausforderungen gestellt\, die mitunter an ihren Grundfesten rütteln. Was bedeutet dies und inwieweit verändern sie die Europäische Union? \n20. November 2024\, 19 Uhr\nSalzburg Centre of European Union Studies (SCEUS)\, Mönchsberg 2\, Europasaal
URL:https://www.wissensstadt-salzburg.at/event/forschung-von-nebenan-europaeische-einigung-auf-dem-pruefstand/
LOCATION:Salzburg Centre of European Union Studies\, Mönchsberg 2\, Salzburg\, Salzburg\, 5020\, Österreich
CATEGORIES:Präsentation & Vortrag
ATTACH;FMTTYPE=image/jpeg:https://www.wissensstadt-salzburg.at/wp-content/uploads/2023/03/Edmundsburg_kl.jpg
END:VEVENT
END:VCALENDAR