BEGIN:VCALENDAR
VERSION:2.0
PRODID:-//Wissensstadt Salzburg - ECPv6.15.13//NONSGML v1.0//EN
CALSCALE:GREGORIAN
METHOD:PUBLISH
X-ORIGINAL-URL:https://www.wissensstadt-salzburg.at
X-WR-CALDESC:Veranstaltungen für Wissensstadt Salzburg
REFRESH-INTERVAL;VALUE=DURATION:PT1H
X-Robots-Tag:noindex
X-PUBLISHED-TTL:PT1H
BEGIN:VTIMEZONE
TZID:Europe/Vienna
BEGIN:DAYLIGHT
TZOFFSETFROM:+0100
TZOFFSETTO:+0200
TZNAME:CEST
DTSTART:20230326T010000
END:DAYLIGHT
BEGIN:STANDARD
TZOFFSETFROM:+0200
TZOFFSETTO:+0100
TZNAME:CET
DTSTART:20231029T010000
END:STANDARD
BEGIN:DAYLIGHT
TZOFFSETFROM:+0100
TZOFFSETTO:+0200
TZNAME:CEST
DTSTART:20240331T010000
END:DAYLIGHT
BEGIN:STANDARD
TZOFFSETFROM:+0200
TZOFFSETTO:+0100
TZNAME:CET
DTSTART:20241027T010000
END:STANDARD
BEGIN:DAYLIGHT
TZOFFSETFROM:+0100
TZOFFSETTO:+0200
TZNAME:CEST
DTSTART:20250330T010000
END:DAYLIGHT
BEGIN:STANDARD
TZOFFSETFROM:+0200
TZOFFSETTO:+0100
TZNAME:CET
DTSTART:20251026T010000
END:STANDARD
END:VTIMEZONE
BEGIN:VEVENT
DTSTART;TZID=Europe/Vienna:20241121T190000
DTEND;TZID=Europe/Vienna:20241121T210000
DTSTAMP:20260420T203933
CREATED:20240828T104059Z
LAST-MODIFIED:20240828T104059Z
UID:10142-1732215600-1732222800@www.wissensstadt-salzburg.at
SUMMARY:Out of the box: Vergessene Stimmen – Frauen der Elisabeth-Vorstadt / Vernissage
DESCRIPTION:Die Ausstellung der angehenden Historikerin Verena Deisl zeigt Frauengeschichte(n) aus der Elisabeth-Vorstadt. Dabei verknüpft sie historische und aktuelle Lebensrealitäten von Frauen mit der Geschichte des Stadtteils. \nDonnerstag\, 21.11.2024\, 19:00 Uhr\nOrt: BWS Elisabeth-Vorstadt\, Elisabethstraße 9 \nEintritt frei!\nAnmeldung: Tel.: 0664/8273463 | E-Mail: bws.evorstadt@diakoniewerk.at \n\nDas Projekt wurde mit dem „Out of the box“-Preis 2024 der Stadt Salzburg ausgezeichnet.
URL:https://www.wissensstadt-salzburg.at/event/out-of-the-box-vergessene-stimmen-frauen-der-elisabeth-vorstadt-vernissage/
LOCATION:Bewohnerservice Elisabeth-Vorstadt\, Elisabethstraße 9\, Salzburg\, Salzburg\, 5020\, Österreich
CATEGORIES:Ausstellung & Messe
END:VEVENT
END:VCALENDAR