BEGIN:VCALENDAR
VERSION:2.0
PRODID:-//Wissensstadt Salzburg - ECPv6.15.13//NONSGML v1.0//EN
CALSCALE:GREGORIAN
METHOD:PUBLISH
X-ORIGINAL-URL:https://www.wissensstadt-salzburg.at
X-WR-CALDESC:Veranstaltungen für Wissensstadt Salzburg
REFRESH-INTERVAL;VALUE=DURATION:PT1H
X-Robots-Tag:noindex
X-PUBLISHED-TTL:PT1H
BEGIN:VTIMEZONE
TZID:Europe/Vienna
BEGIN:DAYLIGHT
TZOFFSETFROM:+0100
TZOFFSETTO:+0200
TZNAME:CEST
DTSTART:20230326T010000
END:DAYLIGHT
BEGIN:STANDARD
TZOFFSETFROM:+0200
TZOFFSETTO:+0100
TZNAME:CET
DTSTART:20231029T010000
END:STANDARD
BEGIN:DAYLIGHT
TZOFFSETFROM:+0100
TZOFFSETTO:+0200
TZNAME:CEST
DTSTART:20240331T010000
END:DAYLIGHT
BEGIN:STANDARD
TZOFFSETFROM:+0200
TZOFFSETTO:+0100
TZNAME:CET
DTSTART:20241027T010000
END:STANDARD
BEGIN:DAYLIGHT
TZOFFSETFROM:+0100
TZOFFSETTO:+0200
TZNAME:CEST
DTSTART:20250330T010000
END:DAYLIGHT
BEGIN:STANDARD
TZOFFSETFROM:+0200
TZOFFSETTO:+0100
TZNAME:CET
DTSTART:20251026T010000
END:STANDARD
END:VTIMEZONE
BEGIN:VEVENT
DTSTART;TZID=Europe/Vienna:20241128T153000
DTEND;TZID=Europe/Vienna:20241128T173000
DTSTAMP:20260420T171806
CREATED:20240828T102849Z
LAST-MODIFIED:20240930T145447Z
UID:10134-1732807800-1732815000@www.wissensstadt-salzburg.at
SUMMARY:Out of the box: „It's Tea Time“ – Kunst zu Gast in Itzling / Finissage
DESCRIPTION:Die im Oktober bei „It’s Tea Time“ gemeinsam gemalten Werke werden bei einer abschließenden Finissage nochmals besichtigt. Einige der Bilder werden für den guten Zweck versteigert. Musikalisch begleitet wird der Nachmittag von dem Gitarristen Bogdan Tyshchenko. \nFinissage mit Musik von Bogdan Tyshchenko\, Kunstversteigerung\nFreitag\, 28.11.2024\, 15:30 Uhr \nOrt: Volkshilfe Klub Itzling\, Kirchenstraße 55a \nKeine Anmeldung erforderlich. Eintritt frei!\nDas Projekt wurde mit dem „Out of the box“-Preis 2024 der Stadt Salzburg ausgezeichnet.
URL:https://www.wissensstadt-salzburg.at/event/out-of-the-box-its-tea-time-kunst-zu-gast-in-itzling-2/
LOCATION:Volkshilfe Klub Itzling\, Kirchenstraße 55a\, Salzburg\, Salzburg\, 5020\, Österreich
CATEGORIES:Ausstellung & Messe
END:VEVENT
END:VCALENDAR