BEGIN:VCALENDAR
VERSION:2.0
PRODID:-//Wissensstadt Salzburg - ECPv6.15.13//NONSGML v1.0//EN
CALSCALE:GREGORIAN
METHOD:PUBLISH
X-ORIGINAL-URL:https://www.wissensstadt-salzburg.at
X-WR-CALDESC:Veranstaltungen für Wissensstadt Salzburg
REFRESH-INTERVAL;VALUE=DURATION:PT1H
X-Robots-Tag:noindex
X-PUBLISHED-TTL:PT1H
BEGIN:VTIMEZONE
TZID:Europe/Vienna
BEGIN:DAYLIGHT
TZOFFSETFROM:+0100
TZOFFSETTO:+0200
TZNAME:CEST
DTSTART:20240331T010000
END:DAYLIGHT
BEGIN:STANDARD
TZOFFSETFROM:+0200
TZOFFSETTO:+0100
TZNAME:CET
DTSTART:20241027T010000
END:STANDARD
BEGIN:DAYLIGHT
TZOFFSETFROM:+0100
TZOFFSETTO:+0200
TZNAME:CEST
DTSTART:20250330T010000
END:DAYLIGHT
BEGIN:STANDARD
TZOFFSETFROM:+0200
TZOFFSETTO:+0100
TZNAME:CET
DTSTART:20251026T010000
END:STANDARD
BEGIN:DAYLIGHT
TZOFFSETFROM:+0100
TZOFFSETTO:+0200
TZNAME:CEST
DTSTART:20260329T010000
END:DAYLIGHT
BEGIN:STANDARD
TZOFFSETFROM:+0200
TZOFFSETTO:+0100
TZNAME:CET
DTSTART:20261025T010000
END:STANDARD
END:VTIMEZONE
BEGIN:VEVENT
DTSTART;TZID=Europe/Vienna:20250604T100000
DTEND;TZID=Europe/Vienna:20250604T113000
DTSTAMP:20260420T171804
CREATED:20250402T112123Z
LAST-MODIFIED:20250403T053604Z
UID:20812-1749031200-1749036600@www.wissensstadt-salzburg.at
SUMMARY:Gesungene Geschichten: Transkribieren und Erarbeiten alter Volkslieder
DESCRIPTION:In den 1930er-Jahren vollzog sich auch in Salzburg die Wende zur professionalisierten\, in Bühnenkleidung (= Tracht) mehrstimmig präsentierten Darbietungs-Volks musik. Zuvor bestand das Repertoire an Volksliedern hauptsächlich aus Balladen und Ereignisliedern. Es werden einige dieser alten „gesungenen Geschichten“ gemeinsam transkribiert und anschließend gesungen. \nMI 4. Juni · 10:00 – ca. 11:30 \nHaus der Volkskulturen\, Zugallistraße 10\nKeine Anmeldung erforderlich! \n  \n 
URL:https://www.wissensstadt-salzburg.at/event/gesungene-geschichten-transkribieren-und-erarbeiten-alter-volkslieder/
LOCATION:Haus der Volkskulturen\, Zugallistraße 10\, Salzburg\, 5020\, Austria
CATEGORIES:Workshop & Mitmachen
ATTACH;FMTTYPE=image/png:https://www.wissensstadt-salzburg.at/wp-content/uploads/2025/04/TdA_web_quer2_kl-e1743596237917.png
END:VEVENT
BEGIN:VEVENT
DTSTART;TZID=Europe/Vienna:20250604T130000
DTEND;TZID=Europe/Vienna:20250604T140000
DTSTAMP:20260420T171804
CREATED:20250402T112330Z
LAST-MODIFIED:20250402T135616Z
UID:20815-1749042000-1749045600@www.wissensstadt-salzburg.at
SUMMARY:Wende*punkt Tanzmoderne: Anna Pavlova und die Ballets Russes
DESCRIPTION:Die berühmte russische Tänzerin Anna Pavlova verbindet in ihrer Kunst die Tradition des klassischen Balletts mit dem Aufbruch in die Tanzmoderne des 20. Jahrhunderts. Unterschiedlichste Quellen aus den Derra de Moroda Dance Archives – von der Lithografie bis zum Spitzenschuh – belegen das Faszinosum Anna Pavlova und bieten spannende Einblicke in die vielfältigen Bildwelten der Ballets Russes. \nddmarchiv.eu/salzburger-tage-der-archive-2025/ \nMI 4. Juni · 13:00–14:00\, 16:00–17:00 \nDerra de Moroda Dance Archives\, UNIPARK Nonntal\, 1. UG\, Infotheke Bibliothek\, Erzabt-Klotz-Straße 1\nKeine Anmeldung erforderlich!\nmax. 20 Personen pro Termin
URL:https://www.wissensstadt-salzburg.at/event/wendepunkt-tanzmoderne-anna-pavlova-und-die-ballets-russes/
LOCATION:Derra de Moroda Dance Archives\, Unipark\, Erzabt-Klotz-Straße 1\, Salzburg\, 5020\, Austria
CATEGORIES:Führung & Spaziergang
ATTACH;FMTTYPE=image/png:https://www.wissensstadt-salzburg.at/wp-content/uploads/2025/04/TdA_web_quer2_kl-e1743596237917.png
END:VEVENT
BEGIN:VEVENT
DTSTART;TZID=Europe/Vienna:20250604T140000
DTEND;TZID=Europe/Vienna:20250604T150000
DTSTAMP:20260420T171804
CREATED:20250402T113517Z
LAST-MODIFIED:20250402T135537Z
UID:20823-1749045600-1749049200@www.wissensstadt-salzburg.at
SUMMARY:Die Marquise von Salzburg: Ein Wende*punkt in der Geschichte der Frauenbildung in Salzburg
DESCRIPTION:Viel zu selten finden Frauen in der Geschichte Salzburgs ihre verdiente Würdigung. Dies gilt auch für Jeanne de Peyrebère\, Marquise de Guilloutet (1875–1961). Sie unterrichtete als erste Frau an der Theologischen Fakultät\, machte sich um den französisch-österreichischen Kulturaustausch verdient und vermittelte Künstler:innen für die Festspiele. Anlässlich ihres 150. Geburtstages wird das Leben dieser außergewöhnlichen Frau beleuchtet\, deren Auftritt einen Wende*punkt in der Universitätsgeschichte markiert. \nMI 4. Juni · 14:00–15:00 \nUniversitätsbibliothek Salzburg\, Hofstallgasse 2–4\, Bibliotheksaula\nAnmeldung: veranstaltungen.ubs@plus.ac.at
URL:https://www.wissensstadt-salzburg.at/event/die-marquise-von-salzburg-ein-wendepunkt-in-der-geschichte-der-frauenbildung-in-salzburg/
LOCATION:Universitätsbibliothek Salzburg\, Kursraum\, 1. Stock\, Hofstallgasse 2-4\, Salzburg\, 5020\, Austria
CATEGORIES:Ausstellung & Messe,Führung & Spaziergang
ATTACH;FMTTYPE=image/png:https://www.wissensstadt-salzburg.at/wp-content/uploads/2025/04/TdA_web_quer2_kl-e1743596237917.png
END:VEVENT
BEGIN:VEVENT
DTSTART;TZID=Europe/Vienna:20250604T150000
DTEND;TZID=Europe/Vienna:20250604T160000
DTSTAMP:20260420T171804
CREATED:20250402T113720Z
LAST-MODIFIED:20250402T135435Z
UID:20826-1749049200-1749052800@www.wissensstadt-salzburg.at
SUMMARY:Keine Ruhe vor dem Sturm: Wende*punkte in der Zwischenkriegszeit
DESCRIPTION:Nach einem desaströsen Weltkrieg und einer Pandemie brachten die 1920er-Jahre eine Zeit des Aufschwungs und der Hoffnung. Im Klosterbezirk St. Peter wurde ein größeres Neubauvorhaben umgesetzt\, ehe die weltweite Finanzkrise das Stift St. Peter an den Abgrund drängte. Nach einschneidenden wirtschaftlichen Maßnahmen folgte mit der Herrschaft des Nationalsozialismus der nächste Wende*punkt. \nMI 4. Juni · 15:00–16:00\, 17:00–18:00 \nArchiv der Erzabtei St. Peter\, St. Peter-Bezirk 1\, Pforte\nKeine Anmeldung erforderlich!\nmax. 25 Personen pro Termin \nBÜCHERMARKT\nMI 4. Juni · 14:00–18:00\nErzabtei St. Peter\, Erzabtei St. Peter\, St. Peter-Bezirk 1\, Romanischer Saal \n 
URL:https://www.wissensstadt-salzburg.at/event/keine-ruhe-vor-dem-sturm-wendepunkte-in-der-zwischenkriegszeit/
LOCATION:Erzabtei St. Peter\, Sankt-Peter-Bezirk 1\, Salzburg\, 5020\, Austria
CATEGORIES:Präsentation & Vortrag
ATTACH;FMTTYPE=image/png:https://www.wissensstadt-salzburg.at/wp-content/uploads/2025/04/TdA_web_quer2_kl-e1743596237917.png
END:VEVENT
BEGIN:VEVENT
DTSTART;TZID=Europe/Vienna:20250604T160000
DTEND;TZID=Europe/Vienna:20250604T170000
DTSTAMP:20260420T171804
CREATED:20250402T113135Z
LAST-MODIFIED:20250402T135337Z
UID:20820-1749052800-1749056400@www.wissensstadt-salzburg.at
SUMMARY:Wende*punkt Tanzmoderne: Anna Pavlova und die Ballets Russes
DESCRIPTION:Die berühmte russische Tänzerin Anna Pavlova verbindet in ihrer Kunst die Tradition des klassischen Balletts mit dem Aufbruch in die Tanzmoderne des 20. Jahrhunderts. Unterschiedlichste Quellen aus den Derra de Moroda Dance Archives – von der Lithografie bis zum Spitzenschuh – belegen das Faszinosum Anna Pavlova und bieten spannende Einblicke in die vielfältigen Bildwelten der Ballets Russes. \nddmarchiv.eu/salzburger-tage-der-archive-2025/ \nMI 4. Juni · 16:00–17:00 \nDerra de Moroda Dance Archives\, UNIPARK Nonntal\, 1. UG\, Infotheke Bibliothek\, Erzabt-Klotz-Straße 1\nKeine Anmeldung erforderlich!\nmax. 20 Personen pro Termin
URL:https://www.wissensstadt-salzburg.at/event/wendepunkt-tanzmoderne-anna-pavlova-und-die-ballets-russes-2/
LOCATION:Derra de Moroda Dance Archives\, Unipark\, Erzabt-Klotz-Straße 1\, Salzburg\, 5020\, Austria
CATEGORIES:Führung & Spaziergang
ATTACH;FMTTYPE=image/png:https://www.wissensstadt-salzburg.at/wp-content/uploads/2025/04/TdA_web_quer2_kl-e1743596237917.png
END:VEVENT
BEGIN:VEVENT
DTSTART;TZID=Europe/Vienna:20250604T170000
DTEND;TZID=Europe/Vienna:20250604T180000
DTSTAMP:20260420T171804
CREATED:20250402T113759Z
LAST-MODIFIED:20250402T135120Z
UID:20829-1749056400-1749060000@www.wissensstadt-salzburg.at
SUMMARY:Keine Ruhe vor dem Sturm: Wende*punkte in der Zwischenkriegszeit
DESCRIPTION:Nach einem desaströsen Weltkrieg und einer Pandemie brachten die 1920er-Jahre eine Zeit des Aufschwungs und der Hoffnung. Im Klosterbezirk St. Peter wurde ein größeres Neubauvorhaben umgesetzt\, ehe die weltweite Finanzkrise das Stift St. Peter an den Abgrund drängte. Nach einschneidenden wirtschaftlichen Maßnahmen folgte mit der Herrschaft des Nationalsozialismus der nächste Wende*punkt. \nMI 4. Juni · 17:00–18:00 \nArchiv der Erzabtei St. Peter\, St. Peter-Bezirk 1\, Pforte\nKeine Anmeldung erforderlich!\nmax. 25 Personen pro Termin \nBÜCHERMARKT\nMI 4. Juni · 14:00–18:00\nErzabtei St. Peter\, Erzabtei St. Peter\, St. Peter-Bezirk 1\, Romanischer Saal \n 
URL:https://www.wissensstadt-salzburg.at/event/keine-ruhe-vor-dem-sturm-wendepunkte-in-der-zwischenkriegszeit-2/
LOCATION:Erzabtei St. Peter\, Sankt-Peter-Bezirk 1\, Salzburg\, 5020\, Austria
CATEGORIES:Präsentation & Vortrag
ATTACH;FMTTYPE=image/png:https://www.wissensstadt-salzburg.at/wp-content/uploads/2025/04/TdA_web_quer2_kl-e1743596237917.png
END:VEVENT
BEGIN:VEVENT
DTSTART;TZID=Europe/Vienna:20250604T183000
DTEND;TZID=Europe/Vienna:20250604T200000
DTSTAMP:20260420T171804
CREATED:20250402T114610Z
LAST-MODIFIED:20250403T062314Z
UID:20832-1749061800-1749067200@www.wissensstadt-salzburg.at
SUMMARY:Insektensammlungen: Zeitdokumente für den Klimawandel und den Artenschutz
DESCRIPTION:Ohne Sammlungen wären naturwissenschaftliche Erkenntnisse über Insektenpopulationen nicht möglich. Jan Habel und Patrick Gros zeigen anhand von Beispielen den unermesslichen Wert von Sammlungspräparaten auf\, die sowohl für die Erstellung von Roten Listen als auch für das Aufzeigen menschlicher Auswirkungen (z. B. Klimawandel) auf Insektenpopulationen eine unverzichtbare Grundlage bilden. \nMI 4. Juni · 18:30–20:00 \nHaus der Natur\, Museumsplatz 5\, Vortragssaal\nKeine Anmeldung erforderlich!
URL:https://www.wissensstadt-salzburg.at/event/insektensammlungen-zeitdokumente-fuer-den-klimawandel-und-den-artenschutz/
LOCATION:Haus der Natur\, Museumsplatz 5\, Salzburg\, 5020\, Austria
CATEGORIES:Präsentation & Vortrag
ATTACH;FMTTYPE=image/png:https://www.wissensstadt-salzburg.at/wp-content/uploads/2025/04/TdA_web_quer2_kl-e1743596237917.png
ORGANIZER;CN="Haus der Natur":MAILTO:office@hausdernatur.at
END:VEVENT
BEGIN:VEVENT
DTSTART;TZID=Europe/Vienna:20250604T190000
DTEND;TZID=Europe/Vienna:20250604T203000
DTSTAMP:20260420T171804
CREATED:20250402T114822Z
LAST-MODIFIED:20250402T134937Z
UID:20835-1749063600-1749069000@www.wissensstadt-salzburg.at
SUMMARY:Ein Ort für Zufälle: Ingeborg Bachmanns Text als Wende*punkt ihres Schreibens
DESCRIPTION:Einer der gewagtesten und experimentellsten Texte von Ingeborg Bachmann über Berlin als versehrter Symptom körper der deutschen Geschichte und als Ort ihrer persön lichen Krise\, der als elfter Band der Salzburger Bachmann Edition erschienen ist\, wird von der Heraus geberin Martina Wörgötter im Gespräch mit Elke Schlinsog (Deutschlandfunk Kultur) vorgestellt. Aus dem Werk liest die Schauspielerin Anita Köchl. \nIn Kooperation mit dem Fachbereich Germanistik der Universität Salzburg. \nMI 4. Juni · 19:00–20:30 \nLiteraturarchiv Salzburg\, Veranstaltungsort: Edmundsburg\, Mönchsberg 2\nKeine Anmeldung erforderlich! \n 
URL:https://www.wissensstadt-salzburg.at/event/ein-ort-fuer-zufaelle-ingeborg-bachmanns-text-als-wendepunkt-ihres-schreibens/
LOCATION:Edmundsburg\, Mönchsberg 2\, Salzburg\, 5020\, Austria
CATEGORIES:Lesung & Gespräch,Präsentation & Vortrag
ATTACH;FMTTYPE=image/png:https://www.wissensstadt-salzburg.at/wp-content/uploads/2025/04/TdA_web_quer2_kl-e1743596237917.png
ORGANIZER;CN="Literaturarchiv Salzburg":MAILTO:literaturarchiv@plus.ac.at
END:VEVENT
END:VCALENDAR