BEGIN:VCALENDAR
VERSION:2.0
PRODID:-//Wissensstadt Salzburg - ECPv6.15.13//NONSGML v1.0//EN
CALSCALE:GREGORIAN
METHOD:PUBLISH
X-WR-CALNAME:Wissensstadt Salzburg
X-ORIGINAL-URL:https://www.wissensstadt-salzburg.at
X-WR-CALDESC:Veranstaltungen für Wissensstadt Salzburg
REFRESH-INTERVAL;VALUE=DURATION:PT1H
X-Robots-Tag:noindex
X-PUBLISHED-TTL:PT1H
BEGIN:VTIMEZONE
TZID:Europe/Vienna
BEGIN:DAYLIGHT
TZOFFSETFROM:+0100
TZOFFSETTO:+0200
TZNAME:CEST
DTSTART:20240331T010000
END:DAYLIGHT
BEGIN:STANDARD
TZOFFSETFROM:+0200
TZOFFSETTO:+0100
TZNAME:CET
DTSTART:20241027T010000
END:STANDARD
BEGIN:DAYLIGHT
TZOFFSETFROM:+0100
TZOFFSETTO:+0200
TZNAME:CEST
DTSTART:20250330T010000
END:DAYLIGHT
BEGIN:STANDARD
TZOFFSETFROM:+0200
TZOFFSETTO:+0100
TZNAME:CET
DTSTART:20251026T010000
END:STANDARD
BEGIN:DAYLIGHT
TZOFFSETFROM:+0100
TZOFFSETTO:+0200
TZNAME:CEST
DTSTART:20260329T010000
END:DAYLIGHT
BEGIN:STANDARD
TZOFFSETFROM:+0200
TZOFFSETTO:+0100
TZNAME:CET
DTSTART:20261025T010000
END:STANDARD
END:VTIMEZONE
BEGIN:VEVENT
DTSTART;TZID=Europe/Vienna:20250606T090000
DTEND;TZID=Europe/Vienna:20250606T100000
DTSTAMP:20260420T131657
CREATED:20250402T120218Z
LAST-MODIFIED:20250402T133922Z
UID:20857-1749200400-1749204000@www.wissensstadt-salzburg.at
SUMMARY:Archiv im Umbruch: Führung durch die Interimsquartiere des Literaturarchivs
DESCRIPTION:Wegen langjähriger Bauarbeiten hieß es für das Literatur archiv im Frühling 2023 Koffer packen. Der Großteil der Bestände wechselte dabei nur die Straßenseite und ist in einem Depot in der Kapitelgasse untergebracht. Was es aber bedeutet\, ein Archiv zu übersiedeln\, wenn auch nur wenige Meter\, wird Inhalt der Führung sein\, die ihren Abschluss in unserem zweiten Quartier in der Pfeifergasse 6 findet. \nFR 6. Juni · 9:00–10:00 \nLiteraturarchiv Salzburg\, Treffpunkt: Kapitelgasse 4–6\, Eingangstor\nAnmeldung: literaturarchiv@plus.ac.at · 0662/8044-4910\nmax. 10 Personen \n 
URL:https://www.wissensstadt-salzburg.at/event/archiv-im-umbruch-fuehrung-durch-die-interimsquartiere-des-literaturarchivs/
CATEGORIES:Führung & Spaziergang
ATTACH;FMTTYPE=image/png:https://www.wissensstadt-salzburg.at/wp-content/uploads/2025/04/TdA_web_quer2_kl-e1743596237917.png
ORGANIZER;CN="Literaturarchiv Salzburg":MAILTO:literaturarchiv@plus.ac.at
END:VEVENT
BEGIN:VEVENT
DTSTART;TZID=Europe/Vienna:20250606T103000
DTEND;TZID=Europe/Vienna:20250606T113000
DTSTAMP:20260420T131657
CREATED:20250402T103203Z
LAST-MODIFIED:20250402T133803Z
UID:20734-1749205800-1749209400@www.wissensstadt-salzburg.at
SUMMARY:Mozarteum: Das erste Haus für Mozart
DESCRIPTION:Konzerte\, Konservatorium und Mozart-Archiv unter einem Dach \nWende*punkt 1914: Nach jahrzehntelangen Anstrengungen konnte die Internationale Stiftung Mozarteum endlich ein eigenes „Mozarthaus“ realisieren – Konzertsäle\, Unterrichtsgebäude und Mozart-Archiv mit Bibliothek wurden in einem prächtigen Neubau erstmals unter einem Dach vereint. Doch mit Beginn des Ersten Weltkriegs begann die neue Ära der Stiftung unter ganz anderen Vorzeichen als geplant. Mit Kurzführung durch Haus und Foyers. \nFR 6. Juni · 10:30 –11:30 \nInternationale Stiftung Mozarteum (ISM)\, Schwarzstraße 26\, Stadtfoyer
URL:https://www.wissensstadt-salzburg.at/event/mozarteum-das-erste-haus-fuer-mozart-2/
LOCATION:Internationale Stiftung Mozarteum\, Schwarzstraße 26\, Salzburg\, 5020\, Austria
CATEGORIES:Ausstellung & Messe,Führung & Spaziergang,Präsentation & Vortrag
ATTACH;FMTTYPE=image/png:https://www.wissensstadt-salzburg.at/wp-content/uploads/2025/04/TdA_web_quer2_kl-e1743596237917.png
END:VEVENT
BEGIN:VEVENT
DTSTART;TZID=Europe/Vienna:20250606T120000
DTEND;TZID=Europe/Vienna:20250606T170000
DTSTAMP:20260420T131657
CREATED:20250402T120506Z
LAST-MODIFIED:20250402T133550Z
UID:20860-1749211200-1749229200@www.wissensstadt-salzburg.at
SUMMARY:Wende*punkte der Kultur-\, Landes- und Diözesangeschichte Salzburgs | Büchermarkt und Beratung für Familienforschung
DESCRIPTION:Quellen und Bestände im AES zu Schlüsselereignissen und Entwicklungen Salzburgs vom Mittelalter bis zur Gegenwart \nFR 6. Juni · \n13:00 –14:00 Archivführung (Mag.a Jutta Baumgartner)\n15:00–16:00 Musikwissenschaftliche Führung (Dr.in Eva Neumayr)\n17:00–18:00 Archivführung (Mag.a Christine Gigler)\n12:00–17:00 Büchermarkt der Diözesanbibliothek mit umfangreichem Angebot aus den Publikationen und Dublettenbeständen (Mag.a Olivia Allmannsberger-Nietsche)\n12:00–17:00 Beratung für Familienforschung (Dr. Thomas Mitterecker) \nArchiv der Erzdiözese Salzburg (AES)\, Kapitelplatz 3 \nAnmeldung: archiv@eds.at · 0662/8047-1500\nmax. 25 Personen
URL:https://www.wissensstadt-salzburg.at/event/wendepunkte-der-kultur-landes-und-dioezesangeschichte-salzburgs/
LOCATION:Archiv der Erzdiözese Salzburg\, Kapitelplatz 3\, Salzburg\, 5020\, Austria
ATTACH;FMTTYPE=image/png:https://www.wissensstadt-salzburg.at/wp-content/uploads/2025/04/TdA_web_quer2_kl-e1743596237917.png
END:VEVENT
BEGIN:VEVENT
DTSTART;TZID=Europe/Vienna:20250606T130000
DTEND;TZID=Europe/Vienna:20250606T140000
DTSTAMP:20260420T131657
CREATED:20250402T120649Z
LAST-MODIFIED:20250402T133504Z
UID:20863-1749214800-1749218400@www.wissensstadt-salzburg.at
SUMMARY:Wende*punkte der Kultur-\, Landes- und Diözesangeschichte Salzburgs | Archivführung
DESCRIPTION:Quellen und Bestände im AES zu Schlüsselereignissen und Entwicklungen Salzburgs vom Mittelalter bis zur Gegenwart \nFR 6. Juni · 13:00 –14:00 Archivführung (Mag.a Jutta Baumgartner) \n12:00–17:00 Büchermarkt der Diözesanbibliothek mit umfangreichem Angebot aus den Publikationen und Dublettenbeständen (Mag.a Olivia Allmannsberger-Nietsche)\n12:00–17:00 Beratung für Familienforschung (Dr. Thomas Mitterecker) \nArchiv der Erzdiözese Salzburg (AES)\, Kapitelplatz 3 \nAnmeldung: archiv@eds.at · 0662/8047-1500\nmax. 25 Personen
URL:https://www.wissensstadt-salzburg.at/event/wendepunkte-der-kultur-landes-und-dioezesangeschichte-salzburgs-2/
LOCATION:Archiv der Erzdiözese Salzburg\, Kapitelplatz 3\, Salzburg\, 5020\, Austria
CATEGORIES:Führung & Spaziergang
ATTACH;FMTTYPE=image/png:https://www.wissensstadt-salzburg.at/wp-content/uploads/2025/04/TdA_web_quer2_kl-e1743596237917.png
END:VEVENT
BEGIN:VEVENT
DTSTART;TZID=Europe/Vienna:20250606T140000
DTEND;TZID=Europe/Vienna:20250606T153000
DTSTAMP:20260420T131657
CREATED:20250402T121136Z
LAST-MODIFIED:20250402T141923Z
UID:20874-1749218400-1749223800@www.wissensstadt-salzburg.at
SUMMARY:Fotografinnen auf Reisen: Die fotografische Arbeit von Gerti Deutsch\, Inge Morath und Edith Tudor-Hart
DESCRIPTION:Anlass für diese Präsentation ist die Publikation eines gleichnamigen Ausstellungskataloges. Der Fotohof hat dazu Beiträge geleistet und präsentiert Bilder und Dokumente der Fotografinnen\, die im Archiv gesammelt werden. Die Veranstaltung gibt einen Einblick in die Arbeitsbedingungen von Fotografinnen in den 1930er- bis 1970er-Jahre. \nFR 6. Juni · 14:00–15:30 \nFotohof Archiv\, Sparkassenstraße 2\nKeine Anmeldung erforderlich!
URL:https://www.wissensstadt-salzburg.at/event/fotografinnen-auf-reisen-die-fotografische-arbeit-von-gerti-deutsch-inge-morath-und-edith-tudor-hart/
LOCATION:Fotohof Archiv\, Sparkassenstraße 2\, Salzburg\, Salzburg\, 5020\, Austria
CATEGORIES:Präsentation & Vortrag
ATTACH;FMTTYPE=image/png:https://www.wissensstadt-salzburg.at/wp-content/uploads/2025/04/TdA_web_quer2_kl-e1743596237917.png
END:VEVENT
BEGIN:VEVENT
DTSTART;TZID=Europe/Vienna:20250606T150000
DTEND;TZID=Europe/Vienna:20250606T160000
DTSTAMP:20260420T131657
CREATED:20250402T120844Z
LAST-MODIFIED:20250402T133259Z
UID:20868-1749222000-1749225600@www.wissensstadt-salzburg.at
SUMMARY:Wende*punkte der Kultur-\, Landes- und Diözesangeschichte Salzburgs | Musikwissenschaftliche Führung
DESCRIPTION:Quellen und Bestände im AES zu Schlüsselereignissen und Entwicklungen Salzburgs vom Mittelalter bis zur Gegenwart \nFR 6. Juni · 15:00–16:00 Musikwissenschaftliche Führung (Dr.in Eva Neumayr) \n12:00–17:00 Büchermarkt der Diözesanbibliothek mit umfangreichem Angebot aus den Publikationen und Dublettenbeständen (Mag.a Olivia Allmannsberger-Nietsche)\n12:00–17:00 Beratung für Familienforschung (Dr. Thomas Mitterecker) \nArchiv der Erzdiözese Salzburg (AES)\, Kapitelplatz 3 \nAnmeldung: archiv@eds.at · 0662/8047-1500\nmax. 25 Personen
URL:https://www.wissensstadt-salzburg.at/event/wendepunkte-der-kultur-landes-und-dioezesangeschichte-salzburgs-3/
LOCATION:Archiv der Erzdiözese Salzburg\, Kapitelplatz 3\, Salzburg\, 5020\, Austria
CATEGORIES:Führung & Spaziergang
ATTACH;FMTTYPE=image/png:https://www.wissensstadt-salzburg.at/wp-content/uploads/2025/04/TdA_web_quer2_kl-e1743596237917.png
END:VEVENT
BEGIN:VEVENT
DTSTART;TZID=Europe/Vienna:20250606T170000
DTEND;TZID=Europe/Vienna:20250606T180000
DTSTAMP:20260420T131657
CREATED:20250402T120941Z
LAST-MODIFIED:20250402T133157Z
UID:20871-1749229200-1749232800@www.wissensstadt-salzburg.at
SUMMARY:Wende*punkte der Kultur-\, Landes- und Diözesangeschichte Salzburgs | Archivführung
DESCRIPTION:Quellen und Bestände im AES zu Schlüsselereignissen und Entwicklungen Salzburgs vom Mittelalter bis zur Gegenwart \nFR 6. Juni · 17:00–18:00 Archivführung (Mag.a Christine Gigler) \n12:00–17:00 Büchermarkt der Diözesanbibliothek mit umfangreichem Angebot aus den Publikationen und Dublettenbeständen (Mag.a Olivia Allmannsberger-Nietsche)\n12:00–17:00 Beratung für Familienforschung (Dr. Thomas Mitterecker) \nArchiv der Erzdiözese Salzburg (AES)\, Kapitelplatz 3 \nAnmeldung: archiv@eds.at · 0662/8047-1500\nmax. 25 Personen \nLogo Archiv der Erzdiözese Salzburg
URL:https://www.wissensstadt-salzburg.at/event/wendepunkte-der-kultur-landes-und-dioezesangeschichte-salzburgs-4/
LOCATION:Archiv der Erzdiözese Salzburg\, Kapitelplatz 3\, Salzburg\, 5020\, Austria
CATEGORIES:Führung & Spaziergang
ATTACH;FMTTYPE=image/png:https://www.wissensstadt-salzburg.at/wp-content/uploads/2025/04/TdA_web_quer2_kl-e1743596237917.png
END:VEVENT
END:VCALENDAR