BEGIN:VCALENDAR
VERSION:2.0
PRODID:-//Wissensstadt Salzburg - ECPv6.15.13//NONSGML v1.0//EN
CALSCALE:GREGORIAN
METHOD:PUBLISH
X-WR-CALNAME:Wissensstadt Salzburg
X-ORIGINAL-URL:https://www.wissensstadt-salzburg.at
X-WR-CALDESC:Veranstaltungen für Wissensstadt Salzburg
REFRESH-INTERVAL;VALUE=DURATION:PT1H
X-Robots-Tag:noindex
X-PUBLISHED-TTL:PT1H
BEGIN:VTIMEZONE
TZID:Europe/Vienna
BEGIN:DAYLIGHT
TZOFFSETFROM:+0100
TZOFFSETTO:+0200
TZNAME:CEST
DTSTART:20240331T010000
END:DAYLIGHT
BEGIN:STANDARD
TZOFFSETFROM:+0200
TZOFFSETTO:+0100
TZNAME:CET
DTSTART:20241027T010000
END:STANDARD
BEGIN:DAYLIGHT
TZOFFSETFROM:+0100
TZOFFSETTO:+0200
TZNAME:CEST
DTSTART:20250330T010000
END:DAYLIGHT
BEGIN:STANDARD
TZOFFSETFROM:+0200
TZOFFSETTO:+0100
TZNAME:CET
DTSTART:20251026T010000
END:STANDARD
BEGIN:DAYLIGHT
TZOFFSETFROM:+0100
TZOFFSETTO:+0200
TZNAME:CEST
DTSTART:20260329T010000
END:DAYLIGHT
BEGIN:STANDARD
TZOFFSETFROM:+0200
TZOFFSETTO:+0100
TZNAME:CET
DTSTART:20261025T010000
END:STANDARD
END:VTIMEZONE
BEGIN:VEVENT
DTSTART;TZID=Europe/Vienna:20251027T180000
DTEND;TZID=Europe/Vienna:20251027T193000
DTSTAMP:20260419T144906
CREATED:20250901T095311Z
LAST-MODIFIED:20250901T102001Z
UID:23152-1761588000-1761593400@www.wissensstadt-salzburg.at
SUMMARY:Out of the box: Ein Gewürzmandala entsteht!
DESCRIPTION:Die Gestaltung von Mandalas aus Gewürzen lädt ein zum gemeinsamen Kreativ-Sein. \nIm Stadtteil Lehen gibt es viele kleine Imbissbuden und Läden mit Köstlichkeiten aus unterschiedlichen Kulturen. Von dieser bunten Mischung angeregt\, laden Stadtgalerie und Bewohnerservice Lehen zum Gestalten von Mandalas aus Gewürzen ein. \nMandalas sind Bilder aus geometrischen Formen\, die sich um einen Mittelpunkt bilden. Die Gestaltung von Mandalas wirkt entspannend und beruhigt den Fluss der Gedanken. Es geht um das Gestalten selbst\, um die Zeit\, die man mit sich verbringt und nicht darum\, dass es perfekt wird. \nAnleitung: Wolfgang Richter\nDas fertige Mandala kann zum Aufhängen mit nach Hause genommen werden! Mitmachen ist kostenlos\, keine Vorkenntnisse erforderlich!\nBitte um Anmeldung! \nTermine:\nMo. 27.10.2025\, 18 -19:30 Uhr: Einstieg und Entwurf in der Stadtgalerie Lehen\nDo. 30.10.2025\, 18 – 20 Uhr: Gestaltung im Bewohnerservice Lehen \nAnmeldung: Unbedingt erforderlich beim Bewohnerservice Lehen\, Strubergasse 27A\nbws.lehen-taxham@stadt-salzburg.at oder 0662 428579
URL:https://www.wissensstadt-salzburg.at/event/out-of-the-box-ein-gewuerzmandala-entsteht/
LOCATION:Stadtgalerie Lehen\, Inge-Morath-Platz 31\, Salzburg
CATEGORIES:Workshop & Mitmachen
ATTACH;FMTTYPE=image/png:https://www.wissensstadt-salzburg.at/wp-content/uploads/2025/01/Kachel_OOB_2025_kl.png
END:VEVENT
BEGIN:VEVENT
DTSTART;TZID=Europe/Vienna:20251027T190000
DTEND;TZID=Europe/Vienna:20251027T210000
DTSTAMP:20260419T144906
CREATED:20251009T054113Z
LAST-MODIFIED:20251009T054554Z
UID:23403-1761591600-1761598800@www.wissensstadt-salzburg.at
SUMMARY:„Wem können wir noch glauben?“ Orientierung in der Wissenskrise
DESCRIPTION:In unserer Demokratie ist Wissen die Grundlage für Meinungsbildung\, Entscheidungen und gesellschaftliches Miteinander. Doch was passiert\, wenn wir nicht mehr wissen\, was wir glauben sollen? Bettina Bussmann und David Lanius vom Fachbereich Philosophie an der Gesellschaftswissenschaftlichen Fakultät der Universität Salzburg (ExzeIIenzcIuster „Wissen in der Krise“) im Gespräch mit Senja Post und Gregor Betz vom Karlsruher Institut für Technologie über Wissenschaftsskepsis\, Fake News\, Bildung und Moralismus.\nWir freuen uns auf Ihre Teilnahme und eine spannende Diskussion. \nTermin: Montag\, 27. Oktober 2025\, 19.00 Uhr\nOrt: Panoramabar Lehen\, Schumacherstraße 14\, Salzburg\nAnmeldung: Bitte um verbindliche Anmeldung unter plus.ac.at/panoramauni\nLivestream: FS1\, das Salzburger Community-Fernsehen\, überträgt die Veranstaltung live auf dieser Seite. Alle Talks können hier nachgesehen werden. \nIm Anschluss laden wir zum Umtrunk.
URL:https://www.wissensstadt-salzburg.at/event/wem-koennen-wir-noch-glauben-orientierung-in-der-wissenskrise/
LOCATION:Panoramabar\, Schumacherstraße 14\, Salzburg\, Salzburg\, 5020\, Österreich
CATEGORIES:Präsentation & Vortrag
ATTACH;FMTTYPE=image/jpeg:https://www.wissensstadt-salzburg.at/wp-content/uploads/2020/11/Kachel_Panoramauni_kl.jpg
END:VEVENT
END:VCALENDAR