BEGIN:VCALENDAR
VERSION:2.0
PRODID:-//Wissensstadt Salzburg - ECPv6.15.13//NONSGML v1.0//EN
CALSCALE:GREGORIAN
METHOD:PUBLISH
X-WR-CALNAME:Wissensstadt Salzburg
X-ORIGINAL-URL:https://www.wissensstadt-salzburg.at
X-WR-CALDESC:Veranstaltungen für Wissensstadt Salzburg
REFRESH-INTERVAL;VALUE=DURATION:PT1H
X-Robots-Tag:noindex
X-PUBLISHED-TTL:PT1H
BEGIN:VTIMEZONE
TZID:Europe/Vienna
BEGIN:DAYLIGHT
TZOFFSETFROM:+0100
TZOFFSETTO:+0200
TZNAME:CEST
DTSTART:20240331T010000
END:DAYLIGHT
BEGIN:STANDARD
TZOFFSETFROM:+0200
TZOFFSETTO:+0100
TZNAME:CET
DTSTART:20241027T010000
END:STANDARD
BEGIN:DAYLIGHT
TZOFFSETFROM:+0100
TZOFFSETTO:+0200
TZNAME:CEST
DTSTART:20250330T010000
END:DAYLIGHT
BEGIN:STANDARD
TZOFFSETFROM:+0200
TZOFFSETTO:+0100
TZNAME:CET
DTSTART:20251026T010000
END:STANDARD
BEGIN:DAYLIGHT
TZOFFSETFROM:+0100
TZOFFSETTO:+0200
TZNAME:CEST
DTSTART:20260329T010000
END:DAYLIGHT
BEGIN:STANDARD
TZOFFSETFROM:+0200
TZOFFSETTO:+0100
TZNAME:CET
DTSTART:20261025T010000
END:STANDARD
END:VTIMEZONE
BEGIN:VEVENT
DTSTART;TZID=Europe/Vienna:20251107T100000
DTEND;TZID=Europe/Vienna:20251107T200000
DTSTAMP:20260419T225240
CREATED:20251009T055320Z
LAST-MODIFIED:20251009T055402Z
UID:23414-1762509600-1762545600@www.wissensstadt-salzburg.at
SUMMARY:Creative City Lab_Salzburg
DESCRIPTION:Innovation Mobility\nWorkshop\n\nFr\, 07.11.2025\, 10.00 Uhr | Kreative Zugänge für nachhaltige Mobilität und neue Räume in der Stadt\nGestaltung: Elke Zobl\, Katharina Anzengruber\, Sandra Kobel (IE Wissenschaft & Kunst)\, Leo Fellinger (Kulturmacher & Kreativunternehmer) \nMobilität steht vor großen Herausforderungen: der Notwendigkeit einer Verkehrswende\, der Bewältigung des Klimawandels und der Sicherstellung einer sozial gerechten und nachhaltigen Mobilität für alle. Zukunftsweisende Lösungen für Mobilität und die damit verbundene Schaffung neuer öffentlicher Räume erfordern ein Ausbrechen aus eingefahrenen Sichtweisen und neue Zugänge. Welchen Beitrag kann künstlerische Kreativität dafür leisten? Wie können Kunst\, Wissenschaft und Technologie gemeinsam zukunftsweisende Lösungen für nachhaltige Mobilität entwickeln? Wie können frei werdende Räume als soziale Orte genutzt werden? Wie können Bürger:innen an der Schaffung neuer Lösungen beteiligt werden? Zu diesen Fragen lädt die Initiative „Innovative Mobility – Salzburg bewegt“ gemeinsam mit „CoCreArt.Co-Creating Change“ der interuniversitären Einrichtung Wissenschaft und Kunst zu einem Workshop ein. \n  \n\n\n\nDigitale Transformation\nImpuls & Dialog\n\nFr\, 07.11.2025\, 13.00 Uhr | Entwicklungspotenzial und Herausforderung für Kunst und Kreativwirtschaft\nKurzimpulse zum Einstieg: Charlie Zechenter und Sonja Prlić (beide gold extra)\, Florian Jindra (FH Salzburg/Department Creative Technologies)\, Thomas Layer-Wagner (Polycular) \nDigitale Transformation bildet ein bedeutsames Feld für Kunst und Kreativwirtschaft in Salzburg: Seien es künstlerische Initiativen und Projekte\, Schwerpunkte an der Fachhochschule Salzburg oder der Universität Mozarteum oder kreativwirtschaftliche Digitalunternehmen. Aber welches Entwicklungspotenzial bietet dieses Feld in Salzburg? Welche Herausforderungen sind damit verbunden? Wie und wofür können die verschiedenen Akteur:innen zusammenarbeiten und gemeinsam ein künstlerisch-kreativwirtschaftliches Stärkefeld weiterentwickeln? \n  \n\n\n\nNeue Impulse gegen die Macht der Gewohnheit\nWorkshop\n\nFr\, 07.11.2025\, 16.00 Uhr | Von künstlerischer Kreativität lernen\nGestaltung: Nina Vasilchenko \nDer soziale\, ökologische und technologische Wandel fordert Unternehmen heraus. Es geht um Perspektivenwechsel\, neue Impulse und kreative Prozesse\, um eingefahrene Sichtweisen und Pfade zu überwinden: Was kann von künstlerischer Kreativität gelernt werden? Wie können künstlerische Prozesse inspirierend neue Impulse schaffen? Nina Vasilchenko\, Künstlerin und Kreativunternehmerin\, vermittelt Beispiele für künstlerische Kreativität\, macht Denkweisen und Zugänge sichtbar und regt neue Formen der Zusammenarbeit sowie gegenseitigen Inspiration zwischen Künstler:innen und klassischen Unternehmen an. \n  \n\n\n\nCreative Entrepreneurship\nImpuls & Dialog\n\nFr\, 07.11.2025\, 18.30 Uhr | Entwicklungspotenziale und Rahmenbedingungen für künstlerisch-kreatives Unternehmer:innentum\nModeration: Günther Marchner \nWie können künstlerisch Ausgebildete\, Absolvent:innen von Fach- und Hochschulen und Unternehmer:innen im Kreativbereich Selbstbewusstsein für den Wert ihrer Arbeit entwickeln und sich unabhängig und professionell in Gesellschaft und Wirtschaft verankern? Wo liegen Potenziale für künstlerisch-kreatives Unternehmer:innentum? Welche unterstützenden Rahmenbedingungen braucht es für die Entwicklung? \nGäste: Romy Sigl (Coworking Salzburg)\, Till Fuhrmeister (FH Salzburg/Department Creative Technologies) und Franziska Wallner (Universität Mozarteum/Institut für Coaching & Career) laden mit ihren Impulsen aus verschiedenen Blickwinkeln zum Dialog ein.
URL:https://www.wissensstadt-salzburg.at/event/creative-city-lab_salzburg-2/
LOCATION:House of Talents\, Anton-Neumayr-Platz 1\, Salzburg\, Salzburg\, 5020\, Austria
CATEGORIES:Diskussion,Präsentation & Vortrag,Workshop & Mitmachen
ATTACH;FMTTYPE=image/png:https://www.wissensstadt-salzburg.at/wp-content/uploads/2025/10/Plakat_Creative-City-Lab-Salzburg_kl.png
END:VEVENT
END:VCALENDAR