BEGIN:VCALENDAR
VERSION:2.0
PRODID:-//Wissensstadt Salzburg - ECPv6.15.13//NONSGML v1.0//EN
CALSCALE:GREGORIAN
METHOD:PUBLISH
X-WR-CALNAME:Wissensstadt Salzburg
X-ORIGINAL-URL:https://www.wissensstadt-salzburg.at
X-WR-CALDESC:Veranstaltungen für Wissensstadt Salzburg
REFRESH-INTERVAL;VALUE=DURATION:PT1H
X-Robots-Tag:noindex
X-PUBLISHED-TTL:PT1H
BEGIN:VTIMEZONE
TZID:Europe/Vienna
BEGIN:DAYLIGHT
TZOFFSETFROM:+0100
TZOFFSETTO:+0200
TZNAME:CEST
DTSTART:20250330T010000
END:DAYLIGHT
BEGIN:STANDARD
TZOFFSETFROM:+0200
TZOFFSETTO:+0100
TZNAME:CET
DTSTART:20251026T010000
END:STANDARD
BEGIN:DAYLIGHT
TZOFFSETFROM:+0100
TZOFFSETTO:+0200
TZNAME:CEST
DTSTART:20260329T010000
END:DAYLIGHT
BEGIN:STANDARD
TZOFFSETFROM:+0200
TZOFFSETTO:+0100
TZNAME:CET
DTSTART:20261025T010000
END:STANDARD
BEGIN:DAYLIGHT
TZOFFSETFROM:+0100
TZOFFSETTO:+0200
TZNAME:CEST
DTSTART:20270328T010000
END:DAYLIGHT
BEGIN:STANDARD
TZOFFSETFROM:+0200
TZOFFSETTO:+0100
TZNAME:CET
DTSTART:20271031T010000
END:STANDARD
END:VTIMEZONE
BEGIN:VEVENT
DTSTART;TZID=Europe/Vienna:20260227T090000
DTEND;TZID=Europe/Vienna:20260227T140000
DTSTAMP:20260419T142717
CREATED:20260128T071809Z
LAST-MODIFIED:20260128T072808Z
UID:28168-1772182800-1772200800@www.wissensstadt-salzburg.at
SUMMARY:SpaceWeek: SpaceBuzz – virtuelle Reise ins All (Schulklassen)
DESCRIPTION:Ready for take-off? Der SpaceBuzz\, ein zur Rakete umgebauter LKW\, eröffnet außergewöhnliche Virtual-Reality-Erlebnisse! Jeweils neun Schüler:innen starten gemeinsam ihre Reise ins Weltall und umkreisen für rund 15 Minuten die Erde und genießen atemberaubende Ausblicke. Während der Rahmfahrt bekommen die jungen Astronaut:innen spannende Informationen über unseren Heimatplaneten und erleben eine inspirierende Mission\, die den Blick auf die Erde verändert. \nBegleitet werden die Schüler:innen dabei von den ESA-Astronauten Alexander Gerst und Matthias Maurer\, den Kommandanten dieses Raumschiffs. Moderne Virtual- und Augmented-Reality-Techniken ermöglichen ein atemberaubendes Erlebnis. \nDas Programm geht auch im Haus der Natur weiter: Eine Sonderführung durch die Ausstellung ALL.täglich! und ein Workshop runden den Besuch ab. \nBuchbare Termine (Mo–Fr)\n09.00–10.30 Uhr | 10.45–12.15 Uhr | 12.30–14.00 Uhr\nDauer: ca. 90 Min. | ab der 5. Schulstufe \nSchulklassen ab 15 Personen: € 16\,00 pro Schüler:in\n(ab 15 Schüler:innen\, mind. € 240\,00 pro Klasse) \nAnmeldung ausschließlich per Telefon im Haus der Natur: +43 (662) 842653-0
URL:https://www.wissensstadt-salzburg.at/event/space-week-spacebuzz-virtuelle-reise-ins-all-schulklassen-4/
LOCATION:Haus der Natur\, Museumsplatz 5\, Salzburg\, 5020\, Austria
CATEGORIES:Ausstellung & Messe,Geeignet für Kinder,Workshop & Mitmachen
END:VEVENT
BEGIN:VEVENT
DTSTART;TZID=Europe/Vienna:20260227T100000
DTEND;TZID=Europe/Vienna:20260227T130000
DTSTAMP:20260419T142717
CREATED:20260129T062642Z
LAST-MODIFIED:20260129T062642Z
UID:28281-1772186400-1772197200@www.wissensstadt-salzburg.at
SUMMARY:SpaceWeek: Space Mission: Wie könnte die Welt von morgen aussehen?
DESCRIPTION:In der „Space Mission“ laden wir Kinder dazu ein sich eine Siedlung auf einem fernen Planeten vorzustellen. Wie könnte eine ideale Siedlung aussehen\, die man sich immer schon einmal gewünscht hat? Zeichnungen werden im Science Fiction Labor der Space Mission zu 3D-Modellen\, die Kinder und Jugendliche in einer Planetenlandschaft platzieren können und mit Augmented Reality gleich selbst besuchen können. \nEin Projekt von gold extra in Kooperation mit SystemKunst KG\, im Rahmen des Forschungsprojekts AR Communities (gefördert vom Land Salzburg). \nFreitag\, 27.02.2026\,  10.00-13.00 Uhr | 14.00-17.00 Uhr\nDauer ca. 30 Min.\nab der 2. Schulstufe für jeweils ca. 10 Kinder in zwei Gruppen zu 5 Kindern gleichzeitig möglich \nKeine Anmeldung erforderlich\, freie Plätze werden laufend vergeben!
URL:https://www.wissensstadt-salzburg.at/event/spaceweek-space-mission-wie-koennte-die-welt-von-morgen-aussehen/
LOCATION:Haus der Natur\, Museumsplatz 5\, Salzburg\, 5020\, Austria
CATEGORIES:Geeignet für Kinder,Workshop & Mitmachen
END:VEVENT
BEGIN:VEVENT
DTSTART;TZID=Europe/Vienna:20260227T140000
DTEND;TZID=Europe/Vienna:20260227T170000
DTSTAMP:20260419T142717
CREATED:20260129T062729Z
LAST-MODIFIED:20260129T062729Z
UID:28284-1772200800-1772211600@www.wissensstadt-salzburg.at
SUMMARY:SpaceWeek: Space Mission: Wie könnte die Welt von morgen aussehen?
DESCRIPTION:In der „Space Mission“ laden wir Kinder dazu ein sich eine Siedlung auf einem fernen Planeten vorzustellen. Wie könnte eine ideale Siedlung aussehen\, die man sich immer schon einmal gewünscht hat? Zeichnungen werden im Science Fiction Labor der Space Mission zu 3D-Modellen\, die Kinder und Jugendliche in einer Planetenlandschaft platzieren können und mit Augmented Reality gleich selbst besuchen können. \nEin Projekt von gold extra in Kooperation mit SystemKunst KG\, im Rahmen des Forschungsprojekts AR Communities (gefördert vom Land Salzburg). \nFreitag\, 27.02.2026\,  14.00-17.00 Uhr\nDauer ca. 30 Min.\nab der 2. Schulstufe für jeweils ca. 10 Kinder in zwei Gruppen zu 5 Kindern gleichzeitig möglich \nKeine Anmeldung erforderlich\, freie Plätze werden laufend vergeben!
URL:https://www.wissensstadt-salzburg.at/event/spaceweek-space-mission-wie-koennte-die-welt-von-morgen-aussehen-2/
LOCATION:Haus der Natur\, Museumsplatz 5\, Salzburg\, 5020\, Austria
CATEGORIES:Geeignet für Kinder,Workshop & Mitmachen
END:VEVENT
BEGIN:VEVENT
DTSTART;TZID=Europe/Vienna:20260227T150000
DTEND;TZID=Europe/Vienna:20260227T180000
DTSTAMP:20260419T142717
CREATED:20260126T154858Z
LAST-MODIFIED:20260128T080846Z
UID:27965-1772204400-1772215200@www.wissensstadt-salzburg.at
SUMMARY:SpaceWeek: SpaceBuzz - virtuelle Reise ins All
DESCRIPTION:Ready for take-off? Der SpaceBuzz\, ein zur Rakete umgebauter LKW\, eröffnet außergewöhnliche Virtual-Reality-Erlebnisse! Jeweils neun Besucher:innen starten gemeinsam ihre Reise ins Weltall und umkreisen für rund 15 Minuten die Erde und genießen atemberaubende Ausblicke. Während der Rahmfahrt bekommen die Astronaut:innen spannende Informationen über unseren Heimatplaneten und erfahren eine inspirierende Mission\, die den Blick auf die Erde verändert. \nBegleitet werden sie dabei von den ESA-Astronauten Alexander Gerst und Matthias Maurer\, den Kommandanten dieses Raumschiffs. Moderne Virtual- und Augmented-Reality-Techniken ermöglichen ein atemberaubendes Erlebnis. \nAn den Nachmittagen und am Wochenende steht der SpaceBuzz allen Museumsgästen offen.\nAm Wochenende ergänzen Führungen und spannende Erlebnisformate das „spacige“ Programm.\nMo–Fr: 15.00–18.00 Uhr | Sa\, So: 09.00–18.00 Uhr \nTickets für einen Flug im SpaceBuzz und einen Museumsbesuch im Haus der Natur erhältlich.\n€ 22\,00 Erw. | € 16\,50 Kinder
URL:https://www.wissensstadt-salzburg.at/event/space-week-spacebuzz-virtuelle-reise-ins-all-2-2-2-2/
LOCATION:Haus der Natur\, Museumsplatz 5\, Salzburg\, 5020\, Austria
CATEGORIES:Workshop & Mitmachen
END:VEVENT
END:VCALENDAR