BEGIN:VCALENDAR
VERSION:2.0
PRODID:-//Wissensstadt Salzburg - ECPv6.15.13//NONSGML v1.0//EN
CALSCALE:GREGORIAN
METHOD:PUBLISH
X-WR-CALNAME:Wissensstadt Salzburg
X-ORIGINAL-URL:https://www.wissensstadt-salzburg.at
X-WR-CALDESC:Veranstaltungen für Wissensstadt Salzburg
REFRESH-INTERVAL;VALUE=DURATION:PT1H
X-Robots-Tag:noindex
X-PUBLISHED-TTL:PT1H
BEGIN:VTIMEZONE
TZID:Europe/Vienna
BEGIN:DAYLIGHT
TZOFFSETFROM:+0100
TZOFFSETTO:+0200
TZNAME:CEST
DTSTART:20250330T010000
END:DAYLIGHT
BEGIN:STANDARD
TZOFFSETFROM:+0200
TZOFFSETTO:+0100
TZNAME:CET
DTSTART:20251026T010000
END:STANDARD
BEGIN:DAYLIGHT
TZOFFSETFROM:+0100
TZOFFSETTO:+0200
TZNAME:CEST
DTSTART:20260329T010000
END:DAYLIGHT
BEGIN:STANDARD
TZOFFSETFROM:+0200
TZOFFSETTO:+0100
TZNAME:CET
DTSTART:20261025T010000
END:STANDARD
BEGIN:DAYLIGHT
TZOFFSETFROM:+0100
TZOFFSETTO:+0200
TZNAME:CEST
DTSTART:20270328T010000
END:DAYLIGHT
BEGIN:STANDARD
TZOFFSETFROM:+0200
TZOFFSETTO:+0100
TZNAME:CET
DTSTART:20271031T010000
END:STANDARD
END:VTIMEZONE
BEGIN:VEVENT
DTSTART;TZID=Europe/Vienna:20260228T090000
DTEND;TZID=Europe/Vienna:20260228T180000
DTSTAMP:20260419T142706
CREATED:20260126T154926Z
LAST-MODIFIED:20260128T080901Z
UID:27968-1772269200-1772301600@www.wissensstadt-salzburg.at
SUMMARY:SpaceWeek: SpaceBuzz - virtuelle Reise ins All
DESCRIPTION:Ready for take-off? Der SpaceBuzz\, ein zur Rakete umgebauter LKW\, eröffnet außergewöhnliche Virtual-Reality-Erlebnisse! Jeweils neun Besucher:innen starten gemeinsam ihre Reise ins Weltall und umkreisen für rund 15 Minuten die Erde und genießen atemberaubende Ausblicke. Während der Rahmfahrt bekommen die Astronaut:innen spannende Informationen über unseren Heimatplaneten und erfahren eine inspirierende Mission\, die den Blick auf die Erde verändert. \nBegleitet werden sie dabei von den ESA-Astronauten Alexander Gerst und Matthias Maurer\, den Kommandanten dieses Raumschiffs. Moderne Virtual- und Augmented-Reality-Techniken ermöglichen ein atemberaubendes Erlebnis. \nAn den Nachmittagen und am Wochenende steht der SpaceBuzz allen Museumsgästen offen.\nAm Wochenende ergänzen Führungen und spannende Erlebnisformate das „spacige“ Programm.\nMo–Fr: 15.00–18.00 Uhr | Sa\, So: 09.00–18.00 Uhr \nTickets für einen Flug im SpaceBuzz und einen Museumsbesuch im Haus der Natur erhältlich.\n€ 22\,00 Erw. | € 16\,50 Kinder
URL:https://www.wissensstadt-salzburg.at/event/space-week-spacebuzz-virtuelle-reise-ins-all-2-2-2-2-2/
LOCATION:Haus der Natur\, Museumsplatz 5\, Salzburg\, 5020\, Austria
CATEGORIES:Workshop & Mitmachen
END:VEVENT
BEGIN:VEVENT
DTSTART;TZID=Europe/Vienna:20260228T130000
DTEND;TZID=Europe/Vienna:20260228T170000
DTSTAMP:20260419T142706
CREATED:20260126T125152Z
LAST-MODIFIED:20260129T063203Z
UID:27918-1772283600-1772298000@www.wissensstadt-salzburg.at
SUMMARY:SpaceWeek: Trickfilm-Workshop mit Paul & Paula
DESCRIPTION:Trickfilm-Workshop mit Paul & Paula  \nWohin geht die Reise? In die Tiefen des Meeres… oder ganz abgefahren in den Kosmos an dem die Luftballone schweben?? – Du bist auf alle Fälle Kapitän an Bord Deiner Reise: Wir machen mit Bastelmaterial\, Spielfiguren und vielem mehr ein echtes kleines Space-Medien-Lab mit Stop-Motion. \nEin Mitmachprogramm für alle ab 8 Jahre. Mit an Bord: viel Spaß\, selber machen und entwickeln\, einen echten Film machen und gemeinsam verwirklichen\, was sonst nur in der Phantasie möglich ist… \nStop Motion: Die Bild-für-Bild Filmtechnik\, mit der du unbewegliche Dinge auf magische Art zum Leben erwecken kannst… einfach eben Bild-für-Bild zum fertigen Film! \nSamstag\, 28.02.2026\, 13.00-17.00 Uhr\nOhne Anmeldung! Einfach vorbeikommen und mitmachen. Vor Ort sind alle nötigen Materialien und auch iPads auf denen gearbeitet werden kann. Gerne auch am eigenen Handy mit der Gratis App: „Stop Motion Studio“ \nEin Programm von und mit Paul&Paula – dem Medienlabor für Tens&Teens
URL:https://www.wissensstadt-salzburg.at/event/space-week-trickfilm-workshop-mit-paul-paula-2/
LOCATION:Haus der Natur\, Museumsplatz 5\, Salzburg\, 5020\, Austria
CATEGORIES:Geeignet für Kinder,Workshop & Mitmachen
END:VEVENT
END:VCALENDAR