BEGIN:VCALENDAR
VERSION:2.0
PRODID:-//Wissensstadt Salzburg - ECPv6.15.13//NONSGML v1.0//EN
CALSCALE:GREGORIAN
METHOD:PUBLISH
X-ORIGINAL-URL:https://www.wissensstadt-salzburg.at
X-WR-CALDESC:Veranstaltungen für Wissensstadt Salzburg
REFRESH-INTERVAL;VALUE=DURATION:PT1H
X-Robots-Tag:noindex
X-PUBLISHED-TTL:PT1H
BEGIN:VTIMEZONE
TZID:Europe/Vienna
BEGIN:DAYLIGHT
TZOFFSETFROM:+0100
TZOFFSETTO:+0200
TZNAME:CEST
DTSTART:20250330T010000
END:DAYLIGHT
BEGIN:STANDARD
TZOFFSETFROM:+0200
TZOFFSETTO:+0100
TZNAME:CET
DTSTART:20251026T010000
END:STANDARD
BEGIN:DAYLIGHT
TZOFFSETFROM:+0100
TZOFFSETTO:+0200
TZNAME:CEST
DTSTART:20260329T010000
END:DAYLIGHT
BEGIN:STANDARD
TZOFFSETFROM:+0200
TZOFFSETTO:+0100
TZNAME:CET
DTSTART:20261025T010000
END:STANDARD
BEGIN:DAYLIGHT
TZOFFSETFROM:+0100
TZOFFSETTO:+0200
TZNAME:CEST
DTSTART:20270328T010000
END:DAYLIGHT
BEGIN:STANDARD
TZOFFSETFROM:+0200
TZOFFSETTO:+0100
TZNAME:CET
DTSTART:20271031T010000
END:STANDARD
END:VTIMEZONE
BEGIN:VEVENT
DTSTART;TZID=Europe/Vienna:20260609T090000
DTEND;TZID=Europe/Vienna:20260609T163000
DTSTAMP:20260419T152055
CREATED:20260309T095533Z
LAST-MODIFIED:20260311T065714Z
UID:28908-1780995600-1781022600@www.wissensstadt-salzburg.at
SUMMARY:Tage der Archive: Kunst*volles im Salzburger Landesarchiv
DESCRIPTION:Gemalt\, gestochen\, illuminiert \nDas Salzburger Landesarchiv öffnet von 9.00 bis 16.30 Uhr seine Pforten und zeigt besondere Objekte aus dem Kunstinventar sowie weitere kunstvoll gestaltete Archivalien. Bei einer Themenführung erhalten Sie zusätzliche Informationen zu den jahrhundertealten Beständen. Interessierte können in einem Workshop die Technik der Kleisterpapierherstellung ausprobieren und eigene Papiere gestalten. Die Mitarbeiter:innen stehen auch außerhalb der Führung für individuelle Fragen bereit. \n\nThemenführung zu Archivalien zum Generalthema „kunst*voll“: 10:00–11:00 Uhr · Anmeldung bis 8. Juni erforderlich\, max. 15 Personen\nWorkshop „Kleisterpapiere“: 13:30–16:00 Uhr (mit kurzer Pause) Anmeldung bis 2. Juni erforderlich\, max. 6 Personen\nBüchermarkt: Stöbern Sie zwischendurch in unseren Bücherkisten und nehmen Sie vielleicht das eine oder andere interessante Werk mit nach Hause.\n\nDI 9. Juni · 9:00–16:30 \nSalzburger Landesarchiv\, Michael-Pacher-Straße 40\, Treffpunkt im Foyer\nAnmeldung: landesarchiv@salzburg.gv.at · 0662/8042-4527 \n 
URL:https://www.wissensstadt-salzburg.at/event/tage-der-archive-kunstvolles-im-salzburger-landesarchiv/
LOCATION:Salzburger Landesarchiv\, Michael-Pacher-Straße 40\, Salzburg\, 5020\, Austria
CATEGORIES:Führung & Spaziergang,Workshop & Mitmachen
ATTACH;FMTTYPE=image/jpeg:https://www.wissensstadt-salzburg.at/wp-content/uploads/2026/03/TdA_2026_Cover_kl_kurz-e1773054714586.jpg
END:VEVENT
BEGIN:VEVENT
DTSTART;TZID=Europe/Vienna:20260609T110000
DTEND;TZID=Europe/Vienna:20260609T120000
DTSTAMP:20260419T152055
CREATED:20260309T094645Z
LAST-MODIFIED:20260309T105137Z
UID:28896-1781002800-1781006400@www.wissensstadt-salzburg.at
SUMMARY:Tage der Archive: Mehr als ein halbes Jahrhundert voll*Kunst
DESCRIPTION:70 Jahre Mozartwoche \nAnlässlich des 200. Geburtstags von Wolfgang Amadé Mozart veranstaltete die Internationale Stiftung Mozarteum im Jänner 1956 eine ganze „Festwoche“. Seither findet die Mozartwoche jährlich statt und hat sich als „Erstes Festival“ des Jahres weltweit etabliert. Wir spannen den Bogen bis heute\, wo die Mozartwoche unter der Leitung von Rolando Villazón zehntausende Besucher:innen aus dem In- und Ausland anlockt.\nMit Kurzführung durch Haus und Foyers. \nDO 11. Juni · 11:00 –12:00 \nInternationale Stiftung Mozarteum (ISM)\, Schwarzstraße 26\, Stadtfoyer\nKeine Anmeldung erforderlich! \n 
URL:https://www.wissensstadt-salzburg.at/event/tage-der-archive-mehr-als-ein-halbes-jahrhundert-vollkunst-2/
LOCATION:Internationale Stiftung Mozarteum\, Schwarzstraße 26\, Salzburg\, 5020\, Austria
CATEGORIES:Führung & Spaziergang,Präsentation & Vortrag
ATTACH;FMTTYPE=image/jpeg:https://www.wissensstadt-salzburg.at/wp-content/uploads/2026/03/TdA_2026_Cover_kl_kurz-e1773054714586.jpg
END:VEVENT
BEGIN:VEVENT
DTSTART;TZID=Europe/Vienna:20260609T110000
DTEND;TZID=Europe/Vienna:20260609T120000
DTSTAMP:20260419T152055
CREATED:20260309T095756Z
LAST-MODIFIED:20260311T065533Z
UID:28911-1781002800-1781006400@www.wissensstadt-salzburg.at
SUMMARY:Tage der Archive: The Living Archive
DESCRIPTION:Prolog zum Archiv-Festival der Salzburger Festspiele \nIm Sommer 2026 findet im Rahmen der Salzburger Festspiele erstmalig ein eigenes Archiv-Festival statt\, das neue Formate\, Wahrnehmungsweisen und Quellen des Erinnerns erschließen will. Anhand der genutzten Archivmaterialien – Kostüme\, Requisiten\, Zeichnungen\, Baupläne\, 3D-Modelle – wird der Werdegang der Projekte nachgezeichnet\, in denen aus Schätzen der Festspielhistorie Kunst*volles entsteht. \nwww.salzburgerfestspiele.at/the-living-archive-2026 \nDI 9. Juni · 11:00–12:00\nDO 11. Juni · 12:00–13:00\nFR 12. Juni · 16:00–17:00 \nArchiv der Salzburger Festspiele\, Neutorstraße 25\nAnmeldung: archiv@salzburgfestival.at\nmax. 20 Personen pro Termin \n 
URL:https://www.wissensstadt-salzburg.at/event/tage-der-archive-the-living-archive/
LOCATION:Archiv der Salzburger Festspiele\, Neutorstraße 25\, Salzburg\, 5020\, Austria
CATEGORIES:Präsentation & Vortrag
ATTACH;FMTTYPE=image/jpeg:https://www.wissensstadt-salzburg.at/wp-content/uploads/2026/03/TdA_2026_Cover_kl_kurz-e1773054714586.jpg
END:VEVENT
BEGIN:VEVENT
DTSTART;TZID=Europe/Vienna:20260609T120000
DTEND;TZID=Europe/Vienna:20260609T130000
DTSTAMP:20260419T152055
CREATED:20260309T100059Z
LAST-MODIFIED:20260309T105303Z
UID:28920-1781006400-1781010000@www.wissensstadt-salzburg.at
SUMMARY:Tage der Archive: Theater & Film
DESCRIPTION:Kunst*volles aus dem Theaterarchiv \nWelche Stars\, bekannt aus Kino und Fernsehen\, standen schon auf der Bühne des Landestheaters? Welche Filme wurden fürs Theater adaptiert? In diesen Führungen spannen wir den Bogen von Theo Lingen über Gunther Philipp\, Julia Gschnitzer und Klaus Maria Brandauer bis hin zu „Der Schuh des Manitu“\, „Im Weißen Rössl“\, „The Sound of Music“\, „Priscilla“\, „Xanadu“ oder auch „Die Schöne und das Biest“. \nDI 9. Juni · 12:00–13:00\nDO 11. Juni · 11:00 –12:00 & 13:30–14:30 \nArchiv des Salzburger Landestheaters\, Schwarzstraße 4 (nahe „Trachtenmoden Lanz“). Sie werden bei der Eisentür neben dem Geschäft abgeholt. Das Archiv ist nicht barrierefrei zugänglich.\nAnmeldung (bis 7. Juni 2026): archiv@salzburger-landestheater.at\nmax. 12 Personen pro Termin \n 
URL:https://www.wissensstadt-salzburg.at/event/tage-der-archive-theater-film/
LOCATION:Archiv des Salzburger Landestheaters\, Schwarzstraße 4\, Salzburg\, 5020\, Austria
CATEGORIES:Führung & Spaziergang
ATTACH;FMTTYPE=image/jpeg:https://www.wissensstadt-salzburg.at/wp-content/uploads/2026/03/TdA_2026_Cover_kl_kurz-e1773054714586.jpg
END:VEVENT
BEGIN:VEVENT
DTSTART;TZID=Europe/Vienna:20260609T130000
DTEND;TZID=Europe/Vienna:20260609T140000
DTSTAMP:20260419T152055
CREATED:20260309T094222Z
LAST-MODIFIED:20260309T105407Z
UID:28890-1781010000-1781013600@www.wissensstadt-salzburg.at
SUMMARY:Tage der Archive: Kunst*voll tanzen
DESCRIPTION:Ballettvisionen im Werk Ernst Opplers \nErnst Oppler (1867–1929) war fasziniert von der Welt des Bühnentanzes und galt schon zu Lebzeiten als „Tanzmaler“. Seine Eindrücke von Proben und Aufführungen inspirierten ihn zu Zeichnungen und Radierungen\, in denen er flüchtige Momente tänzerischer Bewegung in die Bildende Kunst übertrug. In der Führung werden ausgewählte Artefakte aus dem Oppler-Bestand der Derra de Moroda Dance Archives vorgestellt. \nDI 9. Juni · 13:00–14:00 \nDerra de Moroda Dance Archives\, UNIPARK Nonntal\, Erzabt-Klotz-Straße 1 1. UG\, Infotheke Bibliothek\nKeine Anmeldung erforderlich! max. 20 Personen pro Termin
URL:https://www.wissensstadt-salzburg.at/event/tage-der-archive-kunstvoll-tanzen-2/
LOCATION:Derra de Moroda Dance Archives\, Unipark\, Erzabt-Klotz-Straße 1\, Salzburg\, 5020\, Austria
CATEGORIES:Führung & Spaziergang
ATTACH;FMTTYPE=image/jpeg:https://www.wissensstadt-salzburg.at/wp-content/uploads/2026/03/TdA_2026_Cover_kl_kurz-e1773054714586.jpg
END:VEVENT
BEGIN:VEVENT
DTSTART;TZID=Europe/Vienna:20260609T140000
DTEND;TZID=Europe/Vienna:20260609T150000
DTSTAMP:20260419T152055
CREATED:20260309T100455Z
LAST-MODIFIED:20260309T105445Z
UID:28929-1781013600-1781017200@www.wissensstadt-salzburg.at
SUMMARY:Tage der Archive: Meisterwerke & Mönchsküche
DESCRIPTION:Von venezianischer Grafik zum Kapuziner-Kochbuch \nEntdecken Sie Schätze der Buchkunst und Grafik: Highlights sind mittelalterliche Buchmalerei\, Originalzeichnungen von Veronese und Entwürfe für den Dogenpalast. Werden Sie zudem selbst aktiv im Citizen Science-Projekt zur Kapuziner-Kochkunst. Helfen Sie uns\, ein historisches Kochbuch der Salzburger Kapuziner zu transkribieren und so das kulinarische Erbe der Brüder für die heutige Zeit zu bewahren. \nDI 9 Juni · 14:00–15:00 \nUniversitätsbibliothek Salzburg\, Hofstallgasse 2–4\, 1. Stock\, Bibliotheksaula\nAnmeldung (bis 8. Juni 2026): christoph.brandhuber@plus.ac.at \n 
URL:https://www.wissensstadt-salzburg.at/event/tage-der-archive-meisterwerke-moenchskueche/
LOCATION:Universitätsbibliothek Salzburg\, Kursraum\, 1. Stock\, Hofstallgasse 2-4\, Salzburg\, 5020\, Austria
CATEGORIES:Präsentation & Vortrag
ATTACH;FMTTYPE=image/jpeg:https://www.wissensstadt-salzburg.at/wp-content/uploads/2026/03/TdA_2026_Cover_kl_kurz-e1773054714586.jpg
END:VEVENT
BEGIN:VEVENT
DTSTART;TZID=Europe/Vienna:20260609T140000
DTEND;TZID=Europe/Vienna:20260609T150000
DTSTAMP:20260419T152055
CREATED:20260309T101100Z
LAST-MODIFIED:20260309T105519Z
UID:28936-1781013600-1781017200@www.wissensstadt-salzburg.at
SUMMARY:Tage der Archive: kunst*voll schreiben
DESCRIPTION:Kalligrafische Erzeugnisse im Archiv St. Peter. \nSchöne Schriften faszinieren. Ob mittelalterliche Buchschrift oder barocke Kursive – wir erfreuen uns an Schriften\, die sich durch Regelmäßigkeit\, Formschönheit und Extravaganz auszeichnen. Durch haltbare Schreib- und Beschreibstoffe wirken diese Kunstwerke scheinbar unvergänglich. Was beim Schreiben nach Meditation und Entspannung aussieht\, braucht jahrelange Übung und Disziplin. Sie wollten schon immer einem schreibenden Mönch über die Schulter blicken? Dann sind Sie hier genau richtig. \nDI 9. Juni · 14:00–15:00 & 16:00–17:00 \nArchiv der Erzabtei St. Peter\, St. Peter-Bezirk 1\, Medienraum (gegenüber der Pforte) \nKeine Anmeldung erforderlich!\nmax. 25 Personen pro Termin \n 
URL:https://www.wissensstadt-salzburg.at/event/tage-der-archive-kunstvoll-schreiben/
LOCATION:Erzabtei St. Peter\, Sankt-Peter-Bezirk 1\, Salzburg\, 5020\, Austria
CATEGORIES:Präsentation & Vortrag
ATTACH;FMTTYPE=image/jpeg:https://www.wissensstadt-salzburg.at/wp-content/uploads/2026/03/TdA_2026_Cover_kl_kurz-e1773054714586.jpg
END:VEVENT
BEGIN:VEVENT
DTSTART;TZID=Europe/Vienna:20260609T140000
DTEND;TZID=Europe/Vienna:20260609T160000
DTSTAMP:20260419T152055
CREATED:20260309T100857Z
LAST-MODIFIED:20260309T105626Z
UID:28932-1781013600-1781020800@www.wissensstadt-salzburg.at
SUMMARY:Tage der Archive: Kunst*volle Momente der Mobilität
DESCRIPTION:Highlights aus der fotografischen Sammlung des ÖAMTC Salzburg \nIm Archiv des ÖAMTC erzählen tausende Fotos von 120 Jahren Mobilitätsgeschichte in Salzburg. Das Herzstück des Archivs bilden wertvolle Alben von historischen Motorsportveranstaltungen wie den Gaisberg- oder Glocknerrennen. Eine umfassende Sammlung von Clubzeitschriften – die älteste datiert aus dem Jahr 1900 – dokumentiert die Geschichte des ÖAMTC und gibt faszinierende Einblicke in die Entwicklung der motorisierten Mobilität\, vor allem auch in Salzburg. Werfen Sie mit uns einen Blick in ausgewählte Alben und Clubzeitschriften. \nDI 9. Juni · 14:00–16:00 \nÖAMTC Salzburg\, Alpenstraße 102–104\nKeine Anmeldung erforderlich! \n  \n 
URL:https://www.wissensstadt-salzburg.at/event/tage-der-archive-kunstvolle-momente-der-mobilitaet/
LOCATION:ÖAMTC Salzburg\, Alpenstraße 102–104\, Salzburg\, Austria
CATEGORIES:Präsentation & Vortrag
ATTACH;FMTTYPE=image/jpeg:https://www.wissensstadt-salzburg.at/wp-content/uploads/2026/03/TdA_2026_Cover_kl_kurz-e1773054714586.jpg
END:VEVENT
BEGIN:VEVENT
DTSTART;TZID=Europe/Vienna:20260609T160000
DTEND;TZID=Europe/Vienna:20260609T160000
DTSTAMP:20260419T152055
CREATED:20260309T101141Z
LAST-MODIFIED:20260311T070658Z
UID:28939-1781020800-1781020800@www.wissensstadt-salzburg.at
SUMMARY:Tage der Archive: kunst*voll schreiben
DESCRIPTION:Kalligrafische Erzeugnisse im Archiv St. Peter \nSchöne Schriften faszinieren. Ob mittelalterliche Buchschrift oder barocke Kursive – wir erfreuen uns an Schriften\, die sich durch Regelmäßigkeit\, Formschönheit und Extravaganz auszeichnen. Durch haltbare Schreib- und Beschreibstoffe wirken diese Kunstwerke scheinbar unvergänglich. Was beim Schreiben nach Meditation und Entspannung aussieht\, braucht jahrelange Übung und Disziplin. Sie wollten schon immer einem schreibenden Mönch über die Schulter blicken? Dann sind Sie hier genau richtig. \nDI 9. Juni · 16:00–17:00 \nArchiv der Erzabtei St. Peter\, St. Peter-Bezirk 1\, Medienraum (gegenüber der Pforte) \nKeine Anmeldung erforderlich!\nmax. 25 Personen pro Termin \n 
URL:https://www.wissensstadt-salzburg.at/event/tage-der-archive-kunstvoll-schreiben-2/
LOCATION:Erzabtei St. Peter\, Sankt-Peter-Bezirk 1\, Salzburg\, 5020\, Austria
CATEGORIES:Präsentation & Vortrag
ATTACH;FMTTYPE=image/jpeg:https://www.wissensstadt-salzburg.at/wp-content/uploads/2026/03/TdA_2026_Cover_kl_kurz-e1773054714586.jpg
END:VEVENT
BEGIN:VEVENT
DTSTART;TZID=Europe/Vienna:20260609T160000
DTEND;TZID=Europe/Vienna:20260609T173000
DTSTAMP:20260419T152055
CREATED:20260309T101326Z
LAST-MODIFIED:20260309T105739Z
UID:28943-1781020800-1781026200@www.wissensstadt-salzburg.at
SUMMARY:Tage der Archive: Kunst*volles Städtisches Archiv
DESCRIPTION:Eine Quellenpräsentation \nLernen Sie die Bestände der Stadtverwaltung kennen – von mittelalterlichen Urkunden bis hin zu zeitgeschichtlichen Dokumenten. Über die Epochengrenzen hinweg werfen wir gemeinsam einen Blick auf besonders sehenswerte und raffiniert gestaltete Archivalien. Ein Schwerpunkt wird dabei auf Interaktionen zwischen Stadtverwaltung und der Bevölkerung liegen. Unerwartet kunst*volle Einblicke erwarten Sie. \nDI 9. Juni · 16:00–17:30 \nHaus der Stadtgeschichte\, Glockengasse 8\nAnmeldung: archiv@stadt-salzburg.at · 0662/8072-4701 \n 
URL:https://www.wissensstadt-salzburg.at/event/tage-der-archive-kunstvolles-staedtisches-archiv/
LOCATION:Haus der Stadtgeschichte\, Glockengasse 8\, Salzburg\, 5020\, Austria
CATEGORIES:Präsentation & Vortrag
ATTACH;FMTTYPE=image/jpeg:https://www.wissensstadt-salzburg.at/wp-content/uploads/2026/03/TdA_2026_Cover_kl_kurz-e1773054714586.jpg
END:VEVENT
BEGIN:VEVENT
DTSTART;TZID=Europe/Vienna:20260609T180000
DTEND;TZID=Europe/Vienna:20260609T190000
DTSTAMP:20260419T152055
CREATED:20260309T101457Z
LAST-MODIFIED:20260309T105833Z
UID:28946-1781028000-1781031600@www.wissensstadt-salzburg.at
SUMMARY:Tage der Archive: Wie Kunst gemacht wird
DESCRIPTION:Neuproduktionen aus dem fotografischen Vorlass am Beispiel von Manfred Willmann \nEine Führung durch das Fotohof Archiv zeigt die verschiedenen Stationen von Sammlung\, Archivierung\, Digitalisierung\, Dokumentation bis hin zur Präsentation in Ausstellungen und Büchern. Die Kuratorin Anna Aicher hat intensiv mit dem Grazer Fotokünstler Manfred Willmann zusammengearbeitet und erläutert an Bildbeispielen\, wie sie seine frühen Fotografien in einer neuen Version produziert. \nDI 9. Juni · 18:00 –19:00 \nFotohof Archiv\, Sparkassenstraße 2\nKeine Anmeldung erforderlich! \n 
URL:https://www.wissensstadt-salzburg.at/event/tage-der-archive-wie-kunst-gemacht-wird/
LOCATION:Fotohof Archiv\, Sparkassenstraße 2\, Salzburg\, Salzburg\, 5020\, Austria
CATEGORIES:Führung & Spaziergang
ATTACH;FMTTYPE=image/jpeg:https://www.wissensstadt-salzburg.at/wp-content/uploads/2026/03/TdA_2026_Cover_kl_kurz-e1773054714586.jpg
END:VEVENT
END:VCALENDAR