BEGIN:VCALENDAR
VERSION:2.0
PRODID:-//Wissensstadt Salzburg - ECPv6.15.13//NONSGML v1.0//EN
CALSCALE:GREGORIAN
METHOD:PUBLISH
X-ORIGINAL-URL:https://www.wissensstadt-salzburg.at
X-WR-CALDESC:Veranstaltungen für Wissensstadt Salzburg
REFRESH-INTERVAL;VALUE=DURATION:PT1H
X-Robots-Tag:noindex
X-PUBLISHED-TTL:PT1H
BEGIN:VTIMEZONE
TZID:Europe/Vienna
BEGIN:DAYLIGHT
TZOFFSETFROM:+0100
TZOFFSETTO:+0200
TZNAME:CEST
DTSTART:20250330T010000
END:DAYLIGHT
BEGIN:STANDARD
TZOFFSETFROM:+0200
TZOFFSETTO:+0100
TZNAME:CET
DTSTART:20251026T010000
END:STANDARD
BEGIN:DAYLIGHT
TZOFFSETFROM:+0100
TZOFFSETTO:+0200
TZNAME:CEST
DTSTART:20260329T010000
END:DAYLIGHT
BEGIN:STANDARD
TZOFFSETFROM:+0200
TZOFFSETTO:+0100
TZNAME:CET
DTSTART:20261025T010000
END:STANDARD
BEGIN:DAYLIGHT
TZOFFSETFROM:+0100
TZOFFSETTO:+0200
TZNAME:CEST
DTSTART:20270328T010000
END:DAYLIGHT
BEGIN:STANDARD
TZOFFSETFROM:+0200
TZOFFSETTO:+0100
TZNAME:CET
DTSTART:20271031T010000
END:STANDARD
END:VTIMEZONE
BEGIN:VEVENT
DTSTART;TZID=Europe/Vienna:20260610T103000
DTEND;TZID=Europe/Vienna:20260610T111500
DTSTAMP:20260419T152013
CREATED:20260309T101649Z
LAST-MODIFIED:20260309T104414Z
UID:28949-1781087400-1781090100@www.wissensstadt-salzburg.at
SUMMARY:Tage der Archive: Buntpapier – schon der Einband eine Zier
DESCRIPTION:Schreibkalender und ihre kunst*vollen Umschläge \nVom 17. bis zum 19. Jahrhundert dienten unterschiedliche Arten von Buntpapieren als billiges Einbandmaterial. Die über hundert Jahre vollständig erhaltene Serie an Schreibkalendern bietet einen farbenprächtigen Einblick in diese kunst*volle Einbandgestaltung. Nach den Vorträgen (Dauer: 45 min.) besteht jeweils die Möglichkeit\, die Objekte im Original zu sehen. \nMI 10. Juni · 10:30–11:15 & 14:00–14:45 \nBibliothek der Erzabtei St. Peter\, St. Peter-Bezirk 1\, Medienraum (gegenüber der Klosterpforte)\nKeine Anmeldung erforderlich! \n 
URL:https://www.wissensstadt-salzburg.at/event/tage-der-archive-buntpapier-schon-der-einband-eine-zier/
LOCATION:Erzabtei St. Peter\, Sankt-Peter-Bezirk 1\, Salzburg\, 5020\, Austria
CATEGORIES:Präsentation & Vortrag
ATTACH;FMTTYPE=image/jpeg:https://www.wissensstadt-salzburg.at/wp-content/uploads/2026/03/TdA_2026_Cover_kl_kurz-e1773054714586.jpg
END:VEVENT
BEGIN:VEVENT
DTSTART;TZID=Europe/Vienna:20260610T140000
DTEND;TZID=Europe/Vienna:20260610T144500
DTSTAMP:20260419T152013
CREATED:20260309T101727Z
LAST-MODIFIED:20260309T104445Z
UID:28952-1781100000-1781102700@www.wissensstadt-salzburg.at
SUMMARY:Tage der Archive: Buntpapier – schon der Einband eine Zier
DESCRIPTION:Schreibkalender und ihre kunst*vollen Umschläge \nVom 17. bis zum 19. Jahrhundert dienten unterschiedliche Arten von Buntpapieren als billiges Einbandmaterial. Die über hundert Jahre vollständig erhaltene Serie an Schreibkalendern bietet einen farbenprächtigen Einblick in diese kunst*volle Einbandgestaltung. Nach den Vorträgen (Dauer: 45 min.) besteht jeweils die Möglichkeit\, die Objekte im Original zu sehen. \nMI 10. Juni · 14:00–14:45 \nBibliothek der Erzabtei St. Peter\, St. Peter-Bezirk 1\, Medienraum (gegenüber der Klosterpforte)\nKeine Anmeldung erforderlich! \n 
URL:https://www.wissensstadt-salzburg.at/event/tage-der-archive-buntpapier-schon-der-einband-eine-zier-2/
LOCATION:Erzabtei St. Peter\, Sankt-Peter-Bezirk 1\, Salzburg\, 5020\, Austria
CATEGORIES:Präsentation & Vortrag
ATTACH;FMTTYPE=image/jpeg:https://www.wissensstadt-salzburg.at/wp-content/uploads/2026/03/TdA_2026_Cover_kl_kurz-e1773054714586.jpg
END:VEVENT
BEGIN:VEVENT
DTSTART;TZID=Europe/Vienna:20260610T140000
DTEND;TZID=Europe/Vienna:20260610T170000
DTSTAMP:20260419T152013
CREATED:20260309T101936Z
LAST-MODIFIED:20260309T104744Z
UID:28958-1781100000-1781110800@www.wissensstadt-salzburg.at
SUMMARY:Tage der Archive: Anfertigung eines Beutelbuches
DESCRIPTION:Gebundene Geschichte am Gürtel \nUnter fachkundiger Anleitung wird eine der skurrilsten Buchformen des Mittelalters\, das Beutelbuch\, genauer unter die Lupe genommen. Das „Taschenbuch“ des Mittelalters wurde ursprünglich mit einem langen Lederschlauch am Gürtel befestigt. Reduziert auf die einfachste Form wird dieses Buch in Miniaturform von den Teilnehmer:innen eigenständig von Hand in Leder gebunden. \nMI 10. Juni · 14:00–17:00 \nHaus der Stadtgeschichte\, Glockengasse 8\nAnmeldung: archiv@stadt-salzburg.at · 0662/8072-4701\nmax. 12 Personen \n 
URL:https://www.wissensstadt-salzburg.at/event/tage-der-archive-anfertigung-eines-beutelbuches/
LOCATION:Haus der Stadtgeschichte\, Glockengasse 8\, Salzburg\, 5020\, Austria
CATEGORIES:Workshop & Mitmachen
ATTACH;FMTTYPE=image/jpeg:https://www.wissensstadt-salzburg.at/wp-content/uploads/2026/03/TdA_2026_Cover_kl_kurz-e1773054714586.jpg
END:VEVENT
BEGIN:VEVENT
DTSTART;TZID=Europe/Vienna:20260610T160000
DTEND;TZID=Europe/Vienna:20260610T173000
DTSTAMP:20260419T152013
CREATED:20260309T102119Z
LAST-MODIFIED:20260309T104904Z
UID:28961-1781107200-1781112600@www.wissensstadt-salzburg.at
SUMMARY:Tage der Archive: Das naturwissenschaftliche Archiv Salzburgs
DESCRIPTION:Sammlungsführung im Haus der Natur \nIn den biologischen und geowissenschaftlichen Sammlungen am Haus der Natur schlummern viele Schätze\, die als naturwissenschaftliches Archiv Salzburgs dienen. Im Zuge der Führung bieten die Kurator:innen Einblicke in die geologische\, die botanische\, die entomologische sowie die ornithologische Sammlung des Museums. \nMI 10. Juni · 16:00–17:30 \nHaus der Natur Museumsplatz 5\nAnmeldung: sonja.fruehwirth@hausdernatur.at\nmax. 20 Personen
URL:https://www.wissensstadt-salzburg.at/event/tage-der-archive-das-naturwissenschaftliche-archiv-salzburgs/
LOCATION:Haus der Natur\, Museumsplatz 5\, Salzburg\, 5020\, Austria
CATEGORIES:Führung & Spaziergang
ATTACH;FMTTYPE=image/jpeg:https://www.wissensstadt-salzburg.at/wp-content/uploads/2026/03/TdA_2026_Cover_kl_kurz-e1773054714586.jpg
END:VEVENT
BEGIN:VEVENT
DTSTART;TZID=Europe/Vienna:20260610T180000
DTEND;TZID=Europe/Vienna:20260610T190000
DTSTAMP:20260419T152013
CREATED:20260309T102305Z
LAST-MODIFIED:20260309T105013Z
UID:28965-1781114400-1781118000@www.wissensstadt-salzburg.at
SUMMARY:Tage der Archive: Quattro stagioni
DESCRIPTION:Wiederverwertung bei Michaela Moscouw: Strategie und konservatorische Herausforderung \nEine Führung durch das Fotohof Archiv zeigt die verschiedenen Stationen von Sammlung\, Archivierung\, Digitalisierung\, Dokumentation bis hin zur Präsentation in Ausstellungen und Büchern. Am Beispiel der Künstlerin Michaela Moscouw wird der Kurator Peter Schreiner die Verarbeitung und Wiederverwertung von Bildern mit Beispielen erläutern. \nMI 10. Juni · 18:00 –19:00 \nFotohof Archiv\, Sparkassenstraße 2\nKeine Anmeldung erforderlich! \n 
URL:https://www.wissensstadt-salzburg.at/event/tage-der-archive-quattro-stagioni/
LOCATION:Fotohof Archiv\, Sparkassenstraße 2\, Salzburg\, Salzburg\, 5020\, Austria
CATEGORIES:Führung & Spaziergang
END:VEVENT
END:VCALENDAR