BEGIN:VCALENDAR
VERSION:2.0
PRODID:-//Wissensstadt Salzburg - ECPv6.15.13//NONSGML v1.0//EN
CALSCALE:GREGORIAN
METHOD:PUBLISH
X-ORIGINAL-URL:https://www.wissensstadt-salzburg.at
X-WR-CALDESC:Veranstaltungen für Wissensstadt Salzburg
REFRESH-INTERVAL;VALUE=DURATION:PT1H
X-Robots-Tag:noindex
X-PUBLISHED-TTL:PT1H
BEGIN:VTIMEZONE
TZID:Europe/Vienna
BEGIN:DAYLIGHT
TZOFFSETFROM:+0100
TZOFFSETTO:+0200
TZNAME:CEST
DTSTART:20250330T010000
END:DAYLIGHT
BEGIN:STANDARD
TZOFFSETFROM:+0200
TZOFFSETTO:+0100
TZNAME:CET
DTSTART:20251026T010000
END:STANDARD
BEGIN:DAYLIGHT
TZOFFSETFROM:+0100
TZOFFSETTO:+0200
TZNAME:CEST
DTSTART:20260329T010000
END:DAYLIGHT
BEGIN:STANDARD
TZOFFSETFROM:+0200
TZOFFSETTO:+0100
TZNAME:CET
DTSTART:20261025T010000
END:STANDARD
BEGIN:DAYLIGHT
TZOFFSETFROM:+0100
TZOFFSETTO:+0200
TZNAME:CEST
DTSTART:20270328T010000
END:DAYLIGHT
BEGIN:STANDARD
TZOFFSETFROM:+0200
TZOFFSETTO:+0100
TZNAME:CET
DTSTART:20271031T010000
END:STANDARD
END:VTIMEZONE
BEGIN:VEVENT
DTSTART;TZID=Europe/Vienna:20260611T090000
DTEND;TZID=Europe/Vienna:20260611T103000
DTSTAMP:20260419T152034
CREATED:20260309T093245Z
LAST-MODIFIED:20260309T103838Z
UID:28880-1781168400-1781173800@www.wissensstadt-salzburg.at
SUMMARY:Tage der Archive: Ein Archiv voll Kunst
DESCRIPTION:Rundgang durch die Depots des Salzburg Museum \nDie Depoträume des Salzburg Museum bergen eine Fülle kunst*voller Objekte und bilden ein unschätzbares Archiv für die Kunst- und Kulturgeschichte des Landes Salzburg. Begleiten Sie unsere Kurator:innen hinter die Kulissen und erkunden Sie ausgewählte Bestände der Gemälde- und Grafiksammlung\, der archäologischen Sammlung\, der Sammlung historischer Waffen sowie des Museumsarchivs und der Museumsbibliothek. \nDO 11. Juni · 9:00–10:30 Historische Waffen\, Archiv u. Bibliothek \nWissenszentrum Alpenstraße Alpenstraße 75 (Eingang über Innenhof) \nAnmeldung: bibliothek@salzburgmuseum.at 0662/620808-141\nmax. 20 Personen pro Termin
URL:https://www.wissensstadt-salzburg.at/event/tage-der-archive-ein-archiv-voll-kunst-2/
LOCATION:Wissenszentrum Alpenstraße\, Alpenstraße 75\, Salzburg\, Salzburg\, 5020\, Austria
CATEGORIES:Führung & Spaziergang
ATTACH;FMTTYPE=image/jpeg:https://www.wissensstadt-salzburg.at/wp-content/uploads/2026/03/TdA_2026_Cover_kl_kurz-e1773054714586.jpg
END:VEVENT
BEGIN:VEVENT
DTSTART;TZID=Europe/Vienna:20260611T110000
DTEND;TZID=Europe/Vienna:20260611T120000
DTSTAMP:20260419T152034
CREATED:20260309T100151Z
LAST-MODIFIED:20260309T103917Z
UID:28923-1781175600-1781179200@www.wissensstadt-salzburg.at
SUMMARY:Tage der Archive: Theater & Film
DESCRIPTION:Kunst*volles aus dem Theaterarchiv \nWelche Stars\, bekannt aus Kino und Fernsehen\, standen schon auf der Bühne des Landestheaters? Welche Filme wurden fürs Theater adaptiert? In diesen Führungen spannen wir den Bogen von Theo Lingen über Gunther Philipp\, Julia Gschnitzer und Klaus Maria Brandauer bis hin zu „Der Schuh des Manitu“\, „Im Weißen Rössl“\, „The Sound of Music“\, „Priscilla“\, „Xanadu“ oder auch „Die Schöne und das Biest“. \nDO 11. Juni · 11:00 –12:00 & 13:30–14:30 \nArchiv des Salzburger Landestheaters\, Schwarzstraße 4 (nahe „Trachtenmoden Lanz“). Sie werden bei der Eisentür neben dem Geschäft abgeholt. Das Archiv ist nicht barrierefrei zugänglich.\nAnmeldung (bis 7. Juni 2026): archiv@salzburger-landestheater.at\nmax. 12 Personen pro Termin \n 
URL:https://www.wissensstadt-salzburg.at/event/tage-der-archive-theater-film-2/
LOCATION:Archiv des Salzburger Landestheaters\, Schwarzstraße 4\, Salzburg\, 5020\, Austria
CATEGORIES:Führung & Spaziergang
ATTACH;FMTTYPE=image/jpeg:https://www.wissensstadt-salzburg.at/wp-content/uploads/2026/03/TdA_2026_Cover_kl_kurz-e1773054714586.jpg
END:VEVENT
BEGIN:VEVENT
DTSTART;TZID=Europe/Vienna:20260611T120000
DTEND;TZID=Europe/Vienna:20260611T130000
DTSTAMP:20260419T152034
CREATED:20260309T095832Z
LAST-MODIFIED:20260309T103949Z
UID:28914-1781179200-1781182800@www.wissensstadt-salzburg.at
SUMMARY:Tage der Archive: The Living Archive
DESCRIPTION:Prolog zum Archiv-Festival der Salzburger Festspiele \nIm Sommer 2026 findet im Rahmen der Salzburger Festspiele erstmalig ein eigenes Archiv-Festival statt\, das neue Formate\, Wahrnehmungsweisen und Quellen des Erinnerns erschließen will. Anhand der genutzten Archivmaterialien – Kostüme\, Requisiten\, Zeichnungen\, Baupläne\, 3D-Modelle – wird der Werdegang der Projekte nachgezeichnet\, in denen aus Schätzen der Festspielhistorie Kunst*volles entsteht. \nwww.salzburgerfestspiele.at/the-living-archive-2026 \nDO 11. Juni · 12:00–13:00\nFR 12. Juni · 16:00–17:00 \nArchiv der Salzburger Festspiele\, Neutorstraße 25\nAnmeldung: archiv@salzburgfestival.at\nmax. 20 Personen pro Termin \n 
URL:https://www.wissensstadt-salzburg.at/event/tage-der-archive-the-living-archive-2/
LOCATION:Archiv der Salzburger Festspiele\, Neutorstraße 25\, Salzburg\, 5020\, Austria
CATEGORIES:Präsentation & Vortrag
ATTACH;FMTTYPE=image/jpeg:https://www.wissensstadt-salzburg.at/wp-content/uploads/2026/03/TdA_2026_Cover_kl_kurz-e1773054714586.jpg
END:VEVENT
BEGIN:VEVENT
DTSTART;TZID=Europe/Vienna:20260611T133000
DTEND;TZID=Europe/Vienna:20260611T143000
DTSTAMP:20260419T152034
CREATED:20260309T100227Z
LAST-MODIFIED:20260309T104023Z
UID:28926-1781184600-1781188200@www.wissensstadt-salzburg.at
SUMMARY:Tage der Archive: Theater & Film
DESCRIPTION:Kunst*volles aus dem Theaterarchiv \nWelche Stars\, bekannt aus Kino und Fernsehen\, standen schon auf der Bühne des Landestheaters? Welche Filme wurden fürs Theater adaptiert? In diesen Führungen spannen wir den Bogen von Theo Lingen über Gunther Philipp\, Julia Gschnitzer und Klaus Maria Brandauer bis hin zu „Der Schuh des Manitu“\, „Im Weißen Rössl“\, „The Sound of Music“\, „Priscilla“\, „Xanadu“ oder auch „Die Schöne und das Biest“. \nDO 11. Juni · 13:30–14:30 \nArchiv des Salzburger Landestheaters\, Schwarzstraße 4 (nahe „Trachtenmoden Lanz“). Sie werden bei der Eisentür neben dem Geschäft abgeholt. Das Archiv ist nicht barrierefrei zugänglich.\nAnmeldung (bis 7. Juni 2026): archiv@salzburger-landestheater.at\nmax. 12 Personen pro Termin \n 
URL:https://www.wissensstadt-salzburg.at/event/tage-der-archive-theater-film-2-2/
LOCATION:Archiv des Salzburger Landestheaters\, Schwarzstraße 4\, Salzburg\, 5020\, Austria
CATEGORIES:Führung & Spaziergang
ATTACH;FMTTYPE=image/jpeg:https://www.wissensstadt-salzburg.at/wp-content/uploads/2026/03/TdA_2026_Cover_kl_kurz-e1773054714586.jpg
END:VEVENT
BEGIN:VEVENT
DTSTART;TZID=Europe/Vienna:20260611T140000
DTEND;TZID=Europe/Vienna:20260611T150000
DTSTAMP:20260419T152034
CREATED:20260309T102439Z
LAST-MODIFIED:20260309T104105Z
UID:28968-1781186400-1781190000@www.wissensstadt-salzburg.at
SUMMARY:Tage der Archive: Wer ist wer?
DESCRIPTION:Identifizierung von Personen auf Archiv-Fotos \nDas Archiv der Universität Mozarteum hat in seinen Beständen etliche Fotos von Veranstaltungen\, auf denen Personen aus Musik\, Kunst\, Theater und Politik zu sehen sind. Viele davon sind nicht beschriftet. Hier hofft das Archiv auf die Hilfe von Kenner:innen aus der Bevölkerung\, die die abgebildeten Personen identifizieren können. \nDO 11. Juni · 14:00–15:00 \nArchiv der Universität Mozarteum\, Veranstaltungsort: Kunst-ARCHIV-Raum der Universität Mozarteum\, Paris Lodron Str. 9\nAnmeldung: archiv@moz.ac.at \n 
URL:https://www.wissensstadt-salzburg.at/event/tage-der-archive-wer-ist-wer/
LOCATION:Archiv der Universität Mozarteum\, Paris-Lodron-Straße 9\, Salzburg\, 5020\, Austria
CATEGORIES:Workshop & Mitmachen
ATTACH;FMTTYPE=image/jpeg:https://www.wissensstadt-salzburg.at/wp-content/uploads/2026/03/TdA_2026_Cover_kl_kurz-e1773054714586.jpg
END:VEVENT
BEGIN:VEVENT
DTSTART;TZID=Europe/Vienna:20260611T143000
DTEND;TZID=Europe/Vienna:20260611T153000
DTSTAMP:20260419T152034
CREATED:20260309T102609Z
LAST-MODIFIED:20260309T104136Z
UID:28971-1781188200-1781191800@www.wissensstadt-salzburg.at
SUMMARY:Tage der Archive: Ars vivendi
DESCRIPTION:Kunst*volle Lebenswelten im Franziskanerkloster \nVor 800 Jahren starb Franz von Assisi. Sein Charisma brachte eine facettenreiche franziskanische Lebenskunst hervor. Darüber hinaus entstand im Laufe der Jahrhunderte eine vielfältige Kunst für die Lebenswelten der Franziskaner. Die Objektpräsentation eröffnet historische\, künstlerische und musikalische Streifzüge durch das Franziskanerkloster. \nDO 11. Juni · 14:30–15:30 \nFranziskanerkloster\, Franziskanergasse 5\nAnmeldung: provinzsekretariat@franziskaner.at\nmax. 15 Personen \n 
URL:https://www.wissensstadt-salzburg.at/event/tage-der-archive-ars-vivendi/
LOCATION:Franziskanerkloster\, Franziskanergasse 5\, Salzburg\, 5020\, Austria
CATEGORIES:Präsentation & Vortrag
ATTACH;FMTTYPE=image/jpeg:https://www.wissensstadt-salzburg.at/wp-content/uploads/2026/03/TdA_2026_Cover_kl_kurz-e1773054714586.jpg
END:VEVENT
BEGIN:VEVENT
DTSTART;TZID=Europe/Vienna:20260611T150000
DTEND;TZID=Europe/Vienna:20260611T154500
DTSTAMP:20260419T152034
CREATED:20260309T102741Z
LAST-MODIFIED:20260311T070006Z
UID:28974-1781190000-1781192700@www.wissensstadt-salzburg.at
SUMMARY:Tage der Archive: Mehrfachbegabt
DESCRIPTION:Kunst im Literaturarchiv \nDichterinnen und Dichter sind mitunter auf mehreren Gebieten kreativ tätig. Neben der literarischen Arbeit entstehen so Werke der Malerei\, der Fotografie oder anderer Künste sowie grenzübergreifende Genres wie Film und Kabarett. Das Literaturarchiv Salzburg gibt Einblicke in die Bestände u. a. von Johann Barth\, Erwin Einzinger\, Charlotte Herzfeld\, Romana Hödlmoser-Mikulaschek\, Georg Rendl\, Karl Heinrich Waggerl\, Christian Wallner oder Kurt Wölfflin. \nDO 11. Juni · 15:00–15:45 \nLiteraturarchiv Salzburg\, Pfeifergasse 6 (2. Stock)\nAnmeldung: literaturarchiv@plus.ac.at · 0662/8044-4910\nmax. 12 Personen \n 
URL:https://www.wissensstadt-salzburg.at/event/tage-der-archive-mehrfachbegabt/
LOCATION:Literaturarchiv Salzburg\, Pfeifergasse 6\, Salzburg\, 5020\, Austria
CATEGORIES:Führung & Spaziergang,Präsentation & Vortrag
ATTACH;FMTTYPE=image/jpeg:https://www.wissensstadt-salzburg.at/wp-content/uploads/2026/03/TdA_2026_Cover_kl_kurz-e1773054714586.jpg
END:VEVENT
BEGIN:VEVENT
DTSTART;TZID=Europe/Vienna:20260611T163000
DTEND;TZID=Europe/Vienna:20260611T173000
DTSTAMP:20260419T152034
CREATED:20260309T102952Z
LAST-MODIFIED:20260309T104249Z
UID:28978-1781195400-1781199000@www.wissensstadt-salzburg.at
SUMMARY:Tage der Archive: kunst*voll – voller Kunst
DESCRIPTION:50 Jahre Bildende Künste und Gestaltung am Mozarteum \n1976 wurde an der damaligen Hochschule Mozarteum die Abteilung für Kunsterziehung gegründet. Damit wurde das Mozarteum zur Drei-Sparten Institution\, was bis heute ein Alleinstellungsmerkmal der Salzburger Kunstuniversität ist. Susanne Prucher spürt in ihrem Vortrag den Anfängen der Kunst- und Werkpädagogik nach und zeigt die Entwicklung zum Department für Bildende Künste und Gestaltung. \nDO 11. Juni · 16:30–17:30 \nArchiv der Universität Mozarteum\, Veranstaltungsort: Galerie „Das Zimmer“ im Hauptgebäude der Universität Mozarteum\, Mirabellplatz 1\nAnmeldung: archiv@moz.ac.at \n 
URL:https://www.wissensstadt-salzburg.at/event/tage-der-archive-kunstvoll-voller-kunst/
LOCATION:Archiv der Universität Mozarteum\, Paris-Lodron-Straße 9\, Salzburg\, 5020\, Austria
CATEGORIES:Präsentation & Vortrag
ATTACH;FMTTYPE=image/jpeg:https://www.wissensstadt-salzburg.at/wp-content/uploads/2026/03/TdA_2026_Cover_kl_kurz-e1773054714586.jpg
END:VEVENT
BEGIN:VEVENT
DTSTART;TZID=Europe/Vienna:20260611T180000
DTEND;TZID=Europe/Vienna:20260611T190000
DTSTAMP:20260419T152034
CREATED:20260309T103138Z
LAST-MODIFIED:20260309T104337Z
UID:28981-1781200800-1781204400@www.wissensstadt-salzburg.at
SUMMARY:Tage der Archive: Über die Bewahrung von Fotokunst
DESCRIPTION:Sammeln\, Aufbewahren und Restaurieren von fotografischen Arbeiten \nEine Führung durch das Fotohof Archiv zeigt die verschiedenen Stationen von Sammlung\, Archivierung\, Digitalisierung\, Dokumentation bis hin zur Präsentation in Ausstellungen und Büchern. Die Foto-Restauratorin Maria Emberger gibt Einblicke in den richtigen Umgang mit Fotografie und zeigt Beispiele aus dem Archiv. Die Teilnehmer:innen sind auch eingeladen Fragen zum eigenen Umgang mit fotografischen Arbeiten zu stellen und können Beispiele in begrenztem Umfang zur Besprechung mitnehmen. Die richtige Aufbewahrung von Fotografien und Negativen ist entscheidend. \nDO 11. Juni · 18:00–19:00 \nFotohof Archiv\, Sparkassenstraße 2\nKeine Anmeldung erforderlich! \n 
URL:https://www.wissensstadt-salzburg.at/event/tage-der-archive-ueber-die-bewahrung-von-fotokunst/
LOCATION:Fotohof Archiv\, Sparkassenstraße 2\, Salzburg\, Salzburg\, 5020\, Austria
CATEGORIES:Führung & Spaziergang
ATTACH;FMTTYPE=image/jpeg:https://www.wissensstadt-salzburg.at/wp-content/uploads/2026/03/TdA_2026_Cover_kl_kurz-e1773054714586.jpg
END:VEVENT
END:VCALENDAR