BEGIN:VCALENDAR
VERSION:2.0
PRODID:-//Wissensstadt Salzburg - ECPv6.15.20//NONSGML v1.0//EN
CALSCALE:GREGORIAN
METHOD:PUBLISH
X-ORIGINAL-URL:https://www.wissensstadt-salzburg.at
X-WR-CALDESC:Veranstaltungen für Wissensstadt Salzburg
REFRESH-INTERVAL;VALUE=DURATION:PT1H
X-Robots-Tag:noindex
X-PUBLISHED-TTL:PT1H
BEGIN:VTIMEZONE
TZID:UTC
BEGIN:STANDARD
TZOFFSETFROM:+0000
TZOFFSETTO:+0000
TZNAME:UTC
DTSTART:20170101T000000
END:STANDARD
END:VTIMEZONE
BEGIN:VEVENT
DTSTART;TZID=UTC:20180507T190000
DTEND;TZID=UTC:20180507T203000
DTSTAMP:20260424T153616
CREATED:20180404T052249Z
LAST-MODIFIED:20180417T113028Z
UID:2674-1525719600-1525725000@www.wissensstadt-salzburg.at
SUMMARY:PanoramaUni: Wie wirkt Nanotechnologie in modernen Lifestyle Produkten?
DESCRIPTION:Albert Duschl\, Biochemiker: Wie gefährlich sind Nanopartikel? Nanotechnologie und Nanosicherheit  \nOb für Sonnencremes\, Zahnpasten oder Zeitungspapier. Nanopartikel haben ein enormes Marktpotential und werden in großem Stil eingesetzt\, von der Beautybranche bis zur Medizintechnik. Über Fragen der Nanosicherheit diskutiert der Biochemieprofessor Albert Duschl. \nModeration: Maria Mayer\, freie Journalistin. \n  \nIm Anschluss laden wir zum Umtrunk. \nBitte um Anmeldung!
URL:https://www.wissensstadt-salzburg.at/event/panoramauni-wie-wirkt-nanotechnologie-in-modernen-lifestyle-produkten/
LOCATION:Panoramabar\, Schumacherstraße 14\, Salzburg\, Salzburg\, 5020\, Österreich
CATEGORIES:Diskussion,Präsentation & Vortrag
ATTACH;FMTTYPE=image/jpeg:https://www.wissensstadt-salzburg.at/wp-content/uploads/2017/04/PanoramaUni_bearb.jpg
END:VEVENT
BEGIN:VEVENT
DTSTART;TZID=UTC:20180525T140000
DTEND;TZID=UTC:20180525T170000
DTSTAMP:20260424T153616
CREATED:20180514T121629Z
LAST-MODIFIED:20210308T113008Z
UID:3037-1527256800-1527267600@www.wissensstadt-salzburg.at
SUMMARY:Robotik-Workshops in der Stadtbibliothek
DESCRIPTION:RoboManiac kommen für zwei Workshops nach Salzburg in die Stadtbibliothek. Die Workshops sind ideal\, um spielerisch einen Einblick in die faszinierende Welt der Robotik zu bekommen – ganz ohne Vorkenntnisse. \n  \nDurchstarten mit Lernroboter Dash\nWorkshop für alle zwischen 7 und 10 Jahren\n14:00 bis 15:30 Uhr \nSpielend programmieren lernen mit dem Lernroboter Dash! Mit viel Spaß und Kreativität kannst du den fahrbaren Roboter über verschiedene Apps auf dem Tablet steuern. Bring ihn zum Tanzen\, Singen\, lenke ihn durch einen selbstgebauten Parcours oder lerne ihm neue Aufgaben. \n  \nProgrammieren lernen mit LEGO Mindstorms\nWorkshop für alle zwischen 15 und 16 Jahren\n15:30 bis 17:00 Uhr \nEntdecke neue Möglichkeiten und erwecke deinen Roboter zum Leben! Mit den LEGO Mindstorms kannst du sogar komplexe Programmieraufgaben lösen und verschiedene Modelle\, wie Fahrzeuge\, Marsrover oder Wächter\, steuern. \n  \nAnmeldung bis zum 18. Mai 2018 per E-Mail an wissensstadt@stadt-salzburg.at\, Tel.: unter 0662/8072-2090 oder direkt an der Theke in der Stadtbibliothek. \n  \n 
URL:https://www.wissensstadt-salzburg.at/event/robotik-workshops-in-der-stadtbibliothek/
LOCATION:Stadtbibliothek\, Schumacherstraße 14\, Salzburg\, Salzburg\, 5020\, Österreich
CATEGORIES:Geeignet für Kinder,Workshop & Mitmachen
END:VEVENT
END:VCALENDAR