BEGIN:VCALENDAR
VERSION:2.0
PRODID:-//Wissensstadt Salzburg - ECPv6.15.13//NONSGML v1.0//EN
CALSCALE:GREGORIAN
METHOD:PUBLISH
X-WR-CALNAME:Wissensstadt Salzburg
X-ORIGINAL-URL:https://www.wissensstadt-salzburg.at
X-WR-CALDESC:Veranstaltungen für Wissensstadt Salzburg
REFRESH-INTERVAL;VALUE=DURATION:PT1H
X-Robots-Tag:noindex
X-PUBLISHED-TTL:PT1H
BEGIN:VTIMEZONE
TZID:UTC
BEGIN:STANDARD
TZOFFSETFROM:+0000
TZOFFSETTO:+0000
TZNAME:UTC
DTSTART:20180101T000000
END:STANDARD
END:VTIMEZONE
BEGIN:VEVENT
DTSTART;TZID=UTC:20190828T083000
DTEND;TZID=UTC:20190830T140000
DTSTAMP:20260421T203732
CREATED:20190625T102405Z
LAST-MODIFIED:20190625T102826Z
UID:4696-1566981000-1567173600@www.wissensstadt-salzburg.at
SUMMARY:e2 Young Engineers RoboLEGO Sommercamp
DESCRIPTION:Sommercamp mit den Young Engineers \nProgrammieren für Mädchen?\nJa\, im e2 Young Engineers RoboLEGO Sommercamp! \nMöchtest Du einen Blick in die interessante Welt des Programmierens werfen? Willst Du selber LEGO „Roboter“ bauen und diese programmieren? Dann besuche das e2 Young Engineers RoboLEGO Sommercamp! Am Freitag\, zwischen 12.30–14.00 Uhr können die Eltern gemeinsam mit Ihren Töchtern bauen\, programmieren und selbst wieder ein bisschen Kind werden. \nTermine:\nMi\, 28. August\, 8.30–16.00 Uhr\nDo\, 29. August\, 8.30–16.00 Uhr\nFr\, 30. August\, 8.30–14.00 Uhr \n  \nFür Mädchen im Alter von 9–12 Jahren Teilnahme kostenlos\, kleine Jause inklusive Schloss Mirabell\, Pegasus Zimmer (Eingang 7)
URL:https://www.wissensstadt-salzburg.at/event/e2-young-engineers-robolego-sommercamp/
LOCATION:Schloss Mirabell\, Pegasus Zimmer\, Mirabellplatz 4\, Salzburg\, Salzburg\, 5020\, Österreich
CATEGORIES:Workshop & Mitmachen
ATTACH;FMTTYPE=image/jpeg:https://www.wissensstadt-salzburg.at/wp-content/uploads/2019/06/NZUP2459_kl.jpg
END:VEVENT
END:VCALENDAR