BEGIN:VCALENDAR
VERSION:2.0
PRODID:-//Wissensstadt Salzburg - ECPv6.15.13//NONSGML v1.0//EN
CALSCALE:GREGORIAN
METHOD:PUBLISH
X-WR-CALNAME:Wissensstadt Salzburg
X-ORIGINAL-URL:https://www.wissensstadt-salzburg.at
X-WR-CALDESC:Veranstaltungen für Wissensstadt Salzburg
REFRESH-INTERVAL;VALUE=DURATION:PT1H
X-Robots-Tag:noindex
X-PUBLISHED-TTL:PT1H
BEGIN:VTIMEZONE
TZID:UTC
BEGIN:STANDARD
TZOFFSETFROM:+0000
TZOFFSETTO:+0000
TZNAME:UTC
DTSTART:20180101T000000
END:STANDARD
END:VTIMEZONE
BEGIN:VEVENT
DTSTART;TZID=UTC:20191206T150000
DTEND;TZID=UTC:20191206T170000
DTSTAMP:20260421T132811
CREATED:20190902T094644Z
LAST-MODIFIED:20190902T095713Z
UID:4939-1575644400-1575651600@www.wissensstadt-salzburg.at
SUMMARY:Forschung von nebenan | Digitale Erde – Woher kennt mein Handy den Weg?
DESCRIPTION:Haben Sie gewusst\, dass in Itzling viele Wissenschaftler*innen arbeiten? Vier Fachbereiche der Universität Salzburg betreiben am Standort Science City Itzling Spitzenforschung\, gleich hier in der Nachbarschaft. \nSagen Sie Hallo zu den Forscher*innen \nWir laden zu vier Spaziergängen durch die Science City Itzling. Dort besuchen wir die Wissenschaftler*innen\, die uns ihr Spezialgebiet zeigen. Wir lernen Roboter kennen\, machen Versuche im Labor\, übernehmen das Steuer eines Flugzeugs und sehen die Welt von oben. \nHinkommen\, mitmachen und staunen! \nZentraler Treffpunkt: HOFER\, Schillerstraße 25 \nDigitale Erde – Woher kennt mein Handy den Weg?\n6. Dezember 2019\, 15 bis 17 Uhr\nFachbereich Geoinformatik \n  \nDie Veranstaltung ist eine Zusammenarbeit mit dem ABZ – Haus für Möglichkeiten\, der Universität Salzburg und dem Netzwerk Itzling.
URL:https://www.wissensstadt-salzburg.at/event/forschung-von-nebenan-digitale-erde-woher-kennt-mein-handy-den-weg/
LOCATION:iDEAS:lab – Fachbereich Geoinformatik\, Schillerstraße 30\, Techno-Z Bauteil XV\, Erdgeschoß\, Salzburg\, Salzburg\, 5020\, Österreich
CATEGORIES:Führung & Spaziergang
ATTACH;FMTTYPE=image/jpeg:https://www.wissensstadt-salzburg.at/wp-content/uploads/2018/11/Science-City-Itzling_kl.jpg
END:VEVENT
END:VCALENDAR