BEGIN:VCALENDAR
VERSION:2.0
PRODID:-//Wissensstadt Salzburg - ECPv6.15.13//NONSGML v1.0//EN
CALSCALE:GREGORIAN
METHOD:PUBLISH
X-WR-CALNAME:Wissensstadt Salzburg
X-ORIGINAL-URL:https://www.wissensstadt-salzburg.at
X-WR-CALDESC:Veranstaltungen für Wissensstadt Salzburg
REFRESH-INTERVAL;VALUE=DURATION:PT1H
X-Robots-Tag:noindex
X-PUBLISHED-TTL:PT1H
BEGIN:VTIMEZONE
TZID:UTC
BEGIN:STANDARD
TZOFFSETFROM:+0000
TZOFFSETTO:+0000
TZNAME:UTC
DTSTART:20200101T000000
END:STANDARD
END:VTIMEZONE
BEGIN:VEVENT
DTSTART;TZID=UTC:20210622T100000
DTEND;TZID=UTC:20210622T160000
DTSTAMP:20260420T111738
CREATED:20210224T054903Z
LAST-MODIFIED:20210503T065253Z
UID:6240-1624356000-1624377600@www.wissensstadt-salzburg.at
SUMMARY:Geschichte von nebenan: Grätzl-Walk über Leben und Wirken von Frauen in Itzling & E-Vorstadt
DESCRIPTION:Geschichte von nebenan: Frauen in Itzling & Elisabeth-Vorstadt.\nGrätzl-Walk mit Dr.in Sabine Veits-Falk\, Stadtarchiv Salzburg\nUnter dem Motto „Geschichte von nebenan“ führt der Grätzl-Walk zu starken Frauen in den Stadtteilen Itzling und E-Vorstadt. \nLebensgeschichten und -schicksale sowie Leistungen und Wirken von Frauen stehen im Mittelpunkt unseres ersten Grätzl-Walks 2021. Sie prägten unsere Stadtteile oder waren Namensgeberinnen für Straßen: Von Kaiserin Elisabeth über die Augenärztin Dr. Rosa Kerschbaumer und die Schriftstellerin Alja Rachmanowa über Frauen in der Technik und in der Kunst bis zu weiblichen Opfern des Nationalsozialismus. \nDienstag\, 22. Juni 2021\nZwei Termine: 10 und 14 Uhr (Dauer: ca. 1\,5 Stunden)\nTreffpunkt vor dem Bewohnerservice Itzling & E-Vorstadt\, Reimsstraße 6\nInfos und Anmeldung unter 0662/455 432
URL:https://www.wissensstadt-salzburg.at/event/geschichte-von-nebenan-graetzl-walk-ueber-leben-und-wirken-von-frauen-in-itzling-e-vorstadt/
LOCATION:Bewohnerservice Itzling\, Reimsstraße 6\, Salzburg\, Salzburg\, 5020\, Österreich
CATEGORIES:Führung & Spaziergang
ATTACH;FMTTYPE=image/jpeg:https://www.wissensstadt-salzburg.at/wp-content/uploads/2021/02/Strassennamen_gross-15-von-29_klkl.jpg
END:VEVENT
END:VCALENDAR