BEGIN:VCALENDAR
VERSION:2.0
PRODID:-//Wissensstadt Salzburg - ECPv6.15.13//NONSGML v1.0//EN
CALSCALE:GREGORIAN
METHOD:PUBLISH
X-WR-CALNAME:Wissensstadt Salzburg
X-ORIGINAL-URL:https://www.wissensstadt-salzburg.at
X-WR-CALDESC:Veranstaltungen für Wissensstadt Salzburg
REFRESH-INTERVAL;VALUE=DURATION:PT1H
X-Robots-Tag:noindex
X-PUBLISHED-TTL:PT1H
BEGIN:VTIMEZONE
TZID:UTC
BEGIN:STANDARD
TZOFFSETFROM:+0000
TZOFFSETTO:+0000
TZNAME:UTC
DTSTART:20200101T000000
END:STANDARD
END:VTIMEZONE
BEGIN:VEVENT
DTSTART;TZID=UTC:20210701T100000
DTEND;TZID=UTC:20210701T173000
DTSTAMP:20260420T094930
CREATED:20210518T072246Z
LAST-MODIFIED:20210519T074606Z
UID:6441-1625133600-1625160600@www.wissensstadt-salzburg.at
SUMMARY:Kunst von nebenan: Grätzl-Walk durch Lehen
DESCRIPTION:Grätzl-Walk zu Kunstwerken im Stadtraum Lehen \nGrätzl-Walk durch Lehen 2021 \nDer Spaziergang mit den Expert*innen für Bildende Kunst der Stadtgalerien und dem BWS Lehen öffnet uns die Augen für Kunstwerke im öffentlichen Raum. Gemeinsam erkunden wir den Stadtteil Lehen und besichtigen Kunst in Hinterhöfen\, auf Hausfassaden oder an Kreuzungen\, die im hektischen Alltag häufig zu wenig beachtet werden. Herkunft\, Künstler*in und Geschichte der Skulpturen\, Denkmäler und Sgraffiti werden so sichtbar und schulen den Blick für die Kunstwerke in unserer direkten Umgebung. \nWann: 1. Juli\, 10 Uhr\, 10.30 Uhr; 2. Juli\, 15.30 Uhr\, 16 Uhr\nDauer: ca. 1\,5 Stunden\nAnmeldung: E-Mail an bws.lehen-taxham@stadt-salzburg.at; Tel. 0662 428 579\nTreffpunkt: Bewohnerservice Lehen & Taxham\, Strubergasse 27 a
URL:https://www.wissensstadt-salzburg.at/event/kunst-von-nebenan-graetzl-walk-durch-lehen/
LOCATION:Bewohnerservice Lehen & Taxham\, Strubergasse 27a\, Salzburg\, Salzburg\, 5020\, Österreich
CATEGORIES:Führung & Spaziergang
ATTACH;FMTTYPE=image/jpeg:https://www.wissensstadt-salzburg.at/wp-content/uploads/2020/06/DSC09597_klklkl.jpg
END:VEVENT
END:VCALENDAR