BEGIN:VCALENDAR
VERSION:2.0
PRODID:-//Wissensstadt Salzburg - ECPv6.15.13//NONSGML v1.0//EN
CALSCALE:GREGORIAN
METHOD:PUBLISH
X-WR-CALNAME:Wissensstadt Salzburg
X-ORIGINAL-URL:https://www.wissensstadt-salzburg.at
X-WR-CALDESC:Veranstaltungen für Wissensstadt Salzburg
REFRESH-INTERVAL;VALUE=DURATION:PT1H
X-Robots-Tag:noindex
X-PUBLISHED-TTL:PT1H
BEGIN:VTIMEZONE
TZID:Europe/Vienna
BEGIN:DAYLIGHT
TZOFFSETFROM:+0100
TZOFFSETTO:+0200
TZNAME:CEST
DTSTART:20200329T010000
END:DAYLIGHT
BEGIN:STANDARD
TZOFFSETFROM:+0200
TZOFFSETTO:+0100
TZNAME:CET
DTSTART:20201025T010000
END:STANDARD
BEGIN:DAYLIGHT
TZOFFSETFROM:+0100
TZOFFSETTO:+0200
TZNAME:CEST
DTSTART:20210328T010000
END:DAYLIGHT
BEGIN:STANDARD
TZOFFSETFROM:+0200
TZOFFSETTO:+0100
TZNAME:CET
DTSTART:20211031T010000
END:STANDARD
BEGIN:DAYLIGHT
TZOFFSETFROM:+0100
TZOFFSETTO:+0200
TZNAME:CEST
DTSTART:20220327T010000
END:DAYLIGHT
BEGIN:STANDARD
TZOFFSETFROM:+0200
TZOFFSETTO:+0100
TZNAME:CET
DTSTART:20221030T010000
END:STANDARD
END:VTIMEZONE
BEGIN:VEVENT
DTSTART;TZID=Europe/Vienna:20211008T153000
DTEND;TZID=Europe/Vienna:20211008T173000
DTSTAMP:20260420T045824
CREATED:20210909T122414Z
LAST-MODIFIED:20210909T140950Z
UID:6635-1633707000-1633714200@www.wissensstadt-salzburg.at
SUMMARY:Kunst von nebenan: Grätzl-Walk zu Kunstwerken im Stadtraum Parsch
DESCRIPTION:Kunst von nebenan\, Parsch 2021 \nDer neue Grätzl-Walk führt zu Kunstwerken im öffentlichen Raum rund um den Volksgarten. \n8. Oktober 2021\n15.30 und 16 Uhr (Dauer: ca. 2 Stunden)\nTreffpunkt: Kiosk Volksgarten\, Ignaz-Rieder-Kai 1\nAnmeldung: Bewohnerservice Aigen & Parsch\, E-Mail: bws.aigen-parsch@diakoniewerk.at\, Tel.: 0662 625 008
URL:https://www.wissensstadt-salzburg.at/event/kunst-von-nebenan-graetzl-walk-zu-kunstwerken-im-stadtraum-parsch/
LOCATION:Volksgarten\, Ignaz-Rieder-Kai 1\, Salzburg\, Salzburg\, 5020\, Österreich
CATEGORIES:Führung & Spaziergang
ATTACH;FMTTYPE=image/jpeg:https://www.wissensstadt-salzburg.at/wp-content/uploads/2021/09/Fuechse_1_klkl.jpg
END:VEVENT
BEGIN:VEVENT
DTSTART;TZID=Europe/Vienna:20211008T160000
DTEND;TZID=Europe/Vienna:20211008T180000
DTSTAMP:20260420T045824
CREATED:20210909T122604Z
LAST-MODIFIED:20210909T140829Z
UID:6641-1633708800-1633716000@www.wissensstadt-salzburg.at
SUMMARY:Kunst von nebenan: Grätzl-Walk zu Kunstwerken im Stadtraum Parsch
DESCRIPTION:Kunst von nebenan\, Parsch 2021 \nDer Grätzl-Walk führt zu Kunstwerken im öffentlichen Raum rund um den Volksgarten. \n8. Oktober 2021\n15.30 und 16 Uhr (Dauer: ca. 2 Stunden)\nTreffpunkt: Kiosk Volksgarten\, Ignaz-Rieder-Kai 1\nAnmeldung: Bewohnerservice Aigen & Parsch\, E-Mail: bws.aigen-parsch@diakoniewerk.at\, Tel.: 0662 625 008
URL:https://www.wissensstadt-salzburg.at/event/kunst-von-nebenan-graetzl-walk-zu-kunstwerken-im-stadtraum-parsch-2/
LOCATION:Volksgarten\, Ignaz-Rieder-Kai 1\, Salzburg\, Salzburg\, 5020\, Österreich
CATEGORIES:Führung & Spaziergang
ATTACH;FMTTYPE=image/jpeg:https://www.wissensstadt-salzburg.at/wp-content/uploads/2021/09/Fuechse_1_klkl.jpg
END:VEVENT
BEGIN:VEVENT
DTSTART;TZID=Europe/Vienna:20211014T100000
DTEND;TZID=Europe/Vienna:20211014T120000
DTSTAMP:20260420T045824
CREATED:20210909T121325Z
LAST-MODIFIED:20210909T140510Z
UID:6632-1634205600-1634212800@www.wissensstadt-salzburg.at
SUMMARY:Geschichte von nebenan: Grätzl-Walk über Leben und Wirken von Frauen
DESCRIPTION:Geschichte von nebenan\, Lehen 2021 \nGrätzl-Walk über Leben und Wirken von Frauen in Lehen  \nUnter dem Motto „Geschichte von nebenan“ macht ein neuer Grätzl-Walk Frauen in Lehen sichtbar. Historikerin Sabine Veits-Falk vom Stadtarchiv führt durch den Stadtteil und erzählt Interessierten außergewöhnliche und überraschende Geschichten über bekannte und weniger bekannte Frauen. Vorgestellt werden erfolgreiche Lehenerinnen aus Literatur\, Kunst\, Kultur und Wirtschaft. Dazu zählen die Namensgeberinnen von Straßen wie die Fotografin Inge Morath\, die Weltreisende Marie Andeßner oder die Schriftstellerin Luise Esshaver. Neben bekannten Persönlichkeiten\, stehen auch Frauenschicksale im Fokus\, wie sie die Stolpersteine erzählen. Außerdem finden sich in Lehen zwei Werke der Künstlerin Hilde Heger (die Nilpferde in einem Hof in der Strubergasse\, ein Gänsebrunnen in der Lehener Straße). \n14. Oktober 2021\, 10 und 16 Uhr\nTreffpunkt & Anmeldung: Bewohnerservice Lehen\, Strubergasse 27A\, E-Mail: bws.lehen-taxham@stadt-salzburg.at\, Tel.: 0662 428 579
URL:https://www.wissensstadt-salzburg.at/event/geschichte-von-nebenan-graetzl-walk-ueber-leben-und-wirken-von-frauen/
LOCATION:Bewohnerservice Lehen & Taxham\, Strubergasse 27a\, Salzburg\, Salzburg\, 5020\, Österreich
CATEGORIES:Führung & Spaziergang
ATTACH;FMTTYPE=image/jpeg:https://www.wissensstadt-salzburg.at/wp-content/uploads/2020/06/DSC09597_klklkl.jpg
ORGANIZER;CN="Bewohnerservice Lehen & Taxham":MAILTO:bws.lehen-taxham@stadt-salzburg.at
END:VEVENT
BEGIN:VEVENT
DTSTART;TZID=Europe/Vienna:20211014T160000
DTEND;TZID=Europe/Vienna:20211014T180000
DTSTAMP:20260420T045824
CREATED:20210909T122907Z
LAST-MODIFIED:20210909T140447Z
UID:6649-1634227200-1634234400@www.wissensstadt-salzburg.at
SUMMARY:Geschichte von nebenan: Grätzl-Walk über Leben und Wirken von Frauen
DESCRIPTION:Geschichte von nebenan\, Lehen 2021 \nGrätzl-Walk über Leben und Wirken von Frauen in Lehen  \nUnter dem Motto „Geschichte von nebenan“ macht ein neuer Grätzl-Walk Frauen in Lehen sichtbar. Historikerin Sabine Veits-Falk vom Stadtarchiv führt durch den Stadtteil und erzählt Interessierten außergewöhnliche und überraschende Geschichten über bekannte und weniger bekannte Frauen. Vorgestellt werden erfolgreiche Lehenerinnen aus Literatur\, Kunst\, Kultur und Wirtschaft. Dazu zählen die Namensgeberinnen von Straßen wie die Fotografin Inge Morath\, die Weltreisende Marie Andeßner oder die Schriftstellerin Luise Esshaver. Neben bekannten Persönlichkeiten\, stehen auch Frauenschicksale im Fokus\, wie sie die Stolpersteine erzählen. Außerdem finden sich in Lehen zwei Werke der Künstlerin Hilde Heger (die Nilpferde in einem Hof in der Strubergasse\, ein Gänsebrunnen in der Lehener Straße). \n14. Oktober 2021\, 10 und 16 Uhr\nTreffpunkt & Anmeldung: Bewohnerservice Lehen\, Strubergasse 27A\, E-Mail: bws.lehen-taxham@stadt-salzburg.at\, Tel.: 0662 428 579
URL:https://www.wissensstadt-salzburg.at/event/geschichte-von-nebenan-graetzl-walk-ueber-leben-und-wirken-von-frauen-2/
LOCATION:Bewohnerservice Lehen & Taxham\, Strubergasse 27a\, Salzburg\, Salzburg\, 5020\, Österreich
CATEGORIES:Führung & Spaziergang
ATTACH;FMTTYPE=image/jpeg:https://www.wissensstadt-salzburg.at/wp-content/uploads/2020/06/DSC09597_klklkl.jpg
END:VEVENT
BEGIN:VEVENT
DTSTART;TZID=Europe/Vienna:20211015T153000
DTEND;TZID=Europe/Vienna:20211015T173000
DTSTAMP:20260420T045824
CREATED:20210909T123724Z
LAST-MODIFIED:20210909T140345Z
UID:6657-1634311800-1634319000@www.wissensstadt-salzburg.at
SUMMARY:Kunst von nebenan: Grätzl-Walk zu Kunstwerken im Stadtraum Schallmoos
DESCRIPTION:Kunst von nebenan\, Schallmoos 2021 \nDer Grätzl-Walk Schallmoos führt zu Kunstwerken im öffentlichen Raum rund um den Hauptbahnhof. \n15. Oktober 2021\n15.30 und 16 Uhr\nTreffpunkt: Hauptbahnhof Ausgang Lastenstraße/Schallmoos\nAnmeldung: Bewohnerservice Gnigl & Schallmoos\, E-Mail: bws.gnigl-schallmoos@diakoniewerk.at\, Tel.: 0662 643 252
URL:https://www.wissensstadt-salzburg.at/event/kunst-von-nebenan-graetzl-walk-zu-kunstwerken-im-stadtraum-schallmoos/
LOCATION:Hauptbahnhof\, Lastenstraße\, Salzburg\, Salzburg\, 5020\, Österreich
CATEGORIES:Führung & Spaziergang
ATTACH;FMTTYPE=image/jpeg:https://www.wissensstadt-salzburg.at/wp-content/uploads/2021/09/Adonis_1_klkl.jpg
END:VEVENT
BEGIN:VEVENT
DTSTART;TZID=Europe/Vienna:20211015T160000
DTEND;TZID=Europe/Vienna:20211015T180000
DTSTAMP:20260420T045824
CREATED:20210909T123916Z
LAST-MODIFIED:20210909T140313Z
UID:6665-1634313600-1634320800@www.wissensstadt-salzburg.at
SUMMARY:Kunst von nebenan: Grätzl-Walk zu Kunstwerken im Stadtraum Schallmoos
DESCRIPTION:Kunst von nebenan\, Schallmoos 2021 \nDer Grätzl-Walk Schallmoos führt zu Kunstwerken im öffentlichen Raum rund um den Hauptbahnhof. \n15. Oktober 2021\n15.30 und 16 Uhr\nTreffpunkt: Hauptbahnhof Ausgang Lastenstraße/Schallmoos\nAnmeldung: Bewohnerservice Gnigl & Schallmoos\, E-Mail: bws.gnigl-schallmoos@diakoniewerk.at\, Tel.: 0662 643 252
URL:https://www.wissensstadt-salzburg.at/event/kunst-von-nebenan-graetzl-walk-zu-kunstwerken-im-stadtraum-schallmoos-2/
LOCATION:Hauptbahnhof\, Lastenstraße\, Salzburg\, Salzburg\, 5020\, Österreich
CATEGORIES:Führung & Spaziergang
ATTACH;FMTTYPE=image/jpeg:https://www.wissensstadt-salzburg.at/wp-content/uploads/2021/09/Adonis_1_klkl.jpg
END:VEVENT
BEGIN:VEVENT
DTSTART;TZID=Europe/Vienna:20211020T170000
DTEND;TZID=Europe/Vienna:20211020T183000
DTSTAMP:20260420T045824
CREATED:20211005T104350Z
LAST-MODIFIED:20211005T104350Z
UID:6731-1634749200-1634754600@www.wissensstadt-salzburg.at
SUMMARY:Forschung von nebenan - Universität Mozarteum
DESCRIPTION:Salzburg\, Musik und Migration \nWas wäre Salzburgs Kulturgeschichte ohne Phänomene der Migration? Arbeits-\, Bildungs- und Fluchtmigration sind nur drei von zahlreichen\, schwerlich wegzudenkenden Faktoren\, die seit dem Mittelalter das kulturelle Leben dieser Stadt mitbestimmt haben. Sich damit forschend zu beschäftigen heißt Verstehen-Wollen\, wie sehr (auch) Salzburg von Menschen geprägt ist\, die ihren Lebensmittelpunkt dauerhaft verlagert haben. \nEin Vortrag von Wolfgang Gratzer (Musikwissenschaft). \n20. Oktober 2021\, 17 Uhr\nTreffpunkt: Foyer Universität Mozarteum\, Mirabellplatz 1.\nAnmeldung per E-Mail an: forschungvonnebenan@moz.ac.at \n  \n 
URL:https://www.wissensstadt-salzburg.at/event/forschung-von-nebenan-universitaet-mozarteum/
LOCATION:Uni Mozarteum\, Mirabellplatz 1\, Salzburg\, Salzburg\, 5020\, Österreich
CATEGORIES:Präsentation & Vortrag
ATTACH;FMTTYPE=image/jpeg:https://www.wissensstadt-salzburg.at/wp-content/uploads/2020/08/Kachel_Forschung-von-nebenan_Illu.jpg
END:VEVENT
END:VCALENDAR