BEGIN:VCALENDAR
VERSION:2.0
PRODID:-//Wissensstadt Salzburg - ECPv6.15.13//NONSGML v1.0//EN
CALSCALE:GREGORIAN
METHOD:PUBLISH
X-ORIGINAL-URL:https://www.wissensstadt-salzburg.at
X-WR-CALDESC:Veranstaltungen für Wissensstadt Salzburg
REFRESH-INTERVAL;VALUE=DURATION:PT1H
X-Robots-Tag:noindex
X-PUBLISHED-TTL:PT1H
BEGIN:VTIMEZONE
TZID:Europe/Vienna
BEGIN:DAYLIGHT
TZOFFSETFROM:+0100
TZOFFSETTO:+0200
TZNAME:CEST
DTSTART:20220327T010000
END:DAYLIGHT
BEGIN:STANDARD
TZOFFSETFROM:+0200
TZOFFSETTO:+0100
TZNAME:CET
DTSTART:20221030T010000
END:STANDARD
BEGIN:DAYLIGHT
TZOFFSETFROM:+0100
TZOFFSETTO:+0200
TZNAME:CEST
DTSTART:20230326T010000
END:DAYLIGHT
BEGIN:STANDARD
TZOFFSETFROM:+0200
TZOFFSETTO:+0100
TZNAME:CET
DTSTART:20231029T010000
END:STANDARD
BEGIN:DAYLIGHT
TZOFFSETFROM:+0100
TZOFFSETTO:+0200
TZNAME:CEST
DTSTART:20240331T010000
END:DAYLIGHT
BEGIN:STANDARD
TZOFFSETFROM:+0200
TZOFFSETTO:+0100
TZNAME:CET
DTSTART:20241027T010000
END:STANDARD
END:VTIMEZONE
BEGIN:VEVENT
DTSTART;TZID=Europe/Vienna:20230605T090000
DTEND;TZID=Europe/Vienna:20230605T110000
DTSTAMP:20260420T153723
CREATED:20230524T095345Z
LAST-MODIFIED:20230524T095621Z
UID:7386-1685955600-1685962800@www.wissensstadt-salzburg.at
SUMMARY:Öffentliches Erinnern in der Stadt Salzburg
DESCRIPTION:Öffentliches Erinnern in der Stadt Salzburg\nStadtspaziergang mit Johannes Hofinger\, Stadtarchiv Salzburg\nWer war Cornelius Reitsamer und wo wird an ihn erinnert? Wo steht das Euthanasie-Mahnmal und warum gerade an dieser Stelle? Was hat König Otto I. von Griechenland mit Salzburg zu tun? Und was macht die Staatsbrücke zu einem Erinnerungsort? Antworten auf diese (und viele weitere) Fragen gibt der Rundgang zu Plätzen der öffentlichen Erinnerung in der rechten Altstadt. \nMontag\, 5. Juni 2023\, 9 Uhr\nKeine Anmeldung erforderlich!\nDauer: 2 Stunden\nTreffpunkt: Bruderhof\,\nLinzer Gasse 39
URL:https://www.wissensstadt-salzburg.at/event/oeffentliches-erinnern-in-der-stadt-salzburg/
CATEGORIES:Führung & Spaziergang
END:VEVENT
BEGIN:VEVENT
DTSTART;TZID=Europe/Vienna:20230605T093000
DTEND;TZID=Europe/Vienna:20230605T100000
DTSTAMP:20260420T153723
CREATED:20230524T095832Z
LAST-MODIFIED:20230524T100039Z
UID:7391-1685957400-1685959200@www.wissensstadt-salzburg.at
SUMMARY:Vor den Vorhang geholt
DESCRIPTION:Vor den Vorhang geholt\nArchivalienschau im Archiv der Erzabtei St. Peter\nDas Archiv der Erzabtei St. Peter bietet spannende Einblicke in die Salzburger Geschichte aus derzeit laufenden Forschungen. Unter den gezeigten Objekten befinden sich eine Schulordnung aus dem 16. Jahrhundert und eine Bergekarte des 18. Jahrhunderts. Dabei wird sichtbar\, dass frühere Generationen weit mobiler waren\, als es heutigen Vorstellungen vielfach entspricht. \nMontag\, 5. Juni 2023\n9:30 / 10:30 / 13 Uhr\nAnmeldung: 0662 844576-144\, archiv@erzabtei.at\nTeilnehmer:innen: max. 15 pro Termin\nTreffpunkt: Erzabtei St. Peter\, Pforte
URL:https://www.wissensstadt-salzburg.at/event/vor-den-vorhang-geholt/
LOCATION:Erzabtei St. Peter\, Sankt-Peter-Bezirk 1\, Salzburg\, 5020\, Austria
CATEGORIES:Führung & Spaziergang
END:VEVENT
BEGIN:VEVENT
DTSTART;TZID=Europe/Vienna:20230605T103000
DTEND;TZID=Europe/Vienna:20230605T113000
DTSTAMP:20260420T153723
CREATED:20230524T095939Z
LAST-MODIFIED:20230524T095939Z
UID:7394-1685961000-1685964600@www.wissensstadt-salzburg.at
SUMMARY:Vor den Vorhang geholt
DESCRIPTION:Vor den Vorhang geholt\nArchivalienschau im Archiv der Erzabtei St. Peter\nDas Archiv der Erzabtei St. Peter bietet spannende Einblicke in die Salzburger Geschichte aus derzeit laufenden Forschungen. Unter den gezeigten Objekten befinden sich eine Schulordnung aus dem 16. Jahrhundert und eine Bergekarte des 18. Jahrhunderts. Dabei wird sichtbar\, dass frühere Generationen weit mobiler waren\, als es heutigen Vorstellungen vielfach entspricht. \nMontag\, 5. Juni 2023\n9:30 / 10:30 / 13 Uhr\nAnmeldung: 0662 844576-144\, archiv@erzabtei.at\nTeilnehmer:innen: max. 15 pro Termin\nTreffpunkt: Erzabtei St. Peter\, Pforte
URL:https://www.wissensstadt-salzburg.at/event/vor-den-vorhang-geholt-2/
LOCATION:Erzabtei St. Peter\, Sankt-Peter-Bezirk 1\, Salzburg\, 5020\, Austria
CATEGORIES:Führung & Spaziergang
END:VEVENT
BEGIN:VEVENT
DTSTART;TZID=Europe/Vienna:20230605T130000
DTEND;TZID=Europe/Vienna:20230605T140000
DTSTAMP:20260420T153723
CREATED:20230524T100343Z
LAST-MODIFIED:20230524T100343Z
UID:7400-1685970000-1685973600@www.wissensstadt-salzburg.at
SUMMARY:Vor den Vorhang geholt
DESCRIPTION:Vor den Vorhang geholt\nArchivalienschau im Archiv der Erzabtei St. Peter\nDas Archiv der Erzabtei St. Peter bietet spannende Einblicke in die Salzburger Geschichte aus derzeit laufenden Forschungen. Unter den gezeigten Objekten befinden sich eine Schulordnung aus dem 16. Jahrhundert und eine Bergekarte des 18. Jahrhunderts. Dabei wird sichtbar\, dass frühere Generationen weit mobiler waren\, als es heutigen Vorstellungen vielfach entspricht. \nMontag\, 5. Juni 2023\n9:30 / 10:30 / 13 Uhr\nAnmeldung: 0662 844576-144\, archiv@erzabtei.at\nTeilnehmer:innen: max. 15 pro Termin\nTreffpunkt: Erzabtei St. Peter\, Pforte
URL:https://www.wissensstadt-salzburg.at/event/vor-den-vorhang-geholt-3/
LOCATION:Erzabtei St. Peter\, Sankt-Peter-Bezirk 1\, Salzburg\, 5020\, Austria
CATEGORIES:Führung & Spaziergang
END:VEVENT
BEGIN:VEVENT
DTSTART;TZID=Europe/Vienna:20230605T140000
DTEND;TZID=Europe/Vienna:20230605T150000
DTSTAMP:20260420T153723
CREATED:20230524T100626Z
LAST-MODIFIED:20230524T100626Z
UID:7403-1685973600-1685977200@www.wissensstadt-salzburg.at
SUMMARY:Vom Original zur Edition: Mozarts Briefe im Bestand der Stiftung Mozarteum Salzburg
DESCRIPTION:Vom Original zur Edition: Mozarts Briefe im Bestand der Stiftung Mozarteum Salzburg\nFührung und Vortrag mit Armin Brinzing und Anja Morgenstern \nBei einer Führung im sonst nicht öffentlich zugänglichen Autographentresor sind wertvolle Briefe Mozarts im Original zu sehen. Im Anschluss erfahren Sie\, in welcher Weise diese Schätze im Verlauf der letzten 200 Jahre den Leser:innen zugänglich gemacht wurden und werden. \nMontag\, 5. Juni 2023\, 14 Uhr\nAnmeldung: 0662 8894 013\nbibliothek@mozarteum.at\nTeilnehmer:innen: max. 15\nDauer: 1 Stunde\nTreffpunkt: Mozart-Wohnhaus\, Makartplatz 8
URL:https://www.wissensstadt-salzburg.at/event/vom-original-zur-edition-mozarts-briefe-im-bestand-der-stiftung-mozarteum-salzburg/
CATEGORIES:Führung & Spaziergang
END:VEVENT
BEGIN:VEVENT
DTSTART;TZID=Europe/Vienna:20230605T150000
DTEND;TZID=Europe/Vienna:20230605T160000
DTSTAMP:20260420T153723
CREATED:20230524T100756Z
LAST-MODIFIED:20230524T101754Z
UID:7406-1685977200-1685980800@www.wissensstadt-salzburg.at
SUMMARY:Auf den Spuren des Tanzes
DESCRIPTION:Auf den Spuren des Tanzes\nFührung mit Archivleiterin Irene Brandenburg im Derra de Moroda Dance Archives \nDas Tanzarchiv der Universität Salzburg (Derra de Moroda Dance Archives) bewahrt eine weltweit einzigartige Sammlung tanzbezogener Bücher\, Dokumente\, Musikalien\, Bilder\, Fotos und Objekte aus sechs Jahrhunderten\, die für Forschung\, Lehre und künstlerische Projekte genutzt werden. Die Führung gibt Einblicke in die facettenreichen Bestände und folgt anhand ausgewählter Archivalien den Spuren der österreichischen Tänzerin Fanny Elssler im Bühnentanz des 19. Jahrhunderts und in der Gegenwart. \nMontag\, 5. Juni 2023\, 15 Uhr\nKeine Anmeldung erforderlich!\nTeilnehmer:innen: max. 20\nDauer: 1 Stunde\nTreffpunkt: Unipark Nonntal\,\n1. UG\, Infotheke Bibliothek
URL:https://www.wissensstadt-salzburg.at/event/auf-den-spuren-des-tanzes/
CATEGORIES:Führung & Spaziergang
END:VEVENT
BEGIN:VEVENT
DTSTART;TZID=Europe/Vienna:20230606T100000
DTEND;TZID=Europe/Vienna:20230606T110000
DTSTAMP:20260420T153723
CREATED:20230524T101016Z
LAST-MODIFIED:20230524T101016Z
UID:7410-1686045600-1686049200@www.wissensstadt-salzburg.at
SUMMARY:Gymnasium mortis – Das Sacellum der Universität Salzburg und seine Sitzgruft
DESCRIPTION:Gymnasium mortis – Das Sacellum der Universität Salzburg und seine Sitzgruft\nFührung \nMitten in Salzburg\, gegenüber vom Festspielhaus\, inszeniert der Tod: Eine barocke Sitzgruft für Professoren bietet ein tiefsinniges Schauspiel im Sacellum\, jener kleinen Kapelle\, mit der 1618 der Grundstein zur größten Bildungsinstitution des Landes gelegt wurde. Uni-Archivar Christoph Brandhuber lüftet den Vorhang zu einer universitären Schicksalsbühne. Er zeigt die Professoren in der Rolle ihres Lebens zwischen Wissensdurst und Kunstgenuss. Die Kulisse bildet ein lange vergessenes Kleinod\, dessen Kunst- und Kulturgeschichte erzählt wird: das Sacellum\, Wiege und Bahre der Benediktineruniversität. \nDienstag\, 6. Juni 2023\, 10 Uhr\nAnmeldung: christoph.brandhuber@plus.ac.at\nTeilnehmer:innen: max. 30\nTreffpunkt: Portal zum Sacellum\, Altes Studiengebäude\, Hofstallgasse 2–4\, Ecke Herbert-von-Karajan-Platz
URL:https://www.wissensstadt-salzburg.at/event/gymnasium-mortis-das-sacellum-der-universitaet-salzburg-und-seine-sitzgruft/
CATEGORIES:Führung & Spaziergang
END:VEVENT
BEGIN:VEVENT
DTSTART;TZID=Europe/Vienna:20230606T100000
DTEND;TZID=Europe/Vienna:20230606T120000
DTSTAMP:20260420T153723
CREATED:20230524T101211Z
LAST-MODIFIED:20230524T101221Z
UID:7413-1686045600-1686052800@www.wissensstadt-salzburg.at
SUMMARY:Das Kulturerbe eines Weltbürgers. Gespräche zu Leopold Kohr
DESCRIPTION:Das Kulturerbe eines Weltbürgers. Gespräche zu Leopold Kohr\nTag der offenen Tür und Gespräch im Leopold Kohr Archiv \nVor 40 Jahren erhielt Kohr als erster Österreicher den Alternativen Nobelpreis. Heute sind seine Theorien von Autarkie und Grenzen des Wachstums aktueller denn je. Geboren in Oberndorf bei Salzburg zog es den Weltbürger nach Nordamerika\, in die Karibik und nach Wales. Kohr war einer der ersten\, der vor den Problemen eines zu großen und zu schnellen Wachstums warnte. Wie  zukunftsweisend seine Ideen heute noch sind und wie seine Philosophie umgesetzt wird\, darüber kann am Tag der Archive mit den Expert:innen der Kohr-Akademie gesprochen werden. Zugleich kann ein Blick in den Nachlass des inspirierenden Denkers geworfen werden. Gleichzeitig wird das Kohr-Archiv am neuen Standort im Haus der Gesellschaftswissenschaften neu eröffnet. \nDienstag\, 6. Juni 2023\, 10 bis 12 Uhr\nKeine Anmeldung erforderlich!\nAdresse: Universität Salzburg\,\nHaus der Gesellschaftswissenschaften\, Rudolfskai 42\, Raum U14 (Untergeschoss)
URL:https://www.wissensstadt-salzburg.at/event/das-kulturerbe-eines-weltbuergers-gespraeche-zu-leopold-kohr/
CATEGORIES:Diskussion,Tag der offenen Tür
END:VEVENT
BEGIN:VEVENT
DTSTART;TZID=Europe/Vienna:20230607T100000
DTEND;TZID=Europe/Vienna:20230607T113000
DTSTAMP:20260420T153723
CREATED:20230524T101532Z
LAST-MODIFIED:20230524T101532Z
UID:7419-1686132000-1686137400@www.wissensstadt-salzburg.at
SUMMARY:Highlights aus den Beständen im Archiv der Erzdiözese Salzburg (AES)
DESCRIPTION:Highlights aus den Beständen im Archiv der Erzdiözese Salzburg (AES)\nFührung \nDie Archivar:innen führen Sie durch die Speicher und Räumlichkeiten des AES. Bei Zwischenstationen werden ausgesuchte Archivbestände und einzelne Archivalien vorgestellt. \nMittwoch\, 7. Juni 2023\, 10 / 13 Uhr\nKeine Anmeldung erforderlich!\nDauer: ca. 1\,5 Stunden\nAdresse: Kapitelplatz 3
URL:https://www.wissensstadt-salzburg.at/event/highlights-aus-den-bestaenden-im-archiv-der-erzdioezese-salzburg-aes/
LOCATION:Archiv der Erzdiözese Salzburg\, Kapitelplatz 3\, Salzburg\, 5020\, Austria
CATEGORIES:Führung & Spaziergang
END:VEVENT
BEGIN:VEVENT
DTSTART;TZID=Europe/Vienna:20230607T100000
DTEND;TZID=Europe/Vienna:20230607T160000
DTSTAMP:20260420T153723
CREATED:20230524T101400Z
LAST-MODIFIED:20230524T101400Z
UID:7416-1686132000-1686153600@www.wissensstadt-salzburg.at
SUMMARY:Publikationen aus der Diözesanbibliothek Salzburg zum Sonderpreis
DESCRIPTION:Publikationen aus der Diözesanbibliothek Salzburg zum Sonderpreis\nBüchermarkt im Archiv der Erzdiözese Salzburg (AES) \nMittwoch\, 7. Juni 2023\, 10 bis 16 Uhr\nKeine Anmeldung erforderlich!\nAdresse: Kapitelplatz 3
URL:https://www.wissensstadt-salzburg.at/event/publikationen-aus-der-dioezesanbibliothek-salzburg-zum-sonderpreis/
LOCATION:Archiv der Erzdiözese Salzburg\, Kapitelplatz 3\, Salzburg\, 5020\, Austria
CATEGORIES:Führung & Spaziergang
END:VEVENT
BEGIN:VEVENT
DTSTART;TZID=Europe/Vienna:20230607T130000
DTEND;TZID=Europe/Vienna:20230607T143000
DTSTAMP:20260420T153723
CREATED:20230524T101652Z
LAST-MODIFIED:20230524T101830Z
UID:7422-1686142800-1686148200@www.wissensstadt-salzburg.at
SUMMARY:Highlights aus den Beständen im Archiv der Erzdiözese Salzburg (AES)
DESCRIPTION:Highlights aus den Beständen im Archiv der Erzdiözese Salzburg (AES)\nFührung \nDie Archivar:innen führen Sie durch die Speicher und Räumlichkeiten des AES. Bei Zwischenstationen werden ausgesuchte Archivbestände und einzelne Archivalien vorgestellt. \nMittwoch\, 7. Juni 2023\, 10 / 13 Uhr\nKeine Anmeldung erforderlich!\nDauer: ca. 1\,5 Stunden\nAdresse: Kapitelplatz 3
URL:https://www.wissensstadt-salzburg.at/event/highlights-aus-den-bestaenden-im-archiv-der-erzdioezese-salzburg-aes-2/
LOCATION:Archiv der Erzdiözese Salzburg\, Kapitelplatz 3\, Salzburg\, 5020\, Austria
CATEGORIES:Führung & Spaziergang
END:VEVENT
BEGIN:VEVENT
DTSTART;TZID=Europe/Vienna:20230612T190000
DTEND;TZID=Europe/Vienna:20230612T203000
DTSTAMP:20260420T153723
CREATED:20230524T102219Z
LAST-MODIFIED:20230524T102219Z
UID:7427-1686596400-1686601800@www.wissensstadt-salzburg.at
SUMMARY:Die Uni im Umbruch? Rektor Hendrik Lehnert zieht Bilanz über vier Jahre
DESCRIPTION:Nicht nur der Ausbruch der Corona-Pandemie\, sondern auch interne Turbulenzen\, haben die von Rektor Hendrik Lehnert in Angriff genommene Neustrukturierung der Paris Lodron Universität Salzburg von Beginn an erschwert. Nichtsdestotrotz waren spätestens zum großen 400 Jahr Jubiläum der PLUS im Vorjahr die Weichen für die Zukunft gestellt. Ein Gespräch über vier bewegte Jahre. \nAnmeldung erbeten unter: www.plus.ac.at/panoramauni/anmeldung \nWann: Montag\, 12. Juni 2023\, 19 Uhr\nWo: Panoramabar Lehen\, Schumacherstraße 14 und im Livestream auf www.panorama-uni.at \n\nFS1\, das Salzburger Community-Fernsehen\, überträgt die Veranstaltung live auf www.panorama-uni.at.
URL:https://www.wissensstadt-salzburg.at/event/die-uni-im-umbruch-rektor-hendrik-lehnert-zieht-bilanz-ueber-vier-jahre/
LOCATION:Panoramabar\, Schumacherstraße 14\, Salzburg\, Salzburg\, 5020\, Österreich
CATEGORIES:Präsentation & Vortrag
ATTACH;FMTTYPE=image/jpeg:https://www.wissensstadt-salzburg.at/wp-content/uploads/2020/11/Kachel_Panoramauni_kl.jpg
END:VEVENT
BEGIN:VEVENT
DTSTART;TZID=Europe/Vienna:20230621T180000
DTEND;TZID=Europe/Vienna:20230621T193000
DTSTAMP:20260420T153723
CREATED:20230322T093612Z
LAST-MODIFIED:20230330T074440Z
UID:7327-1687370400-1687375800@www.wissensstadt-salzburg.at
SUMMARY:Forschung von nebenan - Tourismus und Nachhaltigkeit: historische Perspektiven auf ein aktuelles Thema
DESCRIPTION:Tourismus ist ein Phänomen unserer Gegenwart. Aufgrund der zunehmenden Mobilität der Menschen und der voranschreitenden Globalisierung der Welt wurde er zu einem immer komplexeren gesellschaftlichen Phänomen. Damit einher gehen infrastrukturelle Umgestaltungen\, die einen Eingriff in die Natur- und Kulturlandschaft bedeuten; auch führen die kulturellen Kontakte zu Konflikten zwischen Reisenden und Bereisten. Aus historischem Blickwinkel erscheinen diese Probleme in neuem Licht. Im Vortrag wird gezeigt\, wie durch einen Rückblick in die Geschichte des Tourismusfragen der Nachhaltigkeit klarer erörtert und Wege für die zukünftige Entwicklung dieses Sektors aufgezeigt werden. \nMittwoch\, 21 Juni 2023\, 18 Uhr\nUniv.-Prof. Dr. Martin Knoll\, Professor für Europäische Regionalgeschichte\n„Tourismus und Nachhaltigkeit – historische Perspektiven auf ein aktuelles Thema“
URL:https://www.wissensstadt-salzburg.at/event/forschung-von-nebenan-tourismus-und-nachhaltigkeit-historische-perspektiven-auf-ein-aktuelles-thema/
LOCATION:Salzburg Centre of European Union Studies\, Mönchsberg 2\, Salzburg\, Salzburg\, 5020\, Österreich
CATEGORIES:Präsentation & Vortrag
ATTACH;FMTTYPE=image/jpeg:https://www.wissensstadt-salzburg.at/wp-content/uploads/2023/03/Edmundsburg_kl.jpg
END:VEVENT
END:VCALENDAR