BEGIN:VCALENDAR
VERSION:2.0
PRODID:-//Wissensstadt Salzburg - ECPv6.15.13//NONSGML v1.0//EN
CALSCALE:GREGORIAN
METHOD:PUBLISH
X-ORIGINAL-URL:https://www.wissensstadt-salzburg.at
X-WR-CALDESC:Veranstaltungen für Wissensstadt Salzburg
REFRESH-INTERVAL;VALUE=DURATION:PT1H
X-Robots-Tag:noindex
X-PUBLISHED-TTL:PT1H
BEGIN:VTIMEZONE
TZID:Europe/Vienna
BEGIN:DAYLIGHT
TZOFFSETFROM:+0100
TZOFFSETTO:+0200
TZNAME:CEST
DTSTART:20220327T010000
END:DAYLIGHT
BEGIN:STANDARD
TZOFFSETFROM:+0200
TZOFFSETTO:+0100
TZNAME:CET
DTSTART:20221030T010000
END:STANDARD
BEGIN:DAYLIGHT
TZOFFSETFROM:+0100
TZOFFSETTO:+0200
TZNAME:CEST
DTSTART:20230326T010000
END:DAYLIGHT
BEGIN:STANDARD
TZOFFSETFROM:+0200
TZOFFSETTO:+0100
TZNAME:CET
DTSTART:20231029T010000
END:STANDARD
BEGIN:DAYLIGHT
TZOFFSETFROM:+0100
TZOFFSETTO:+0200
TZNAME:CEST
DTSTART:20240331T010000
END:DAYLIGHT
BEGIN:STANDARD
TZOFFSETFROM:+0200
TZOFFSETTO:+0100
TZNAME:CET
DTSTART:20241027T010000
END:STANDARD
END:VTIMEZONE
BEGIN:VEVENT
DTSTART;TZID=Europe/Vienna:20230920T150000
DTEND;TZID=Europe/Vienna:20231213T180000
DTSTAMP:20260420T144924
CREATED:20230818T052644Z
LAST-MODIFIED:20230908T053851Z
UID:7467-1695222000-1702490400@www.wissensstadt-salzburg.at
SUMMARY:Ein Event für dich und dein Kind – 1 Raum – 6 Termine
DESCRIPTION:Ab September können sich Eltern einen Arbeitsplatz sichern\, während die Kinder im selben Raum betreut werden. Zudem werden durch Mentor:innen Weiterbildungen sowie Beratungen angeboten. Das professionelle Kinder- und Mentoringprogramm beinhaltet Elemente aus Wissenschaft\, Kunst und Kultur und wird vom Verein MAK – Multikultur als Kompetenz organisiert. \n20. September 2023\, 15 bis 18 Uhr\n5. Oktober 2023\, 9 bis 12 Uhr\n25. Oktober 2023\, 9 bis 12 Uhr\n9. November 2023\, 9 bis 12 Uhr\n22. November 2023\, 15 bis 18 Uhr\n13. Dezember 2023\, 15 bis 18 Uhr \nTreffpunkt: Quartier Riedenburg\, Gemeinschaftsraum\, Leopoldskronstraße 6a\, 5020 Salzburg\nProgramm und Anmeldung unter: www.mak.or.at\nPro Termin 15 Erwachsene und 15 Kinder \n 
URL:https://www.wissensstadt-salzburg.at/event/kinderbetreuung-mentoring-und-arbeiten-in-einem-raum/
LOCATION:Quartier Riedenburg\, Leopoldskronstraße 6a\, Salzburg\, Salzburg\, 5020\, Österreich
CATEGORIES:Geeignet für Kinder,Workshop & Mitmachen
END:VEVENT
BEGIN:VEVENT
DTSTART;TZID=Europe/Vienna:20231013T120000
DTEND;TZID=Europe/Vienna:20231013T170000
DTSTAMP:20260420T144924
CREATED:20230818T053229Z
LAST-MODIFIED:20231013T103842Z
UID:7475-1697198400-1697216400@www.wissensstadt-salzburg.at
SUMMARY:ABSAGE „Wir schwärmen für den Bienenstock“
DESCRIPTION:*** Die Veranstaltung muss leider abgesagt werden. *** \n  \nein gemeinschaftsbildendes Spiel in einem begehbaren Irrgarten rund um das Leben der Honigbiene \nDu schlüpfst in die Rolle einer Honigbiene. Ausgestattet mit einer „Pollenhose“ steuerst du durch einen Irrgarten\, in welchem du auf merkwürdige Charaktere (Diskobiene\, Nektarblume\, Pestizid…) triffst. Du kannst Pollen dazugewinnen\, aber auch verlieren. Im Bienenstock wartet die Imkerin mit reichem Erfahrungs- und Honigschatz. \n\nOktober 2023\, ab 12.00 Uhr\n\nTreffpunkt: Rasen-Freifläche im Quartier Riedenburg\nAnmeldung nur für Gruppen erforderlich! (per E-Mail an: ingrid.schreyer@moz.ac.at)\nBei Schlechtwetter Ausweichtermin am 20. Oktober 2023.
URL:https://www.wissensstadt-salzburg.at/event/wir-schwaermen-fuer-den-bienenstock/
LOCATION:Quartier Riedenburg\, Leopoldskronstraße 6a\, Salzburg\, Salzburg\, 5020\, Österreich
CATEGORIES:Workshop & Mitmachen
END:VEVENT
BEGIN:VEVENT
DTSTART;TZID=Europe/Vienna:20231013T130000
DTEND;TZID=Europe/Vienna:20231013T170000
DTSTAMP:20260420T144924
CREATED:20230818T053040Z
LAST-MODIFIED:20230927T052113Z
UID:7472-1697202000-1697216400@www.wissensstadt-salzburg.at
SUMMARY:burgglan
DESCRIPTION:Architekturspaziergänge und Druckgrafik-Workshops \nStadtspaziergänge und druckgrafische Workshops in Riedenburg und Maxglan verbünden sich zur Wiederentdeckung des Gewohnten\, zur Behauptung neuer Identifikationspunkte im lokalen Umfeld und als Perspektivwechsel auf den eigenen\, uns umgebenden Lebensraum. Im Anschluß an die Stadtspaziergänge mit Dr. Roman Höllbacher wird in Workshop gestalterisch gearbeitet. Es entstehen kleine Riso-Grafiken* zb. von einer „landmark“\, die man gerade (wieder)entdeckt hat\, vom eigenen Haus\, dem eigenen Wohnblock\, Balkon oder Garten… \nSamstag und Sonntag gibt es zusätzlich die Möglichkeit diese Motive in der Siebdruckwerkstatt Maxglan auf mitgebrachte Textilien (T-Shirts) zu drucken. Nachhaltige Tragtaschen können preiswert vor Ort erworben werden. Es wird mit einer absichtlich reduzierten Formensprache gearbeitet um auch den Fokus auf vielleicht sonst Unbemerktes zu lenken. Klare Formen und Farben drängen geradezu darauf sich mit Pop\, Alltagsästhetik und zeitgenössischer visueller Kultur auseinanderzusetzen. \n  \nTermine und Orte: \nFreitag 13. Oktober 2023\n13:00 Stadtspaziergang Riedenburg\nTreffpunkt: Ausgang Altstadtgarage (Hildmannplatz/Bucklreuthstraße)\nab 15:00 Uhr Workshops – Risographie \nSamstag 14. Oktober 2023\n10:00 Stadtspaziergang Maxglan\nTreffpunkt: Ehem. Gemeindeamt Maxglan\, Sebastian-Stöllner-Straße 20\nab 13:00 Uhr Workshops – Risographie\nab 15:00 Uhr Workshops – Risographie/Siebdruck \nSonntag 15. Oktober 2023\n11 Uhr Workshop – Siebdruck\n15 Uhr Workshop – Siebdruck \nStadtspaziergänge\nDr. Roman Höllbacher\nArchitektur- und Baukulturvermittler\, künstlerischer Leiter der Initiative Architektur\nDauer: jeweils 1.5 – 2 h\nmaximal 20 Personen\, Teilnahme frei \nDruckgrafische Workshops\nDauer: jeweils ca. 2 – 2\,5 h\nIn mehreren Kleingruppen zu 4 – 6 Personen \nDie Risographie Workshops werden von einem Team aus Lehrenden und Studierenden der Universität Mozarteum Salzburg\, Department Bildende Künste und Gestaltung betreut.\nOrt: Architekturhaus Salzburg\, Sinnhubstrasse 3 \nSiebdruck Workshops mit Mag. Martina Pfeiffer + Team\nOrt: Siebdruckwerkstatt Maxglan\, Maxglaner Hauptstrasse 31\, Hof\nhttps://leila-graphics.com/ \nAnmeldung zu den Spaziergängen und Workshops\nburgglan@moz.ac.at \n  \n*Risographie ist eine charmante umweltfreundliche Drucktechnik\, die sich durch den Reiz des Unperfekten und die Verwendung von Sonderfarben auszeichnet. Einfarbiger Schablonen-Siebdruck zum Bedrucken von selbst mitgebrachten Textilien wie T-Shirts\, Taschen\, etc. aus Baumwolle genutzt. \nNachhaltige Tragtaschen können preiswert vor Ort erworben werden. \n  \n 
URL:https://www.wissensstadt-salzburg.at/event/burgglan/
CATEGORIES:Führung & Spaziergang,Workshop & Mitmachen
END:VEVENT
BEGIN:VEVENT
DTSTART;TZID=Europe/Vienna:20231014T100000
DTEND;TZID=Europe/Vienna:20231014T170000
DTSTAMP:20260420T144924
CREATED:20230830T090058Z
LAST-MODIFIED:20230927T052032Z
UID:7535-1697277600-1697302800@www.wissensstadt-salzburg.at
SUMMARY:burgglan
DESCRIPTION:Architekturspaziergänge und Druckgrafik-Workshops \nStadtspaziergänge und druckgrafische Workshops in Riedenburg und Maxglan verbünden sich zur Wiederentdeckung des Gewohnten\, zur Behauptung neuer Identifikationspunkte im lokalen Umfeld und als Perspektivwechsel auf den eigenen\, uns umgebenden Lebensraum. Im Anschluß an die Stadtspaziergänge mit Dr. Roman Höllbacher wird in Workshop gestalterisch gearbeitet. Es entstehen kleine Riso-Grafiken* zb. von einer „landmark“\, die man gerade (wieder)entdeckt hat\, vom eigenen Haus\, dem eigenen Wohnblock\, Balkon oder Garten… \nSamstag und Sonntag gibt es zusätzlich die Möglichkeit diese Motive in der Siebdruckwerkstatt Maxglan auf mitgebrachte Textilien (T-Shirts) zu drucken. Nachhaltige Tragtaschen können preiswert vor Ort erworben werden. Es wird mit einer absichtlich reduzierten Formensprache gearbeitet um auch den Fokus auf vielleicht sonst Unbemerktes zu lenken. Klare Formen und Farben drängen geradezu darauf sich mit Pop\, Alltagsästhetik und zeitgenössischer visueller Kultur auseinanderzusetzen. \n  \nTermine und Orte: \nFreitag 13. Oktober 2023\n13:00 Stadtspaziergang Riedenburg\nTreffpunkt: Ausgang Altstadtgarage (Hildmannplatz/Bucklreuthstraße)\nab 15:00 Uhr Workshops – Risographie \nSamstag 14. Oktober 2023\n10:00 Stadtspaziergang Maxglan\nTreffpunkt: Ehem. Gemeindeamt Maxglan\, Sebastian-Stöllner-Straße 20\nab 13:00 Uhr Workshops – Risographie\nab 15:00 Uhr Workshops – Risographie/Siebdruck \nSonntag 15. Oktober 2023\n11 Uhr Workshop – Siebdruck\n15 Uhr Workshop – Siebdruck \nStadtspaziergänge\nDr. Roman Höllbacher\nArchitektur- und Baukulturvermittler\, künstlerischer Leiter der Initiative Architektur\nDauer: jeweils 1.5 – 2 h\nmaximal 20 Personen\, Teilnahme frei \nDruckgrafische Workshops\nDauer: jeweils ca. 2 – 2\,5 h\nIn mehreren Kleingruppen zu 4 – 6 Personen \nDie Risographie Workshops werden von einem Team aus Lehrenden und Studierenden der Universität Mozarteum Salzburg\, Department Bildende Künste und Gestaltung betreut.\nOrt: Architekturhaus Salzburg\, Sinnhubstrasse 3 \nSiebdruck Workshops mit Mag. Martina Pfeiffer + Team\nOrt: Siebdruckwerkstatt Maxglan\, Maxglaner Hauptstrasse 31\, Hof\nhttps://leila-graphics.com/ \nAnmeldung zu den Spaziergängen und Workshops\nburgglan@moz.ac.at \n  \n*Risographie ist eine charmante umweltfreundliche Drucktechnik\, die sich durch den Reiz des Unperfekten und die Verwendung von Sonderfarben auszeichnet. Einfarbiger Schablonen-Siebdruck zum Bedrucken von selbst mitgebrachten Textilien wie T-Shirts\, Taschen\, etc. aus Baumwolle genutzt. \nNachhaltige Tragtaschen können preiswert vor Ort erworben werden. \n 
URL:https://www.wissensstadt-salzburg.at/event/burgglan-2/
CATEGORIES:Führung & Spaziergang,Workshop & Mitmachen
END:VEVENT
BEGIN:VEVENT
DTSTART;TZID=Europe/Vienna:20231015T110000
DTEND;TZID=Europe/Vienna:20231015T170000
DTSTAMP:20260420T144924
CREATED:20230927T051932Z
LAST-MODIFIED:20230927T052003Z
UID:7593-1697367600-1697389200@www.wissensstadt-salzburg.at
SUMMARY:burgglan
DESCRIPTION:Architekturspaziergänge und Druckgrafik-Workshops \nStadtspaziergänge und druckgrafische Workshops in Riedenburg und Maxglan verbünden sich zur Wiederentdeckung des Gewohnten\, zur Behauptung neuer Identifikationspunkte im lokalen Umfeld und als Perspektivwechsel auf den eigenen\, uns umgebenden Lebensraum. Im Anschluß an die Stadtspaziergänge mit Dr. Roman Höllbacher wird in Workshop gestalterisch gearbeitet. Es entstehen kleine Riso-Grafiken* zb. von einer „landmark“\, die man gerade (wieder)entdeckt hat\, vom eigenen Haus\, dem eigenen Wohnblock\, Balkon oder Garten… \nSamstag und Sonntag gibt es zusätzlich die Möglichkeit diese Motive in der Siebdruckwerkstatt Maxglan auf mitgebrachte Textilien (T-Shirts) zu drucken. Nachhaltige Tragtaschen können preiswert vor Ort erworben werden. Es wird mit einer absichtlich reduzierten Formensprache gearbeitet um auch den Fokus auf vielleicht sonst Unbemerktes zu lenken. Klare Formen und Farben drängen geradezu darauf sich mit Pop\, Alltagsästhetik und zeitgenössischer visueller Kultur auseinanderzusetzen. \n  \nTermine und Orte: \nFreitag 13. Oktober 2023\n13:00 Stadtspaziergang Riedenburg\nTreffpunkt: Ausgang Altstadtgarage (Hildmannplatz/Bucklreuthstraße)\nab 15:00 Uhr Workshops – Risographie \nSamstag 14. Oktober 2023\n10:00 Stadtspaziergang Maxglan\nTreffpunkt: Ehem. Gemeindeamt Maxglan\, Sebastian-Stöllner-Straße 20\nab 13:00 Uhr Workshops – Risographie\nab 15:00 Uhr Workshops – Risographie/Siebdruck \nSonntag 15. Oktober 2023\n11 Uhr Workshop – Siebdruck\n15 Uhr Workshop – Siebdruck \nStadtspaziergänge\nDr. Roman Höllbacher\nArchitektur- und Baukulturvermittler\, künstlerischer Leiter der Initiative Architektur\nDauer: jeweils 1.5 – 2 h\nmaximal 20 Personen\, Teilnahme frei \nDruckgrafische Workshops\nDauer: jeweils ca. 2 – 2\,5 h\nIn mehreren Kleingruppen zu 4 – 6 Personen \nDie Risographie Workshops werden von einem Team aus Lehrenden und Studierenden der Universität Mozarteum Salzburg\, Department Bildende Künste und Gestaltung betreut.\nOrt: Architekturhaus Salzburg\, Sinnhubstrasse 3 \nSiebdruck Workshops mit Mag. Martina Pfeiffer + Team\nOrt: Siebdruckwerkstatt Maxglan\, Maxglaner Hauptstrasse 31\, Hof\nhttps://leila-graphics.com/ \nAnmeldung zu den Spaziergängen und Workshops\nburgglan@moz.ac.at \n  \n*Risographie ist eine charmante umweltfreundliche Drucktechnik\, die sich durch den Reiz des Unperfekten und die Verwendung von Sonderfarben auszeichnet. Einfarbiger Schablonen-Siebdruck zum Bedrucken von selbst mitgebrachten Textilien wie T-Shirts\, Taschen\, etc. aus Baumwolle genutzt. \nNachhaltige Tragtaschen können preiswert vor Ort erworben werden.
URL:https://www.wissensstadt-salzburg.at/event/burgglan-3/
CATEGORIES:Workshop & Mitmachen
END:VEVENT
BEGIN:VEVENT
DTSTART;TZID=Europe/Vienna:20231021T100000
DTEND;TZID=Europe/Vienna:20231021T140000
DTSTAMP:20260420T144924
CREATED:20230818T053533Z
LAST-MODIFIED:20230818T053533Z
UID:7478-1697882400-1697896800@www.wissensstadt-salzburg.at
SUMMARY:Fließende Wurzeln. Geschichte(n) zwischen Almkanal und Glanbach
DESCRIPTION:ein historisch-literarischer Kulturspaziergang mit anschließendem Postkarten-Workshop \nDie Gewässer zwischen Almkanal und Glanbach erzählen Geschichten. Ob als ökologischer Lebensraum oder Wirtschaftsfaktor – das Wasser fließt durch vergangene wie gegenwärtige Gesellschaften\, tief verwurzelt mit dem Leben in Riedenburg und Maxglan. Die Kanäle trennen und verbinden\, regen Geister an und Gemüter auf. Woher kommen sie\, wohin gehen sie\, wer hat sie gebaut? \nWir laden Sie zu einem geführten historisch-literarischen Spaziergang mit anschließendem Workshop ein\, bei dem Sie die Gelegenheit haben\, Erlesenes und Aufgelesenes künstlerisch aufs Papier zu bringen. \nDauer: 1\,5 Stunden \n\nOktober 2023\, 10-14 Uhr\nNovember 2023\, 15-19 Uhr\n\nTreffpunkt: Architekturhaus Salzburg\, Sinnhubstraße 3\, 5020 Salzburg\nAnmeldung erforderlich unter: Nora.Grundtner@plus.ac.at / +43 660 1551113\n15 Teilnehmer:innen pro Termin \n 
URL:https://www.wissensstadt-salzburg.at/event/fliessende-wurzeln-geschichten-zwischen-almkanal-und-glanbach/
LOCATION:Architekturhaus Salzburg\, Sinnhubstraße 3\, Salzburg\, Salzburg\, 5020\, Österreich
CATEGORIES:Führung & Spaziergang,Workshop & Mitmachen
END:VEVENT
END:VCALENDAR