BEGIN:VCALENDAR
VERSION:2.0
PRODID:-//Wissensstadt Salzburg - ECPv6.15.13//NONSGML v1.0//EN
CALSCALE:GREGORIAN
METHOD:PUBLISH
X-WR-CALNAME:Wissensstadt Salzburg
X-ORIGINAL-URL:https://www.wissensstadt-salzburg.at
X-WR-CALDESC:Veranstaltungen für Wissensstadt Salzburg
REFRESH-INTERVAL;VALUE=DURATION:PT1H
X-Robots-Tag:noindex
X-PUBLISHED-TTL:PT1H
BEGIN:VTIMEZONE
TZID:Europe/Vienna
BEGIN:DAYLIGHT
TZOFFSETFROM:+0100
TZOFFSETTO:+0200
TZNAME:CEST
DTSTART:20230326T010000
END:DAYLIGHT
BEGIN:STANDARD
TZOFFSETFROM:+0200
TZOFFSETTO:+0100
TZNAME:CET
DTSTART:20231029T010000
END:STANDARD
BEGIN:DAYLIGHT
TZOFFSETFROM:+0100
TZOFFSETTO:+0200
TZNAME:CEST
DTSTART:20240331T010000
END:DAYLIGHT
BEGIN:STANDARD
TZOFFSETFROM:+0200
TZOFFSETTO:+0100
TZNAME:CET
DTSTART:20241027T010000
END:STANDARD
BEGIN:DAYLIGHT
TZOFFSETFROM:+0100
TZOFFSETTO:+0200
TZNAME:CEST
DTSTART:20250330T010000
END:DAYLIGHT
BEGIN:STANDARD
TZOFFSETFROM:+0200
TZOFFSETTO:+0100
TZNAME:CET
DTSTART:20251026T010000
END:STANDARD
END:VTIMEZONE
BEGIN:VEVENT
DTSTART;TZID=Europe/Vienna:20241211T190000
DTEND;TZID=Europe/Vienna:20241211T210000
DTSTAMP:20260421T072949
CREATED:20240924T055107Z
LAST-MODIFIED:20240924T055107Z
UID:19415-1733943600-1733950800@www.wissensstadt-salzburg.at
SUMMARY:Forschung von nebenan: Die Krise der Repräsentation in Europa: Ursachen und Perspektiven
DESCRIPTION:Lucy Kinski: Die Krise der Repräsentation in Europa: Ursachen und Perspektiven \nEuropäische Demokratien stehen vor einer tiefen Krise der politischen Repräsentation. Viele Bürger:innen fühlen sich von den politischen Eliten nicht mehr vertreten\, während populistische Bewegungen Zulauf finden. In diesem Vortrag untersuchen wir die Ursachen dieser Entfremdung\, die Herausforderungen für die europäische Integration und mögliche Ansätze\, das Vertrauen der Bürger:innen in demokratische Institutionen zu stärken. \n11. Dezember 2024\, 19 Uhr\nSalzburg Centre of European Union Studies (SCEUS)\, Mönchsberg 2\, Europasaal
URL:https://www.wissensstadt-salzburg.at/event/forschung-von-nebenan-die-krise-der-repraesentation-in-europa-ursachen-und-perspektiven/
LOCATION:Salzburg Centre of European Union Studies\, Mönchsberg 2\, Salzburg\, Salzburg\, 5020\, Österreich
CATEGORIES:Präsentation & Vortrag
ATTACH;FMTTYPE=image/jpeg:https://www.wissensstadt-salzburg.at/wp-content/uploads/2023/03/Edmundsburg_kl.jpg
END:VEVENT
END:VCALENDAR