BEGIN:VCALENDAR
VERSION:2.0
PRODID:-//Wissensstadt Salzburg - ECPv6.15.13//NONSGML v1.0//EN
CALSCALE:GREGORIAN
METHOD:PUBLISH
X-ORIGINAL-URL:https://www.wissensstadt-salzburg.at
X-WR-CALDESC:Veranstaltungen für Wissensstadt Salzburg
REFRESH-INTERVAL;VALUE=DURATION:PT1H
X-Robots-Tag:noindex
X-PUBLISHED-TTL:PT1H
BEGIN:VTIMEZONE
TZID:Europe/Vienna
BEGIN:DAYLIGHT
TZOFFSETFROM:+0100
TZOFFSETTO:+0200
TZNAME:CEST
DTSTART:20230326T010000
END:DAYLIGHT
BEGIN:STANDARD
TZOFFSETFROM:+0200
TZOFFSETTO:+0100
TZNAME:CET
DTSTART:20231029T010000
END:STANDARD
BEGIN:DAYLIGHT
TZOFFSETFROM:+0100
TZOFFSETTO:+0200
TZNAME:CEST
DTSTART:20240331T010000
END:DAYLIGHT
BEGIN:STANDARD
TZOFFSETFROM:+0200
TZOFFSETTO:+0100
TZNAME:CET
DTSTART:20241027T010000
END:STANDARD
BEGIN:DAYLIGHT
TZOFFSETFROM:+0100
TZOFFSETTO:+0200
TZNAME:CEST
DTSTART:20250330T010000
END:DAYLIGHT
BEGIN:STANDARD
TZOFFSETFROM:+0200
TZOFFSETTO:+0100
TZNAME:CET
DTSTART:20251026T010000
END:STANDARD
END:VTIMEZONE
BEGIN:VEVENT
DTSTART;TZID=Europe/Vienna:20240911T150000
DTEND;TZID=Europe/Vienna:20240911T170000
DTSTAMP:20260419T191456
CREATED:20240904T140021Z
LAST-MODIFIED:20240904T140312Z
UID:12696-1726066800-1726074000@www.wissensstadt-salzburg.at
SUMMARY:Buchpräsentation & Lesung
DESCRIPTION:Einladung zur Buchpräsentation und zum Bilderbuchkino mit Bomba. \nHoppla! Auf einmal ist die kleine Hummel in der Stadt:Bibliothek Salzburg gelandet. Nun bummelt Bomba begeistert durch die bunte Welt der Bücher und erlebt viele spannende Abenteuer: Sie versteckt sich vor kleinen Riesen\, trifft auf einen weisen Vorlesehund und lernt die Zauberkraft von Geschichten kennen. \nDas Buch „Bomba. Eine Hummel bummelt durch die Stadt:Bibliothek“ erhalten alle Erstklassler:innen zum Schulanfang als Geschenk der Stadt Salzburg. Das Buch eignet sich zum Vorlesen\, macht aber auch Lust zum Lesenlernen. Die Geschichte bietet Vieles zum Wiedererkennen und Entdecken. \nZu Gast sind die Autorin Ingrid Aspöck und der Hummel-Experte Johann Neumayer. \nFür alle Kinder ab 4 Jahren! \nEintritt frei! Keine Anmeldung erforderlich. \n 
URL:https://www.wissensstadt-salzburg.at/event/buchpraesentation-lesung/
CATEGORIES:Geeignet für Kinder,Präsentation & Vortrag
ATTACH;FMTTYPE=image/jpeg:https://www.wissensstadt-salzburg.at/wp-content/uploads/2024/09/Bomba_StadtBib_Coverbild_nur_bomba_kl-scaled-e1725458333350.jpg
END:VEVENT
END:VCALENDAR