BEGIN:VCALENDAR
VERSION:2.0
PRODID:-//Wissensstadt Salzburg - ECPv6.15.13//NONSGML v1.0//EN
CALSCALE:GREGORIAN
METHOD:PUBLISH
X-ORIGINAL-URL:https://www.wissensstadt-salzburg.at
X-WR-CALDESC:Veranstaltungen für Wissensstadt Salzburg
REFRESH-INTERVAL;VALUE=DURATION:PT1H
X-Robots-Tag:noindex
X-PUBLISHED-TTL:PT1H
BEGIN:VTIMEZONE
TZID:Europe/Vienna
BEGIN:DAYLIGHT
TZOFFSETFROM:+0100
TZOFFSETTO:+0200
TZNAME:CEST
DTSTART:20250330T010000
END:DAYLIGHT
BEGIN:STANDARD
TZOFFSETFROM:+0200
TZOFFSETTO:+0100
TZNAME:CET
DTSTART:20251026T010000
END:STANDARD
BEGIN:DAYLIGHT
TZOFFSETFROM:+0100
TZOFFSETTO:+0200
TZNAME:CEST
DTSTART:20260329T010000
END:DAYLIGHT
BEGIN:STANDARD
TZOFFSETFROM:+0200
TZOFFSETTO:+0100
TZNAME:CET
DTSTART:20261025T010000
END:STANDARD
BEGIN:DAYLIGHT
TZOFFSETFROM:+0100
TZOFFSETTO:+0200
TZNAME:CEST
DTSTART:20270328T010000
END:DAYLIGHT
BEGIN:STANDARD
TZOFFSETFROM:+0200
TZOFFSETTO:+0100
TZNAME:CET
DTSTART:20271031T010000
END:STANDARD
END:VTIMEZONE
BEGIN:VEVENT
DTSTART;TZID=Europe/Vienna:20260224T090000
DTEND;TZID=Europe/Vienna:20260224T100000
DTSTAMP:20260419T161824
CREATED:20260126T124227Z
LAST-MODIFIED:20260128T072103Z
UID:27909-1771923600-1771927200@www.wissensstadt-salzburg.at
SUMMARY:SpaceWeek: Führung GeoSphere Austria (Schulklasse)
DESCRIPTION:Die GeoSphere Austria ist der nationale Wetterdienst von Österreich. Wir befassen uns jeden Tag mit einer unglaublichen Anzahl von Daten und nutzen diese für Wettervorhersagen\, Warnungen oder auch Klimamodelle. Welch wichtige Rolle Satelliten in der Entwicklung der Meteorologie gespielt haben\, wie wir die Beobachtungen aus dem Weltall für unsere Prognosen und Modelle nutzen und was wir unter Weltraumwetter verstehen\, erklären wir euch in einer spannenden und lockeren Atmosphäre. \nDie Führung richtet sich an Schüler:innen zwischen 9 und 12 Jahren (4. Klasse Volksschule bis 2. Klasse Sek I). \nDienstag\, 24.02.2026\, 09:00 Uhr (ausschließlich für eine Schulklasse)\nDauer: ca. 45 Minuten\nGeoSphere Austria\, Akademiestraße 39\nAnmeldung: claudia.riedl@geosphere.at (bis 16. Februar)
URL:https://www.wissensstadt-salzburg.at/event/space-week-fuehrung-geosphere-austria-schulklasse/
LOCATION:GeoSphere Austria\, Akademiestraße 39\, Salzburg\, 5020\, Austria
CATEGORIES:Führung & Spaziergang,Geeignet für Kinder,Tag der offenen Tür
END:VEVENT
BEGIN:VEVENT
DTSTART;TZID=Europe/Vienna:20260224T110000
DTEND;TZID=Europe/Vienna:20260224T120000
DTSTAMP:20260419T161824
CREATED:20260126T124534Z
LAST-MODIFIED:20260128T072225Z
UID:27913-1771930800-1771934400@www.wissensstadt-salzburg.at
SUMMARY:SpaceWeek: Führung GeoSphere Austria (Schulklasse)
DESCRIPTION:Die GeoSphere Austria ist der nationale Wetterdienst von Österreich. Wir befassen uns jeden Tag mit einer unglaublichen Anzahl von Daten und nutzen diese für Wettervorhersagen\, Warnungen oder auch Klimamodelle. Welch wichtige Rolle Satelliten in der Entwicklung der Meteorologie gespielt haben\, wie wir die Beobachtungen aus dem Weltall für unsere Prognosen und Modelle nutzen und was wir unter Weltraumwetter verstehen\, erklären wir euch in einer spannenden und lockeren Atmosphäre. \nDie Führung richtet sich an Schüler:innen zwischen 9 und 12 Jahren (4. Klasse Volksschule bis 2. Klasse Sek I). \nDienstag\, 24.02.2026\, 11:00 Uhr (ausschließlich für eine Schulklasse)\nDauer: ca. 45 Minuten\nGeoSphere Austria\, Akademiestraße 39\nAnmeldung: claudia.riedl@geosphere.at (bis 16. Februar)
URL:https://www.wissensstadt-salzburg.at/event/space-week-fuehrung-geosphere-austria-schulklasse-2/
LOCATION:GeoSphere Austria\, Akademiestraße 39\, Salzburg\, 5020\, Austria
CATEGORIES:Führung & Spaziergang,Geeignet für Kinder,Tag der offenen Tür
END:VEVENT
BEGIN:VEVENT
DTSTART;TZID=Europe/Vienna:20260224T130000
DTEND;TZID=Europe/Vienna:20260224T170000
DTSTAMP:20260419T161824
CREATED:20260126T123509Z
LAST-MODIFIED:20260129T063239Z
UID:27905-1771938000-1771952400@www.wissensstadt-salzburg.at
SUMMARY:SpaceWeek: Trickfilm-Workshop mit Paul & Paula
DESCRIPTION:Trickfilm-Workshop mit Paul & Paula  \nWohin geht die Reise? In die Tiefen des Meeres… oder ganz abgefahren in den Kosmos an dem die Luftballone schweben?? – Du bist auf alle Fälle Kapitän an Bord Deiner Reise: Wir machen mit Bastelmaterial\, Spielfiguren und vielem mehr ein echtes kleines Space-Medien-Lab mit Stop-Motion. \nEin Mitmachprogramm für alle ab 8 Jahre. Mit an Bord: viel Spaß\, selber machen und entwickeln\, einen echten Film machen und gemeinsam verwirklichen\, was sonst nur in der Phantasie möglich ist… \nStop Motion: Die Bild-für-Bild Filmtechnik\, mit der du unbewegliche Dinge auf magische Art zum Leben erwecken kannst… einfach eben Bild-für-Bild zum fertigen Film! \nDienstag\, 24.02.2026\, 13.00-17.00 Uhr\nSamstag\, 28.02.2026\, 13.00-17.00 Uhr\nOhne Anmeldung! Einfach vorbeikommen und mitmachen. Vor Ort sind alle nötigen Materialien und auch iPads auf denen gearbeitet werden kann. Gerne auch am eigenen Handy mit der Gratis App: „Stop Motion Studio“ \nEin Programm von und mit Paul&Paula – dem Medienlabor für Tens&Teens
URL:https://www.wissensstadt-salzburg.at/event/space-week-trickfilm-workshop-mit-paul-paula/
LOCATION:Haus der Natur\, Museumsplatz 5\, Salzburg\, 5020\, Austria
CATEGORIES:Geeignet für Kinder,Workshop & Mitmachen
END:VEVENT
BEGIN:VEVENT
DTSTART;TZID=Europe/Vienna:20260228T130000
DTEND;TZID=Europe/Vienna:20260228T170000
DTSTAMP:20260419T161824
CREATED:20260126T125152Z
LAST-MODIFIED:20260129T063203Z
UID:27918-1772283600-1772298000@www.wissensstadt-salzburg.at
SUMMARY:SpaceWeek: Trickfilm-Workshop mit Paul & Paula
DESCRIPTION:Trickfilm-Workshop mit Paul & Paula  \nWohin geht die Reise? In die Tiefen des Meeres… oder ganz abgefahren in den Kosmos an dem die Luftballone schweben?? – Du bist auf alle Fälle Kapitän an Bord Deiner Reise: Wir machen mit Bastelmaterial\, Spielfiguren und vielem mehr ein echtes kleines Space-Medien-Lab mit Stop-Motion. \nEin Mitmachprogramm für alle ab 8 Jahre. Mit an Bord: viel Spaß\, selber machen und entwickeln\, einen echten Film machen und gemeinsam verwirklichen\, was sonst nur in der Phantasie möglich ist… \nStop Motion: Die Bild-für-Bild Filmtechnik\, mit der du unbewegliche Dinge auf magische Art zum Leben erwecken kannst… einfach eben Bild-für-Bild zum fertigen Film! \nSamstag\, 28.02.2026\, 13.00-17.00 Uhr\nOhne Anmeldung! Einfach vorbeikommen und mitmachen. Vor Ort sind alle nötigen Materialien und auch iPads auf denen gearbeitet werden kann. Gerne auch am eigenen Handy mit der Gratis App: „Stop Motion Studio“ \nEin Programm von und mit Paul&Paula – dem Medienlabor für Tens&Teens
URL:https://www.wissensstadt-salzburg.at/event/space-week-trickfilm-workshop-mit-paul-paula-2/
LOCATION:Haus der Natur\, Museumsplatz 5\, Salzburg\, 5020\, Austria
CATEGORIES:Geeignet für Kinder,Workshop & Mitmachen
END:VEVENT
END:VCALENDAR