BEGIN:VCALENDAR
VERSION:2.0
PRODID:-//Wissensstadt Salzburg - ECPv6.15.13//NONSGML v1.0//EN
CALSCALE:GREGORIAN
METHOD:PUBLISH
X-WR-CALNAME:Wissensstadt Salzburg
X-ORIGINAL-URL:https://www.wissensstadt-salzburg.at
X-WR-CALDESC:Veranstaltungen für Wissensstadt Salzburg
REFRESH-INTERVAL;VALUE=DURATION:PT1H
X-Robots-Tag:noindex
X-PUBLISHED-TTL:PT1H
BEGIN:VTIMEZONE
TZID:Europe/Vienna
BEGIN:DAYLIGHT
TZOFFSETFROM:+0100
TZOFFSETTO:+0200
TZNAME:CEST
DTSTART:20230326T010000
END:DAYLIGHT
BEGIN:STANDARD
TZOFFSETFROM:+0200
TZOFFSETTO:+0100
TZNAME:CET
DTSTART:20231029T010000
END:STANDARD
BEGIN:DAYLIGHT
TZOFFSETFROM:+0100
TZOFFSETTO:+0200
TZNAME:CEST
DTSTART:20240331T010000
END:DAYLIGHT
BEGIN:STANDARD
TZOFFSETFROM:+0200
TZOFFSETTO:+0100
TZNAME:CET
DTSTART:20241027T010000
END:STANDARD
BEGIN:DAYLIGHT
TZOFFSETFROM:+0100
TZOFFSETTO:+0200
TZNAME:CEST
DTSTART:20250330T010000
END:DAYLIGHT
BEGIN:STANDARD
TZOFFSETFROM:+0200
TZOFFSETTO:+0100
TZNAME:CET
DTSTART:20251026T010000
END:STANDARD
END:VTIMEZONE
BEGIN:VEVENT
DTSTART;TZID=Europe/Vienna:20241003T100000
DTEND;TZID=Europe/Vienna:20241006T170000
DTSTAMP:20260421T155052
CREATED:20240828T094712Z
LAST-MODIFIED:20240828T095029Z
UID:10101-1727949600-1728234000@www.wissensstadt-salzburg.at
SUMMARY:Out of the box: Nicht meine Baustelle
DESCRIPTION:In unserer politischen Landschaft nehmen immer mehr Bürger:innen eine schweigende und passive Rolle ein. Damit die Demokratie weiterhin funktioniert\, muss wie bei einer Baustelle aktiv daran gearbeitet werden. Ist dies nicht der Fall\, bietet das Raum für gefährliche Bewegungen\, und Personen in Machtpositionen können untätig bleiben\, denn der Anstoß zur Veränderung muss aus der Gesellschaft heraus entstehen. Wie die gesellschaftlich vorherrschende Passivität blockiert auch die interaktive Installation in Form einer Baustelle den Fluss des öffentlichen Lebens und bringt den politischen Diskurs wieder zurück auf die Straße. Die Baustelle aus sieben Stationen thematisiert verschiedene Faktoren\, die Menschen vom aktiven Handeln abhalten. Die Stationen dienen als Einladung\, diese zu überwinden und aktiv an unserer Gesellschaft mitzugestalten. \nDonnerstag\, 03.10. bis Sonntag\, 06.10.2024\, 10:00 bis 17:00 Uhr\nOrt: Vorplatz BILLA\, Reimsstraße 2 \nDie Installation kann individuell während den angegebenen Zeiten besucht werden. Keine Anmeldung erforderlich. Eintritt frei! \nDas Projekt wurde mit dem „Out of the box“-Preis 2024 der Stadt Salzburg ausgezeichnet.
URL:https://www.wissensstadt-salzburg.at/event/out-of-the-box-nicht-meine-baustelle/
LOCATION:Reimsstraße 2\, 5020 Salzburg\, Reimsstraße 2\, Salzburg\, Salzburg\, Österreich
CATEGORIES:Ausstellung & Messe,Workshop & Mitmachen
END:VEVENT
BEGIN:VEVENT
DTSTART;TZID=Europe/Vienna:20241010T190000
DTEND;TZID=Europe/Vienna:20241010T203000
DTSTAMP:20260421T155052
CREATED:20240828T095616Z
LAST-MODIFIED:20241002T124759Z
UID:10110-1728586800-1728592200@www.wissensstadt-salzburg.at
SUMMARY:Out of the box: place in music – Wie klingen Orte im Lied?
DESCRIPTION:Das Projekt verbindet Wissenschaft und Kunst und verknüpft besondere Musik an außergewöhnlichen Orten. \nGesprächskonzert mit Gaiva Bandzinaite\, Klavier | Friederike Kühl und Bernd Lambauer\, Gesang | Franz-Benjamin Mocnik\, Gedanken \nWie klingt ein Bach bei Schubert? Wie kommen Orte in der Musik vor? Wir begeben uns auf die Spur von Orten in Liedern von Schubert\, Wolf u.a. \nDonnerstag\, 10.10.2024\, 19 Uhr\nFestsaal des Musischen Gymnasiums\, Haunspergerstraße 77 \nAus dieser Serie folgen noch zwei Termine: „music in place – Wie klingt der Raum?“ am Sonntag\, 27.10.2024\, 18 Uhr und „music and place – Wie klingt unser Stadtteil?“ am Mittwoch\, 30.10.2024\, 15 Uhr. \nKeine Anmeldung erforderlich. Eintritt frei!\nDas Projekt wurde mit dem „Out of the box“-Preis 2024 der Stadt Salzburg ausgezeichnet.
URL:https://www.wissensstadt-salzburg.at/event/out-of-the-box-place-in-music-wie-klingen-orte-im-lied/
LOCATION:Salzburg
CATEGORIES:Diskussion,Führung & Spaziergang
END:VEVENT
BEGIN:VEVENT
DTSTART;TZID=Europe/Vienna:20241024T150000
DTEND;TZID=Europe/Vienna:20241024T173000
DTSTAMP:20260421T155052
CREATED:20240828T102307Z
LAST-MODIFIED:20240930T145522Z
UID:10128-1729782000-1729791000@www.wissensstadt-salzburg.at
SUMMARY:Out of the box: „It's Tea Time“ – Kunst zu Gast in Itzling
DESCRIPTION:Neue Leute kennen lernen und „alte“ Bekannte wieder treffen. Bei einer gemütlichen Tea Time Tee verkosten und in die Welt der Kunst eintauchen. Wer Lust hat\, kann unter professioneller Anleitung gemeinsam malen und so Teil der Ausstellung werden oder bei guten Gesprächen die Vernissage bewundern. Signiert und gerahmt werden die Werke ausgestellt. Bei der musikalisch umrahmten Finnisage werden einzelne Bilder zugunsten bedürftiger ItzlingerInnen versteigert. \nTeeverkostung\, Kunstworkshop\, Vernissage\nDonnerstag\, 24.10.2024\, 15:00 Uhr \nFinissage mit dem Gitarristen Bogdan Tyshchenko\, Kunstversteigerung\nFreitag\, 28.11.2024\, 15:30 Uhr \nOrt: Volkshilfe Klub Itzling\, Kirchenstraße 55a \nKeine Anmeldung erforderlich. Eintritt frei!\nDas Projekt wurde mit dem „Out of the box“-Preis 2024 der Stadt Salzburg ausgezeichnet.
URL:https://www.wissensstadt-salzburg.at/event/out-of-the-box-its-tea-time-kunst-zu-gast-in-itzling/
LOCATION:Volkshilfe Klub Itzling\, Kirchenstraße 55a\, Salzburg\, Salzburg\, 5020\, Österreich
CATEGORIES:Ausstellung & Messe,Workshop & Mitmachen
END:VEVENT
BEGIN:VEVENT
DTSTART;TZID=Europe/Vienna:20241027T180000
DTEND;TZID=Europe/Vienna:20241027T200000
DTSTAMP:20260421T155052
CREATED:20240828T100004Z
LAST-MODIFIED:20241002T124836Z
UID:10114-1730052000-1730059200@www.wissensstadt-salzburg.at
SUMMARY:Out of the box: music in place – Wie klingt der Raum?
DESCRIPTION:Das Projekt verbindet Wissenschaft und Kunst und verknüpft besondere Musik an außergewöhnlichen Orten. \nKünstlerisch-wissenschaftliche Raumerkundung mit Franz-Benjamin Mocnik\, Prof. für Raum und Ort | Maria Eppensteiner\, Perkussion | Franziska Berger\, zeitgenössischer Tanz | Friederike Kühl\, Gesang \nWie klingt der Ort\, an dem wir uns befinden? Können wir den Raum zum Klingen bringen? \nSonntag\, 27.10.2024\, 18 Uhr\nehem. Bäckerei und Konditorei der Familie Hofmann\, Kirchenstraße 49\nAnmeldung: anmeldung.musicinplace@gmx.net \n\nAus dieser Serie folgt noch der Termin: „music and place – Wie klingt unser Stadtteil?“ am Mittwoch\, 30.10.2024 \nKeine Anmeldung erforderlich. Eintritt frei!\nDas Projekt wurde mit dem „Out of the box“-Preis 2024 der Stadt Salzburg ausgezeichnet. \n\n\n\n\n Zum Kalender hinzufügen
URL:https://www.wissensstadt-salzburg.at/event/out-of-the-box-music-in-place-wie-klingt-der-raum/
LOCATION:Salzburg
CATEGORIES:Führung & Spaziergang
END:VEVENT
BEGIN:VEVENT
DTSTART;TZID=Europe/Vienna:20241030T150000
DTEND;TZID=Europe/Vienna:20241030T170000
DTSTAMP:20260421T155052
CREATED:20240828T100354Z
LAST-MODIFIED:20241002T124909Z
UID:10119-1730300400-1730307600@www.wissensstadt-salzburg.at
SUMMARY:Out of the box: music and place – Wie klingt unser Stadtteil?
DESCRIPTION:Das Projekt verbindet Wissenschaft und Kunst und verknüpft besondere Musik an außergewöhnlichen Orten. \nGemeinsamer Klangspaziergang mit Überraschungen\, mit Friederike Kühl und Bernd Lambauer\, Gesang | Franz-Benjamin Mocnik\, Gedanken | und Weiteren \nWie können wir Musik und Orte des Alltags zusammenbringen? Wie kann ein alltäglicher Ort durch Musik verwandelt werden? \nMittwoch\, 30.10.2024\, 15 Uhr\nForum 1\, Südtiroler Platz 13 \nKeine Anmeldung erforderlich. Eintritt frei! \n\nDas Projekt wurde mit dem „Out of the box“-Preis 2024 der Stadt Salzburg ausgezeichnet.
URL:https://www.wissensstadt-salzburg.at/event/out-of-the-box-music-and-place-wie-klingt-unser-stadtteil/
LOCATION:Salzburg
CATEGORIES:Führung & Spaziergang
END:VEVENT
BEGIN:VEVENT
DTSTART;TZID=Europe/Vienna:20241030T190000
DTEND;TZID=Europe/Vienna:20241030T210000
DTSTAMP:20260421T155052
CREATED:20240828T103655Z
LAST-MODIFIED:20240828T104334Z
UID:10139-1730314800-1730322000@www.wissensstadt-salzburg.at
SUMMARY:Out of the box: Vergessene Stimmen – Frauen der Elisabeth-Vorstadt
DESCRIPTION:Die angehende Historikerin Verena Deisl erforscht Frauengeschichte(n) aus der Elisabeth-Vorstadt. In ihrem Vortrag stellt sie historische und aktuelle Lebensrealitäten von Frauen in der E-Vorstadt vor und verknüpft diese mit der Geschichte des Stadtteils. Der Abend wird von der Musikerin Citlali Seda begleitet. \nMittwoch\, 30.10.2024\, 19:00 Uhr\nOrt: Jazzit\, Elisabethstraße 11 \nAnmeldung: Tel.: 0650/2619622 | E-Mail: vergessene.stimmen@gmail.com \nEintritt frei!\nDas Projekt wurde mit dem „Out of the box“-Preis 2024 der Stadt Salzburg ausgezeichnet. \n  \nVorschau:\nVernissage der Ausstellung „Vergessene Stimmen – Frauen der Elisabeth-Vorstadt“ \nDie Ergebnisse der Recherche werden im Bewohnerservice der Elisabeth-Vorstadt präsentiert. Zur Eröffnung der Plakatausstellung sind Sie herzlich eingeladen! \nDonnerstag\, 21.11.2024\, 19:00 Uhr\nOrt: BWS Elisabeth-Vorstadt\, Elisabethstraße 9 \nAnmeldung: Tel.: 0664/8273463 | E-Mail: bws.evorstadt@diakoniewerk.at
URL:https://www.wissensstadt-salzburg.at/event/out-of-the-box-vergessene-stimmen-frauen-der-elisabeth-vorstadt/
LOCATION:Jazzit\, Elisabethstraße 11\, Salzburg\, Salzburg\, 5020\, Österreich
CATEGORIES:Präsentation & Vortrag
END:VEVENT
END:VCALENDAR